BEGIN:VCALENDAR
VERSION:2.0
PRODID:-//Southern Montessori School - ECPv6.15.16//NONSGML v1.0//EN
CALSCALE:GREGORIAN
METHOD:PUBLISH
X-WR-CALNAME:Southern Montessori School
X-ORIGINAL-URL:https://southernmontessori.sa.edu.au
X-WR-CALDESC:Events for Southern Montessori School
REFRESH-INTERVAL;VALUE=DURATION:PT1H
X-Robots-Tag:noindex
X-PUBLISHED-TTL:PT1H
BEGIN:VTIMEZONE
TZID:Australia/Adelaide
BEGIN:STANDARD
TZOFFSETFROM:+1030
TZOFFSETTO:+0930
TZNAME:ACST
DTSTART:20240406T163000
END:STANDARD
BEGIN:DAYLIGHT
TZOFFSETFROM:+0930
TZOFFSETTO:+1030
TZNAME:ACDT
DTSTART:20241005T163000
END:DAYLIGHT
BEGIN:STANDARD
TZOFFSETFROM:+1030
TZOFFSETTO:+0930
TZNAME:ACST
DTSTART:20250405T163000
END:STANDARD
BEGIN:DAYLIGHT
TZOFFSETFROM:+0930
TZOFFSETTO:+1030
TZNAME:ACDT
DTSTART:20251004T163000
END:DAYLIGHT
BEGIN:STANDARD
TZOFFSETFROM:+1030
TZOFFSETTO:+0930
TZNAME:ACST
DTSTART:20260404T163000
END:STANDARD
BEGIN:DAYLIGHT
TZOFFSETFROM:+0930
TZOFFSETTO:+1030
TZNAME:ACDT
DTSTART:20261003T163000
END:DAYLIGHT
BEGIN:STANDARD
TZOFFSETFROM:+1030
TZOFFSETTO:+0930
TZNAME:ACST
DTSTART:20270403T163000
END:STANDARD
BEGIN:DAYLIGHT
TZOFFSETFROM:+0930
TZOFFSETTO:+1030
TZNAME:ACDT
DTSTART:20271002T163000
END:DAYLIGHT
END:VTIMEZONE
BEGIN:VEVENT
DTSTART;TZID=Australia/Adelaide:20260410T144500
DTEND;TZID=Australia/Adelaide:20260410T151500
DTSTAMP:20260426T090854
CREATED:20260130T035818Z
LAST-MODIFIED:20260130T035818Z
UID:5521-1775832300-1775834100@southernmontessori.sa.edu.au
SUMMARY:Primary School Assembly
DESCRIPTION:Anne-Marie and Judy’s Class
URL:https://southernmontessori.sa.edu.au/event/primary-school-assembly-20/
LOCATION:Southern Montessori School\, 53 Galloway Road\, O'Sullivan Beach\, South Australia\, 5166\, Australia
CATEGORIES:Cycle Two,Parent Events
END:VEVENT
BEGIN:VEVENT
DTSTART;TZID=Australia/Adelaide:20260320T144500
DTEND;TZID=Australia/Adelaide:20260320T151500
DTSTAMP:20260426T090854
CREATED:20260130T034824Z
LAST-MODIFIED:20260130T034824Z
UID:5494-1774017900-1774019700@southernmontessori.sa.edu.au
SUMMARY:Primary School Assembly
DESCRIPTION:Amelia and Wendy’s Class
URL:https://southernmontessori.sa.edu.au/event/primary-school-assembly-19/
LOCATION:Southern Montessori School\, 53 Galloway Road\, O'Sullivan Beach\, South Australia\, 5166\, Australia
CATEGORIES:Cycle Two,Parent Events
END:VEVENT
BEGIN:VEVENT
DTSTART;TZID=Australia/Adelaide:20260319T190000
DTEND;TZID=Australia/Adelaide:20260319T203000
DTSTAMP:20260426T090854
CREATED:20260130T034638Z
LAST-MODIFIED:20260130T034638Z
UID:5486-1773946800-1773952200@southernmontessori.sa.edu.au
SUMMARY:Board Meeting
DESCRIPTION:
URL:https://southernmontessori.sa.edu.au/event/board-meeting-14/
LOCATION:Southern Montessori School\, 53 Galloway Road\, O'Sullivan Beach\, South Australia\, 5166\, Australia
CATEGORIES:Board
END:VEVENT
BEGIN:VEVENT
DTSTART;VALUE=DATE:20260313
DTEND;VALUE=DATE:20260314
DTSTAMP:20260426T090854
CREATED:20260130T032422Z
LAST-MODIFIED:20260130T032422Z
UID:5424-1773360000-1773446399@southernmontessori.sa.edu.au
SUMMARY:Learning Conversations (Primary School)
DESCRIPTION:More information to come!
URL:https://southernmontessori.sa.edu.au/event/learning-conversations-primary-school/2026-03-13/
LOCATION:Southern Montessori School\, 53 Galloway Road\, O'Sullivan Beach\, South Australia\, 5166\, Australia
CATEGORIES:Cycle One,Cycle Three,Cycle Two,Parent Events
END:VEVENT
BEGIN:VEVENT
DTSTART;VALUE=DATE:20260312
DTEND;VALUE=DATE:20260313
DTSTAMP:20260426T090854
CREATED:20260130T032422Z
LAST-MODIFIED:20260130T032422Z
UID:5423-1773273600-1773359999@southernmontessori.sa.edu.au
SUMMARY:Learning Conversations (Primary School)
DESCRIPTION:More information to come!
URL:https://southernmontessori.sa.edu.au/event/learning-conversations-primary-school/2026-03-12/
LOCATION:Southern Montessori School\, 53 Galloway Road\, O'Sullivan Beach\, South Australia\, 5166\, Australia
CATEGORIES:Cycle One,Cycle Three,Cycle Two,Parent Events
END:VEVENT
BEGIN:VEVENT
DTSTART;VALUE=DATE:20260311
DTEND;VALUE=DATE:20260312
DTSTAMP:20260426T090854
CREATED:20260130T032422Z
LAST-MODIFIED:20260130T032422Z
UID:5422-1773187200-1773273599@southernmontessori.sa.edu.au
SUMMARY:Learning Conversations (Primary School)
DESCRIPTION:More information to come!
URL:https://southernmontessori.sa.edu.au/event/learning-conversations-primary-school/2026-03-11/
LOCATION:Southern Montessori School\, 53 Galloway Road\, O'Sullivan Beach\, South Australia\, 5166\, Australia
CATEGORIES:Cycle One,Cycle Three,Cycle Two,Parent Events
END:VEVENT
BEGIN:VEVENT
DTSTART;VALUE=DATE:20260310
DTEND;VALUE=DATE:20260311
DTSTAMP:20260426T090854
CREATED:20260130T032422Z
LAST-MODIFIED:20260130T032422Z
UID:5421-1773100800-1773187199@southernmontessori.sa.edu.au
SUMMARY:Learning Conversations (Primary School)
DESCRIPTION:More information to come!
URL:https://southernmontessori.sa.edu.au/event/learning-conversations-primary-school/2026-03-10/
LOCATION:Southern Montessori School\, 53 Galloway Road\, O'Sullivan Beach\, South Australia\, 5166\, Australia
CATEGORIES:Cycle One,Cycle Three,Cycle Two,Parent Events
END:VEVENT
BEGIN:VEVENT
DTSTART;VALUE=DATE:20260309
DTEND;VALUE=DATE:20260310
DTSTAMP:20260426T090854
CREATED:20260130T032422Z
LAST-MODIFIED:20260130T032422Z
UID:5420-1773014400-1773100799@southernmontessori.sa.edu.au
SUMMARY:Learning Conversations (Primary School)
DESCRIPTION:More information to come!
URL:https://southernmontessori.sa.edu.au/event/learning-conversations-primary-school/2026-03-09/
LOCATION:Southern Montessori School\, 53 Galloway Road\, O'Sullivan Beach\, South Australia\, 5166\, Australia
CATEGORIES:Cycle One,Cycle Three,Cycle Two,Parent Events
END:VEVENT
BEGIN:VEVENT
DTSTART;VALUE=DATE:20260306
DTEND;VALUE=DATE:20260307
DTSTAMP:20260426T090854
CREATED:20260130T032422Z
LAST-MODIFIED:20260130T032422Z
UID:5419-1772755200-1772841599@southernmontessori.sa.edu.au
SUMMARY:Learning Conversations (Primary School)
DESCRIPTION:More information to come!
URL:https://southernmontessori.sa.edu.au/event/learning-conversations-primary-school/2026-03-06/
LOCATION:Southern Montessori School\, 53 Galloway Road\, O'Sullivan Beach\, South Australia\, 5166\, Australia
CATEGORIES:Cycle One,Cycle Three,Cycle Two,Parent Events
END:VEVENT
BEGIN:VEVENT
DTSTART;VALUE=DATE:20260305
DTEND;VALUE=DATE:20260306
DTSTAMP:20260426T090854
CREATED:20260130T032422Z
LAST-MODIFIED:20260130T032422Z
UID:5418-1772668800-1772755199@southernmontessori.sa.edu.au
SUMMARY:Learning Conversations (Primary School)
DESCRIPTION:More information to come!
URL:https://southernmontessori.sa.edu.au/event/learning-conversations-primary-school/2026-03-05/
LOCATION:Southern Montessori School\, 53 Galloway Road\, O'Sullivan Beach\, South Australia\, 5166\, Australia
CATEGORIES:Cycle One,Cycle Three,Cycle Two,Parent Events
END:VEVENT
BEGIN:VEVENT
DTSTART;VALUE=DATE:20260304
DTEND;VALUE=DATE:20260305
DTSTAMP:20260426T090854
CREATED:20260130T032422Z
LAST-MODIFIED:20260130T032422Z
UID:5417-1772582400-1772668799@southernmontessori.sa.edu.au
SUMMARY:Learning Conversations (Primary School)
DESCRIPTION:More information to come!
URL:https://southernmontessori.sa.edu.au/event/learning-conversations-primary-school/2026-03-04/
LOCATION:Southern Montessori School\, 53 Galloway Road\, O'Sullivan Beach\, South Australia\, 5166\, Australia
CATEGORIES:Cycle One,Cycle Three,Cycle Two,Parent Events
END:VEVENT
BEGIN:VEVENT
DTSTART;VALUE=DATE:20260303
DTEND;VALUE=DATE:20260304
DTSTAMP:20260426T090854
CREATED:20260130T032422Z
LAST-MODIFIED:20260130T032422Z
UID:5416-1772496000-1772582399@southernmontessori.sa.edu.au
SUMMARY:Learning Conversations (Primary School)
DESCRIPTION:More information to come!
URL:https://southernmontessori.sa.edu.au/event/learning-conversations-primary-school/2026-03-03/
LOCATION:Southern Montessori School\, 53 Galloway Road\, O'Sullivan Beach\, South Australia\, 5166\, Australia
CATEGORIES:Cycle One,Cycle Three,Cycle Two,Parent Events
END:VEVENT
BEGIN:VEVENT
DTSTART;VALUE=DATE:20260302
DTEND;VALUE=DATE:20260303
DTSTAMP:20260426T090854
CREATED:20260130T032422Z
LAST-MODIFIED:20260130T032422Z
UID:5413-1772409600-1772495999@southernmontessori.sa.edu.au
SUMMARY:Learning Conversations (Primary School)
DESCRIPTION:More information to come!
URL:https://southernmontessori.sa.edu.au/event/learning-conversations-primary-school/2026-03-02/
LOCATION:Southern Montessori School\, 53 Galloway Road\, O'Sullivan Beach\, South Australia\, 5166\, Australia
CATEGORIES:Cycle One,Cycle Three,Cycle Two,Parent Events
END:VEVENT
BEGIN:VEVENT
DTSTART;VALUE=DATE:20260227
DTEND;VALUE=DATE:20260228
DTSTAMP:20260426T090854
CREATED:20260130T031843Z
LAST-MODIFIED:20260130T031843Z
UID:5399-1772150400-1772236799@southernmontessori.sa.edu.au
SUMMARY:Open Classrooms
DESCRIPTION:New Students to the School\, Year 1’s & Year 4’s – More information to come via School Stream
URL:https://southernmontessori.sa.edu.au/event/open-classrooms-5/2026-02-27/
LOCATION:Southern Montessori School\, 53 Galloway Road\, O'Sullivan Beach\, South Australia\, 5166\, Australia
CATEGORIES:Cycle Three,Cycle Two,Parent Events
END:VEVENT
BEGIN:VEVENT
DTSTART;VALUE=DATE:20260226
DTEND;VALUE=DATE:20260227
DTSTAMP:20260426T090854
CREATED:20260130T031843Z
LAST-MODIFIED:20260130T031843Z
UID:5398-1772064000-1772150399@southernmontessori.sa.edu.au
SUMMARY:Open Classrooms
DESCRIPTION:New Students to the School\, Year 1’s & Year 4’s – More information to come via School Stream
URL:https://southernmontessori.sa.edu.au/event/open-classrooms-5/2026-02-26/
LOCATION:Southern Montessori School\, 53 Galloway Road\, O'Sullivan Beach\, South Australia\, 5166\, Australia
CATEGORIES:Cycle Three,Cycle Two,Parent Events
END:VEVENT
BEGIN:VEVENT
DTSTART;VALUE=DATE:20260225
DTEND;VALUE=DATE:20260226
DTSTAMP:20260426T090854
CREATED:20260130T031843Z
LAST-MODIFIED:20260130T031843Z
UID:5397-1771977600-1772063999@southernmontessori.sa.edu.au
SUMMARY:Open Classrooms
DESCRIPTION:New Students to the School\, Year 1’s & Year 4’s – More information to come via School Stream
URL:https://southernmontessori.sa.edu.au/event/open-classrooms-5/2026-02-25/
LOCATION:Southern Montessori School\, 53 Galloway Road\, O'Sullivan Beach\, South Australia\, 5166\, Australia
CATEGORIES:Cycle Three,Cycle Two,Parent Events
END:VEVENT
BEGIN:VEVENT
DTSTART;VALUE=DATE:20260224
DTEND;VALUE=DATE:20260225
DTSTAMP:20260426T090854
CREATED:20260130T031843Z
LAST-MODIFIED:20260130T031843Z
UID:5396-1771891200-1771977599@southernmontessori.sa.edu.au
SUMMARY:Open Classrooms
DESCRIPTION:New Students to the School\, Year 1’s & Year 4’s – More information to come via School Stream
URL:https://southernmontessori.sa.edu.au/event/open-classrooms-5/2026-02-24/
LOCATION:Southern Montessori School\, 53 Galloway Road\, O'Sullivan Beach\, South Australia\, 5166\, Australia
CATEGORIES:Cycle Three,Cycle Two,Parent Events
END:VEVENT
BEGIN:VEVENT
DTSTART;VALUE=DATE:20260223
DTEND;VALUE=DATE:20260224
DTSTAMP:20260426T090854
CREATED:20260130T031843Z
LAST-MODIFIED:20260130T031843Z
UID:5393-1771804800-1771891199@southernmontessori.sa.edu.au
SUMMARY:Open Classrooms
DESCRIPTION:New Students to the School\, Year 1’s & Year 4’s – More information to come via School Stream
URL:https://southernmontessori.sa.edu.au/event/open-classrooms-5/2026-02-23/
LOCATION:Southern Montessori School\, 53 Galloway Road\, O'Sullivan Beach\, South Australia\, 5166\, Australia
CATEGORIES:Cycle Three,Cycle Two,Parent Events
END:VEVENT
BEGIN:VEVENT
DTSTART;TZID=Australia/Adelaide:20260220T144500
DTEND;TZID=Australia/Adelaide:20260220T151500
DTSTAMP:20260426T090854
CREATED:20260130T031421Z
LAST-MODIFIED:20260130T031421Z
UID:5389-1771598700-1771600500@southernmontessori.sa.edu.au
SUMMARY:Primary School Assembly
DESCRIPTION:Alisa’s Class
URL:https://southernmontessori.sa.edu.au/event/primary-school-assembly-18/
LOCATION:Southern Montessori School\, 53 Galloway Road\, O'Sullivan Beach\, South Australia\, 5166\, Australia
CATEGORIES:Cycle Three
END:VEVENT
BEGIN:VEVENT
DTSTART;TZID=Australia/Adelaide:20260219T190000
DTEND;TZID=Australia/Adelaide:20260219T203000
DTSTAMP:20260426T090854
CREATED:20260130T025415Z
LAST-MODIFIED:20260130T025415Z
UID:5381-1771527600-1771533000@southernmontessori.sa.edu.au
SUMMARY:Board Meeting
DESCRIPTION:
URL:https://southernmontessori.sa.edu.au/event/board-meeting-13/
LOCATION:Southern Montessori School\, 53 Galloway Road\, O'Sullivan Beach\, South Australia\, 5166\, Australia
CATEGORIES:Board
END:VEVENT
BEGIN:VEVENT
DTSTART;TZID=Australia/Adelaide:20260212T150000
DTEND;TZID=Australia/Adelaide:20260212T160000
DTSTAMP:20260426T090854
CREATED:20260130T025339Z
LAST-MODIFIED:20260130T025339Z
UID:5377-1770908400-1770912000@southernmontessori.sa.edu.au
SUMMARY:Market Stall Clearance Afternoon
DESCRIPTION:Smoothies | Lip Balm | Cookie Jars
URL:https://southernmontessori.sa.edu.au/event/market-stall-clearance-afternoon/
LOCATION:Southern Montessori School\, 53 Galloway Road\, O'Sullivan Beach\, South Australia\, 5166\, Australia
CATEGORIES:Parent Events
END:VEVENT
BEGIN:VEVENT
DTSTART;TZID=Australia/Adelaide:20260204T160000
DTEND;TZID=Australia/Adelaide:20260204T183000
DTSTAMP:20260426T090854
CREATED:20260130T024405Z
LAST-MODIFIED:20260130T024405Z
UID:5248-1770220800-1770229800@southernmontessori.sa.edu.au
SUMMARY:Preschool & Primary School Welcome Evening
DESCRIPTION:
URL:https://southernmontessori.sa.edu.au/event/preschool-primary-school-welcome-evening/
LOCATION:Southern Montessori School\, 53 Galloway Road\, O'Sullivan Beach\, South Australia\, 5166\, Australia
CATEGORIES:Parent Events
END:VEVENT
BEGIN:VEVENT
DTSTART;VALUE=DATE:20251212
DTEND;VALUE=DATE:20251213
DTSTAMP:20260426T090854
CREATED:20251110T051817Z
LAST-MODIFIED:20251110T051817Z
UID:5122-1765497600-1765583999@southernmontessori.sa.edu.au
SUMMARY:Last Day of Term for Preschool
DESCRIPTION:
URL:https://southernmontessori.sa.edu.au/event/last-day-of-term-for-preschool/
LOCATION:Southern Montessori School\, 53 Galloway Road\, O'Sullivan Beach\, South Australia\, 5166\, Australia
CATEGORIES:Preschool
END:VEVENT
BEGIN:VEVENT
DTSTART;TZID=Australia/Adelaide:20251210T153000
DTEND;TZID=Australia/Adelaide:20251210T163000
DTSTAMP:20260426T090854
CREATED:20251110T045007Z
LAST-MODIFIED:20251110T045007Z
UID:5013-1765380600-1765384200@southernmontessori.sa.edu.au
SUMMARY:Senior Choir (Year 3-6)
DESCRIPTION:
URL:https://southernmontessori.sa.edu.au/event/senior-choir-year-3-6-4/2025-12-10/
LOCATION:Southern Montessori School\, 53 Galloway Road\, O'Sullivan Beach\, South Australia\, 5166\, Australia
CATEGORIES:Cycle Three,Cycle Two
END:VEVENT
BEGIN:VEVENT
DTSTART;TZID=Australia/Adelaide:20251210T143000
DTEND;TZID=Australia/Adelaide:20251210T150000
DTSTAMP:20260426T090854
CREATED:20251110T051750Z
LAST-MODIFIED:20251110T051750Z
UID:5118-1765377000-1765378800@southernmontessori.sa.edu.au
SUMMARY:Farewell Assembly
DESCRIPTION:
URL:https://southernmontessori.sa.edu.au/event/farewell-assembly/
LOCATION:Southern Montessori School\, 53 Galloway Road\, O'Sullivan Beach\, South Australia\, 5166\, Australia
CATEGORIES:Parent Events
END:VEVENT
BEGIN:VEVENT
DTSTART;TZID=Australia/Adelaide:20251209T170000
DTEND;TZID=Australia/Adelaide:20251209T193000
DTSTAMP:20260426T090854
CREATED:20251110T051626Z
LAST-MODIFIED:20251110T051626Z
UID:5110-1765299600-1765308600@southernmontessori.sa.edu.au
SUMMARY:Preschool End of Year Concert & Graduation
DESCRIPTION:
URL:https://southernmontessori.sa.edu.au/event/preschool-end-of-year-concert-graduation/
LOCATION:Southern Montessori School\, 53 Galloway Road\, O'Sullivan Beach\, South Australia\, 5166\, Australia
CATEGORIES:Parent Events,Preschool
END:VEVENT
BEGIN:VEVENT
DTSTART;TZID=Australia/Adelaide:20251205T141500
DTEND;TZID=Australia/Adelaide:20251205T151500
DTSTAMP:20260426T090854
CREATED:20251110T051021Z
LAST-MODIFIED:20251110T051021Z
UID:5098-1764944100-1764947700@southernmontessori.sa.edu.au
SUMMARY:Year 6 Graduation
DESCRIPTION:
URL:https://southernmontessori.sa.edu.au/event/year-6-graduation/
LOCATION:Southern Montessori School\, 53 Galloway Road\, O'Sullivan Beach\, South Australia\, 5166\, Australia
CATEGORIES:Cycle Three,Parent Events
END:VEVENT
BEGIN:VEVENT
DTSTART;TZID=Australia/Adelaide:20251205T124500
DTEND;TZID=Australia/Adelaide:20251205T131500
DTSTAMP:20260426T090854
CREATED:20251110T045322Z
LAST-MODIFIED:20251110T045322Z
UID:5028-1764938700-1764940500@southernmontessori.sa.edu.au
SUMMARY:Junior Choir (Year 1 - 3)
DESCRIPTION:
URL:https://southernmontessori.sa.edu.au/event/junior-choir-year-1-3-4/2025-12-05/
LOCATION:Southern Montessori School\, 53 Galloway Road\, O'Sullivan Beach\, South Australia\, 5166\, Australia
CATEGORIES:Cycle Two
END:VEVENT
BEGIN:VEVENT
DTSTART;TZID=Australia/Adelaide:20251204T190000
DTEND;TZID=Australia/Adelaide:20251204T200000
DTSTAMP:20260426T090854
CREATED:20251110T050928Z
LAST-MODIFIED:20251110T050928Z
UID:5094-1764874800-1764878400@southernmontessori.sa.edu.au
SUMMARY:Board Meeting
DESCRIPTION:
URL:https://southernmontessori.sa.edu.au/event/board-meeting-12/
LOCATION:Southern Montessori School\, 53 Galloway Road\, O'Sullivan Beach\, South Australia\, 5166\, Australia
CATEGORIES:Board
END:VEVENT
BEGIN:VEVENT
DTSTART;TZID=Australia/Adelaide:20251204T133000
DTEND;TZID=Australia/Adelaide:20251204T150000
DTSTAMP:20260426T090854
CREATED:20251110T050851Z
LAST-MODIFIED:20251110T050851Z
UID:5090-1764855000-1764860400@southernmontessori.sa.edu.au
SUMMARY:Cycle 2 Learning Exhibition & Year 3 Graduation
DESCRIPTION:
URL:https://southernmontessori.sa.edu.au/event/cycle-2-learning-exhibition-year-3-graduation/
LOCATION:Southern Montessori School\, 53 Galloway Road\, O'Sullivan Beach\, South Australia\, 5166\, Australia
CATEGORIES:Cycle Two,Parent Events
END:VEVENT
END:VCALENDAR