BEGIN:VCALENDAR
VERSION:2.0
PRODID:-//Southern Montessori School - ECPv6.15.16//NONSGML v1.0//EN
CALSCALE:GREGORIAN
METHOD:PUBLISH
X-WR-CALNAME:Southern Montessori School
X-ORIGINAL-URL:https://southernmontessori.sa.edu.au
X-WR-CALDESC:Events for Southern Montessori School
REFRESH-INTERVAL;VALUE=DURATION:PT1H
X-Robots-Tag:noindex
X-PUBLISHED-TTL:PT1H
BEGIN:VTIMEZONE
TZID:Australia/Adelaide
BEGIN:STANDARD
TZOFFSETFROM:+1030
TZOFFSETTO:+0930
TZNAME:ACST
DTSTART:20220402T163000
END:STANDARD
BEGIN:DAYLIGHT
TZOFFSETFROM:+0930
TZOFFSETTO:+1030
TZNAME:ACDT
DTSTART:20221001T163000
END:DAYLIGHT
BEGIN:STANDARD
TZOFFSETFROM:+1030
TZOFFSETTO:+0930
TZNAME:ACST
DTSTART:20230401T163000
END:STANDARD
BEGIN:DAYLIGHT
TZOFFSETFROM:+0930
TZOFFSETTO:+1030
TZNAME:ACDT
DTSTART:20230930T163000
END:DAYLIGHT
BEGIN:STANDARD
TZOFFSETFROM:+1030
TZOFFSETTO:+0930
TZNAME:ACST
DTSTART:20240406T163000
END:STANDARD
BEGIN:DAYLIGHT
TZOFFSETFROM:+0930
TZOFFSETTO:+1030
TZNAME:ACDT
DTSTART:20241005T163000
END:DAYLIGHT
END:VTIMEZONE
BEGIN:VEVENT
DTSTART;TZID=Australia/Adelaide:20231201T080000
DTEND;TZID=Australia/Adelaide:20231201T150000
DTSTAMP:20260424T051024
CREATED:20230710T033124Z
LAST-MODIFIED:20230710T033240Z
UID:2786-1701417600-1701442800@southernmontessori.sa.edu.au
SUMMARY:Year 6 Transition to the Middle School
DESCRIPTION:
URL:https://southernmontessori.sa.edu.au/event/year-6-transition-to-the-middle-school/
LOCATION:Southern Montessori Middle School\, 2 / 54 Woodcroft Drive\, Morphett Vale\, South Australia\, 5162\, Australia
END:VEVENT
BEGIN:VEVENT
DTSTART;TZID=Australia/Adelaide:20231130T190000
DTEND;TZID=Australia/Adelaide:20231130T200000
DTSTAMP:20260424T051024
CREATED:20230710T033359Z
LAST-MODIFIED:20230710T033359Z
UID:2790-1701370800-1701374400@southernmontessori.sa.edu.au
SUMMARY:Board Meeting
DESCRIPTION:
URL:https://southernmontessori.sa.edu.au/event/board-meeting-5/
LOCATION:Southern Montessori School\, 53 Galloway Road\, O'Sullivan Beach\, South Australia\, 5166\, Australia
END:VEVENT
BEGIN:VEVENT
DTSTART;TZID=Australia/Adelaide:20231130T180000
DTEND;TZID=Australia/Adelaide:20231130T193000
DTSTAMP:20260424T051024
CREATED:20230710T033040Z
LAST-MODIFIED:20230710T033040Z
UID:2782-1701367200-1701372600@southernmontessori.sa.edu.au
SUMMARY:Welcome to the Adolescent Program - Information Evening
DESCRIPTION:Year 6’s and new students to the Middle School
URL:https://southernmontessori.sa.edu.au/event/welcome-to-the-adolescent-program-information-evening/
LOCATION:Southern Montessori Middle School\, 2 / 54 Woodcroft Drive\, Morphett Vale\, South Australia\, 5162\, Australia
END:VEVENT
BEGIN:VEVENT
DTSTART;TZID=Australia/Adelaide:20231130T103000
DTEND;TZID=Australia/Adelaide:20231130T113000
DTSTAMP:20260424T051024
CREATED:20230710T033512Z
LAST-MODIFIED:20231019T010324Z
UID:2798-1701340200-1701343800@southernmontessori.sa.edu.au
SUMMARY:Reception & Year 3 Transition Visit
DESCRIPTION:
URL:https://southernmontessori.sa.edu.au/event/year-1-3-transition-visit/
LOCATION:Southern Montessori School\, 53 Galloway Road\, O'Sullivan Beach\, South Australia\, 5166\, Australia
END:VEVENT
BEGIN:VEVENT
DTSTART;TZID=Australia/Adelaide:20231127T083000
DTEND;TZID=Australia/Adelaide:20231201T153000
DTSTAMP:20260424T051024
CREATED:20230710T032822Z
LAST-MODIFIED:20230713T033442Z
UID:2774-1701073800-1701444600@southernmontessori.sa.edu.au
SUMMARY:Reception Orientation
DESCRIPTION:
URL:https://southernmontessori.sa.edu.au/event/reception-orientation/
LOCATION:Southern Montessori School\, 53 Galloway Road\, O'Sullivan Beach\, South Australia\, 5166\, Australia
END:VEVENT
BEGIN:VEVENT
DTSTART;TZID=Australia/Adelaide:20231127T083000
DTEND;TZID=Australia/Adelaide:20231201T153000
DTSTAMP:20260424T051024
CREATED:20230710T031901Z
LAST-MODIFIED:20230710T031901Z
UID:2766-1701073800-1701444600@southernmontessori.sa.edu.au
SUMMARY:Year 9 Reflection Presentation
DESCRIPTION:
URL:https://southernmontessori.sa.edu.au/event/year-9-reflection-presentation/
END:VEVENT
BEGIN:VEVENT
DTSTART;VALUE=DATE:20231124
DTEND;VALUE=DATE:20231125
DTSTAMP:20260424T051024
CREATED:20231025T225737Z
LAST-MODIFIED:20231025T225737Z
UID:3149-1700784000-1700870399@southernmontessori.sa.edu.au
SUMMARY:Year 5 & 6 Tag Rugby Carnival
DESCRIPTION:Please refer to your Consent2Go Invitation for more information.
URL:https://southernmontessori.sa.edu.au/event/year-5-6-tag-rugby-carnival/
END:VEVENT
BEGIN:VEVENT
DTSTART;VALUE=DATE:20231124
DTEND;VALUE=DATE:20231125
DTSTAMP:20260424T051024
CREATED:20230710T023422Z
LAST-MODIFIED:20230710T023422Z
UID:2749-1700784000-1700870399@southernmontessori.sa.edu.au
SUMMARY:2024 Class placements sent home
DESCRIPTION:
URL:https://southernmontessori.sa.edu.au/event/2024-class-placements-sent-home/
END:VEVENT
BEGIN:VEVENT
DTSTART;VALUE=DATE:20231124
DTEND;VALUE=DATE:20231125
DTSTAMP:20260424T051024
CREATED:20230710T023325Z
LAST-MODIFIED:20230710T023325Z
UID:2745-1700784000-1700870399@southernmontessori.sa.edu.au
SUMMARY:Primary School Assembly
DESCRIPTION:Middle School
URL:https://southernmontessori.sa.edu.au/event/primary-school-assembly-5/
LOCATION:Southern Montessori School\, 53 Galloway Road\, O'Sullivan Beach\, South Australia\, 5166\, Australia
END:VEVENT
BEGIN:VEVENT
DTSTART;VALUE=DATE:20231123
DTEND;VALUE=DATE:20231124
DTSTAMP:20260424T051024
CREATED:20230921T025558Z
LAST-MODIFIED:20230921T025558Z
UID:3054-1700697600-1700783999@southernmontessori.sa.edu.au
SUMMARY:Middle School Market Day
DESCRIPTION:At the Primary School! More information to follow.
URL:https://southernmontessori.sa.edu.au/event/middle-school-market-day/
LOCATION:Southern Montessori School\, 53 Galloway Road\, O'Sullivan Beach\, South Australia\, 5166\, Australia
END:VEVENT
BEGIN:VEVENT
DTSTART;TZID=Australia/Adelaide:20231121T153000
DTEND;TZID=Australia/Adelaide:20231121T163000
DTSTAMP:20260424T051024
CREATED:20231019T003851Z
LAST-MODIFIED:20231019T003851Z
UID:3132-1700580600-1700584200@southernmontessori.sa.edu.au
SUMMARY:Sporting Schools: Taekwondo
DESCRIPTION:Reception – Year 3 \nPlease refer to Consent2Go for more information.
URL:https://southernmontessori.sa.edu.au/event/sporting-schools-taekwondo-2/2023-11-21/
LOCATION:Southern Montessori School\, 53 Galloway Road\, O'Sullivan Beach\, South Australia\, 5166\, Australia
END:VEVENT
BEGIN:VEVENT
DTSTART;TZID=Australia/Adelaide:20231121T093000
DTEND;TZID=Australia/Adelaide:20231121T143000
DTSTAMP:20260424T051024
CREATED:20230907T025757Z
LAST-MODIFIED:20230907T025757Z
UID:3038-1700559000-1700577000@southernmontessori.sa.edu.au
SUMMARY:Environmental Committee: YELP Forum
DESCRIPTION:Please refer to your Consent2Go invitation for more information.
URL:https://southernmontessori.sa.edu.au/event/environmental-committee-yelp-forum/
END:VEVENT
BEGIN:VEVENT
DTSTART;VALUE=DATE:20231120
DTEND;VALUE=DATE:20231121
DTSTAMP:20260424T051024
CREATED:20231018T223814Z
LAST-MODIFIED:20231023T024051Z
UID:3120-1700438400-1700524799@southernmontessori.sa.edu.au
SUMMARY:Cycle 1 Excursion: Adelaide Zoo
DESCRIPTION:Please refer to your Consent2Go Invitation for more information.
URL:https://southernmontessori.sa.edu.au/event/cycle-1-excursion-adelaide-zoo/
END:VEVENT
BEGIN:VEVENT
DTSTART;TZID=Australia/Adelaide:20231115T173000
DTEND;TZID=Australia/Adelaide:20231115T183000
DTSTAMP:20260424T051024
CREATED:20230710T032933Z
LAST-MODIFIED:20230713T033528Z
UID:2778-1700069400-1700073000@southernmontessori.sa.edu.au
SUMMARY:Reception Orientation Evening
DESCRIPTION:
URL:https://southernmontessori.sa.edu.au/event/reception-orientation-day-with-parents/
LOCATION:Southern Montessori School\, 53 Galloway Road\, O'Sullivan Beach\, South Australia\, 5166\, Australia
END:VEVENT
BEGIN:VEVENT
DTSTART;VALUE=DATE:20231110
DTEND;VALUE=DATE:20231111
DTSTAMP:20260424T051024
CREATED:20230710T022539Z
LAST-MODIFIED:20231101T225437Z
UID:2737-1699574400-1699660799@southernmontessori.sa.edu.au
SUMMARY:Primary School Assembly
DESCRIPTION:Room 7: Wedgetail Eagles – Cycle 2
URL:https://southernmontessori.sa.edu.au/event/primary-school-assembly-4/
END:VEVENT
BEGIN:VEVENT
DTSTART;VALUE=DATE:20231109
DTEND;VALUE=DATE:20231110
DTSTAMP:20260424T051024
CREATED:20230926T050133Z
LAST-MODIFIED:20230926T050133Z
UID:3083-1699488000-1699574399@southernmontessori.sa.edu.au
SUMMARY:Middle School: Weaving Workshop
DESCRIPTION:
URL:https://southernmontessori.sa.edu.au/event/middle-school-weaving-workshop-3/
LOCATION:Southern Montessori Middle School\, 2 / 54 Woodcroft Drive\, Morphett Vale\, South Australia\, 5162\, Australia
END:VEVENT
BEGIN:VEVENT
DTSTART;TZID=Australia/Adelaide:20231108T153000
DTEND;TZID=Australia/Adelaide:20231108T183000
DTSTAMP:20260424T051024
CREATED:20230926T050455Z
LAST-MODIFIED:20230926T050506Z
UID:3091-1699457400-1699468200@southernmontessori.sa.edu.au
SUMMARY:Instrumental Concert
DESCRIPTION:More details to follow!
URL:https://southernmontessori.sa.edu.au/event/parent-event-instrumental-concert/
LOCATION:Southern Montessori School\, 53 Galloway Road\, O'Sullivan Beach\, South Australia\, 5166\, Australia
END:VEVENT
BEGIN:VEVENT
DTSTART;VALUE=DATE:20231107
DTEND;VALUE=DATE:20231108
DTSTAMP:20260424T051024
CREATED:20230926T050417Z
LAST-MODIFIED:20230926T050417Z
UID:3087-1699315200-1699401599@southernmontessori.sa.edu.au
SUMMARY:Middle School: Weaving Workshop
DESCRIPTION:
URL:https://southernmontessori.sa.edu.au/event/middle-school-weaving-workshop-4/
LOCATION:Southern Montessori Middle School\, 2 / 54 Woodcroft Drive\, Morphett Vale\, South Australia\, 5162\, Australia
END:VEVENT
BEGIN:VEVENT
DTSTART;VALUE=DATE:20231103
DTEND;VALUE=DATE:20231104
DTSTAMP:20260424T051024
CREATED:20231019T004133Z
LAST-MODIFIED:20231019T004133Z
UID:3138-1698969600-1699055999@southernmontessori.sa.edu.au
SUMMARY:Official Opening of Newly Renovated Primary School Campus
DESCRIPTION:Dignitaries and VIP’s have been invited to attend the Opening Ceremony at the Primary School.
URL:https://southernmontessori.sa.edu.au/event/official-opening-of-newly-renovated-primary-school-campus/
LOCATION:Southern Montessori School\, 53 Galloway Road\, O'Sullivan Beach\, South Australia\, 5166\, Australia
END:VEVENT
BEGIN:VEVENT
DTSTART;TZID=Australia/Adelaide:20231102T190000
DTEND;TZID=Australia/Adelaide:20231102T200000
DTSTAMP:20260424T051024
CREATED:20230710T022053Z
LAST-MODIFIED:20230710T022053Z
UID:2733-1698951600-1698955200@southernmontessori.sa.edu.au
SUMMARY:Board Meeting
DESCRIPTION:
URL:https://southernmontessori.sa.edu.au/event/board-meeting-4/
LOCATION:Southern Montessori School\, 53 Galloway Road\, O'Sullivan Beach\, South Australia\, 5166\, Australia
END:VEVENT
BEGIN:VEVENT
DTSTART;TZID=Australia/Adelaide:20231102T101500
DTEND;TZID=Australia/Adelaide:20231102T114500
DTSTAMP:20260424T051024
CREATED:20230731T024125Z
LAST-MODIFIED:20230731T024125Z
UID:2969-1698920100-1698925500@southernmontessori.sa.edu.au
SUMMARY:Cycle 3 Excursion: Year 6 Community Service (Room 8)
DESCRIPTION:Please refer to your Consent2Go invitation for more information.
URL:https://southernmontessori.sa.edu.au/event/cycle-3-excursion-year-6-community-service-room-8/2023-11-02/
END:VEVENT
BEGIN:VEVENT
DTSTART;TZID=Australia/Adelaide:20231031T153000
DTEND;TZID=Australia/Adelaide:20231031T163000
DTSTAMP:20260424T051024
CREATED:20231019T003746Z
LAST-MODIFIED:20231019T004711Z
UID:3126-1698766200-1698769800@southernmontessori.sa.edu.au
SUMMARY:Sporting Schools: Taekwondo
DESCRIPTION:Year 3 – 6 \nPlease refer to Consent2Go for more information.
URL:https://southernmontessori.sa.edu.au/event/sporting-schools-taekwondo/2023-10-31/
LOCATION:Southern Montessori School\, 53 Galloway Road\, O'Sullivan Beach\, South Australia\, 5166\, Australia
END:VEVENT
BEGIN:VEVENT
DTSTART;TZID=Australia/Adelaide:20231031T083000
DTEND;TZID=Australia/Adelaide:20231103T153000
DTSTAMP:20260424T051024
CREATED:20230710T021610Z
LAST-MODIFIED:20230710T021610Z
UID:2729-1698741000-1699025400@southernmontessori.sa.edu.au
SUMMARY:Cycle 4: Camp
DESCRIPTION:Please refer to your Consent2Go Invitation for further information.
URL:https://southernmontessori.sa.edu.au/event/cycle-4-camp-2/
END:VEVENT
BEGIN:VEVENT
DTSTART;TZID=Australia/Adelaide:20231031T083000
DTEND;TZID=Australia/Adelaide:20231101T153000
DTSTAMP:20260424T051024
CREATED:20230710T023057Z
LAST-MODIFIED:20230713T032918Z
UID:2741-1698741000-1698852600@southernmontessori.sa.edu.au
SUMMARY:Cycle 3 at Middle School
DESCRIPTION:More information to follow.
URL:https://southernmontessori.sa.edu.au/event/cycle-3-at-middle-school/
LOCATION:Southern Montessori Middle School\, 2 / 54 Woodcroft Drive\, Morphett Vale\, South Australia\, 5162\, Australia
END:VEVENT
BEGIN:VEVENT
DTSTART;VALUE=DATE:20231027
DTEND;VALUE=DATE:20231028
DTSTAMP:20260424T051024
CREATED:20230713T032949Z
LAST-MODIFIED:20230713T032949Z
UID:2835-1698364800-1698451199@southernmontessori.sa.edu.au
SUMMARY:World Teachers Day
DESCRIPTION:
URL:https://southernmontessori.sa.edu.au/event/world-teachers-day-2/
END:VEVENT
BEGIN:VEVENT
DTSTART;VALUE=DATE:20231027
DTEND;VALUE=DATE:20231028
DTSTAMP:20260424T051024
CREATED:20230710T021508Z
LAST-MODIFIED:20230710T021508Z
UID:2725-1698364800-1698451199@southernmontessori.sa.edu.au
SUMMARY:Sports Day
DESCRIPTION:More information to follow.
URL:https://southernmontessori.sa.edu.au/event/sports-day-3/
LOCATION:Southern Montessori School\, 53 Galloway Road\, O'Sullivan Beach\, South Australia\, 5166\, Australia
END:VEVENT
BEGIN:VEVENT
DTSTART;VALUE=DATE:20231026
DTEND;VALUE=DATE:20231027
DTSTAMP:20260424T051024
CREATED:20230926T045948Z
LAST-MODIFIED:20230926T045948Z
UID:3079-1698278400-1698364799@southernmontessori.sa.edu.au
SUMMARY:Middle School: Weaving Workshop
DESCRIPTION:
URL:https://southernmontessori.sa.edu.au/event/middle-school-weaving-workshop-2/
LOCATION:Southern Montessori Middle School\, 2 / 54 Woodcroft Drive\, Morphett Vale\, South Australia\, 5162\, Australia
END:VEVENT
BEGIN:VEVENT
DTSTART;VALUE=DATE:20231023
DTEND;VALUE=DATE:20231024
DTSTAMP:20260424T051024
CREATED:20230921T062459Z
LAST-MODIFIED:20230921T062511Z
UID:3062-1698019200-1698105599@southernmontessori.sa.edu.au
SUMMARY:Cycle 3 Excursion: South Australian Museum and Adelaide Botanic Gardens
DESCRIPTION:Please refer to your Consent2Go invitation for more information.
URL:https://southernmontessori.sa.edu.au/event/cycle-3-excursion-south-australian-museum-and-adelaide-botanic-gardens/
END:VEVENT
BEGIN:VEVENT
DTSTART;TZID=Australia/Adelaide:20231020T124500
DTEND;TZID=Australia/Adelaide:20231020T131500
DTSTAMP:20260424T051024
CREATED:20231018T223704Z
LAST-MODIFIED:20231018T223704Z
UID:3108-1697805900-1697807700@southernmontessori.sa.edu.au
SUMMARY:Junior Choir
DESCRIPTION:Year 1 – 3
URL:https://southernmontessori.sa.edu.au/event/junior-choir/2023-10-20/
END:VEVENT
BEGIN:VEVENT
DTSTART;TZID=Australia/Adelaide:20231019T101500
DTEND;TZID=Australia/Adelaide:20231019T114500
DTSTAMP:20260424T051024
CREATED:20230731T024011Z
LAST-MODIFIED:20230731T024011Z
UID:2964-1697710500-1697715900@southernmontessori.sa.edu.au
SUMMARY:Cycle 3 Excursion: Year 6 Community Service (Room 9)
DESCRIPTION:Please refer to your Consent2Go invitation for more information.
URL:https://southernmontessori.sa.edu.au/event/cycle-3-excursion-year-6-community-service-room-9-3/2023-10-19/
END:VEVENT
END:VCALENDAR