BEGIN:VCALENDAR
VERSION:2.0
PRODID:-//Southern Montessori School - ECPv6.15.16//NONSGML v1.0//EN
CALSCALE:GREGORIAN
METHOD:PUBLISH
X-WR-CALNAME:Southern Montessori School
X-ORIGINAL-URL:https://southernmontessori.sa.edu.au
X-WR-CALDESC:Events for Southern Montessori School
REFRESH-INTERVAL;VALUE=DURATION:PT1H
X-Robots-Tag:noindex
X-PUBLISHED-TTL:PT1H
BEGIN:VTIMEZONE
TZID:Australia/Adelaide
BEGIN:STANDARD
TZOFFSETFROM:+1030
TZOFFSETTO:+0930
TZNAME:ACST
DTSTART:20240406T163000
END:STANDARD
BEGIN:DAYLIGHT
TZOFFSETFROM:+0930
TZOFFSETTO:+1030
TZNAME:ACDT
DTSTART:20241005T163000
END:DAYLIGHT
BEGIN:STANDARD
TZOFFSETFROM:+1030
TZOFFSETTO:+0930
TZNAME:ACST
DTSTART:20250405T163000
END:STANDARD
BEGIN:DAYLIGHT
TZOFFSETFROM:+0930
TZOFFSETTO:+1030
TZNAME:ACDT
DTSTART:20251004T163000
END:DAYLIGHT
BEGIN:STANDARD
TZOFFSETFROM:+1030
TZOFFSETTO:+0930
TZNAME:ACST
DTSTART:20260404T163000
END:STANDARD
BEGIN:DAYLIGHT
TZOFFSETFROM:+0930
TZOFFSETTO:+1030
TZNAME:ACDT
DTSTART:20261003T163000
END:DAYLIGHT
END:VTIMEZONE
BEGIN:VEVENT
DTSTART;TZID=Australia/Adelaide:20250313T153000
DTEND;TZID=Australia/Adelaide:20250313T162000
DTSTAMP:20260421T141806
CREATED:20250108T223748Z
LAST-MODIFIED:20250318T002848Z
UID:3915-1741879800-1741882800@southernmontessori.sa.edu.au
SUMMARY:Chess Mates
DESCRIPTION:
URL:https://southernmontessori.sa.edu.au/event/chess-mates-3-30pm-4-20pm/2025-03-13/
CATEGORIES:Cycle One,Cycle Three,Cycle Two
END:VEVENT
BEGIN:VEVENT
DTSTART;TZID=Australia/Adelaide:20250313T083000
DTEND;TZID=Australia/Adelaide:20250313T085000
DTSTAMP:20260421T141806
CREATED:20250212T003858Z
LAST-MODIFIED:20250318T002919Z
UID:4238-1741854600-1741855800@southernmontessori.sa.edu.au
SUMMARY:Open Library Thursday
DESCRIPTION:
URL:https://southernmontessori.sa.edu.au/event/open-library-thursday/2025-03-13/
CATEGORIES:Parent Events
END:VEVENT
BEGIN:VEVENT
DTSTART;TZID=Australia/Adelaide:20250313T081500
DTEND;TZID=Australia/Adelaide:20250313T090000
DTSTAMP:20260421T141806
CREATED:20240919T230137Z
LAST-MODIFIED:20250318T002937Z
UID:4227-1741853700-1741856400@southernmontessori.sa.edu.au
SUMMARY:Coffee Corner
DESCRIPTION:
URL:https://southernmontessori.sa.edu.au/event/coffee-corner-250pm-350pm/2025-03-13/
CATEGORIES:Parent Events
END:VEVENT
BEGIN:VEVENT
DTSTART;VALUE=DATE:20250313
DTEND;VALUE=DATE:20250314
DTSTAMP:20260421T141806
CREATED:20250108T225927Z
LAST-MODIFIED:20250318T002959Z
UID:4033-1741824000-1741910399@southernmontessori.sa.edu.au
SUMMARY:Middle School:  Engagement with Kalyra
DESCRIPTION:
URL:https://southernmontessori.sa.edu.au/event/middle-school-knitting-with-kalyra/2025-03-13/
CATEGORIES:Cycle Four
END:VEVENT
BEGIN:VEVENT
DTSTART;TZID=Australia/Adelaide:20250312T153000
DTEND;TZID=Australia/Adelaide:20250312T163000
DTSTAMP:20260421T141806
CREATED:20250108T225320Z
LAST-MODIFIED:20250318T005022Z
UID:3979-1741793400-1741797000@southernmontessori.sa.edu.au
SUMMARY:Senior Choir  (Yr 3 - 6)
DESCRIPTION:
URL:https://southernmontessori.sa.edu.au/event/senior-choir-yr-3-6-3-30pm-4-30pm-2/2025-03-12/
CATEGORIES:After School Program,Cycle Three,Cycle Two
END:VEVENT
BEGIN:VEVENT
DTSTART;TZID=Australia/Adelaide:20250312T080000
DTEND;TZID=Australia/Adelaide:20250314T170000
DTSTAMP:20260421T141806
CREATED:20250108T231647Z
LAST-MODIFIED:20250108T231647Z
UID:4066-1741766400-1741971600@southernmontessori.sa.edu.au
SUMMARY:NAPLAN
DESCRIPTION:NAPLAN
URL:https://southernmontessori.sa.edu.au/event/naplan-4/
END:VEVENT
BEGIN:VEVENT
DTSTART;TZID=Australia/Adelaide:20250311T153000
DTEND;TZID=Australia/Adelaide:20250311T163000
DTSTAMP:20260421T141806
CREATED:20250108T224632Z
LAST-MODIFIED:20250318T005240Z
UID:3957-1741707000-1741710600@southernmontessori.sa.edu.au
SUMMARY:Sports Program Aussie T-Ball
DESCRIPTION:
URL:https://southernmontessori.sa.edu.au/event/sports-program-3-30pm-4-30-aussie-t-ball/2025-03-11/
CATEGORIES:After School Program
END:VEVENT
BEGIN:VEVENT
DTSTART;VALUE=DATE:20250311
DTEND;VALUE=DATE:20250312
DTSTAMP:20260421T141806
CREATED:20250108T225845Z
LAST-MODIFIED:20250318T005332Z
UID:4027-1741651200-1741737599@southernmontessori.sa.edu.au
SUMMARY:Middle School:  Engagement with Kalyra
DESCRIPTION:
URL:https://southernmontessori.sa.edu.au/event/middle-school-carpet-bowls-with-kalyra/2025-03-11/
CATEGORIES:Cycle Four
END:VEVENT
BEGIN:VEVENT
DTSTART;VALUE=DATE:20250311
DTEND;VALUE=DATE:20250316
DTSTAMP:20260421T141806
CREATED:20250108T231600Z
LAST-MODIFIED:20250213T010242Z
UID:4062-1741651200-1742083199@southernmontessori.sa.edu.au
SUMMARY:PARENT EVENT: Learning Conversations (Primary and Middle School)
DESCRIPTION:
URL:https://southernmontessori.sa.edu.au/event/learning-conversations-10/
CATEGORIES:Parent Events
END:VEVENT
BEGIN:VEVENT
DTSTART;VALUE=DATE:20250310
DTEND;VALUE=DATE:20250311
DTSTAMP:20260421T141806
CREATED:20250108T230920Z
LAST-MODIFIED:20250108T230920Z
UID:4042-1741564800-1741651199@southernmontessori.sa.edu.au
SUMMARY:PUBLIC HOLIDAY: Adelaide Cup Day
DESCRIPTION:PUBLIC HOLIDAY: Adelaide Cup Day
URL:https://southernmontessori.sa.edu.au/event/public-holiday-adelaide-cup-day-2/
END:VEVENT
BEGIN:VEVENT
DTSTART;TZID=Australia/Adelaide:20250307T124500
DTEND;TZID=Australia/Adelaide:20250307T131500
DTSTAMP:20260421T141806
CREATED:20250212T004021Z
LAST-MODIFIED:20250313T005237Z
UID:4249-1741351500-1741353300@southernmontessori.sa.edu.au
SUMMARY:Open Library Friday
DESCRIPTION:
URL:https://southernmontessori.sa.edu.au/event/open-library-friday/2025-03-07/
CATEGORIES:Parent Events
END:VEVENT
BEGIN:VEVENT
DTSTART;TZID=Australia/Adelaide:20250307T124500
DTEND;TZID=Australia/Adelaide:20250307T131500
DTSTAMP:20260421T141806
CREATED:20250108T225502Z
LAST-MODIFIED:20250318T002624Z
UID:3991-1741351500-1741353300@southernmontessori.sa.edu.au
SUMMARY:Junior Choir  (Yr 1 - 3)
DESCRIPTION:
URL:https://southernmontessori.sa.edu.au/event/junior-choir-yr-1-3-12-45pm-1-15pm/2025-03-07/
CATEGORIES:Cycle Two
END:VEVENT
BEGIN:VEVENT
DTSTART;TZID=Australia/Adelaide:20250307T083000
DTEND;TZID=Australia/Adelaide:20250307T150000
DTSTAMP:20260421T141806
CREATED:20250213T034403Z
LAST-MODIFIED:20250213T034403Z
UID:4306-1741336200-1741359600@southernmontessori.sa.edu.au
SUMMARY:Cycle 3 Local Geography Exploration
DESCRIPTION:
URL:https://southernmontessori.sa.edu.au/event/cycle-3-local-geography-exploration/
END:VEVENT
BEGIN:VEVENT
DTSTART;TZID=Australia/Adelaide:20250306T153000
DTEND;TZID=Australia/Adelaide:20250306T162000
DTSTAMP:20260421T141806
CREATED:20250108T223748Z
LAST-MODIFIED:20250318T002848Z
UID:3914-1741275000-1741278000@southernmontessori.sa.edu.au
SUMMARY:Chess Mates
DESCRIPTION:
URL:https://southernmontessori.sa.edu.au/event/chess-mates-3-30pm-4-20pm/2025-03-06/
CATEGORIES:Cycle One,Cycle Three,Cycle Two
END:VEVENT
BEGIN:VEVENT
DTSTART;TZID=Australia/Adelaide:20250306T083000
DTEND;TZID=Australia/Adelaide:20250306T085000
DTSTAMP:20260421T141806
CREATED:20250212T003858Z
LAST-MODIFIED:20250318T002919Z
UID:4237-1741249800-1741251000@southernmontessori.sa.edu.au
SUMMARY:Open Library Thursday
DESCRIPTION:
URL:https://southernmontessori.sa.edu.au/event/open-library-thursday/2025-03-06/
CATEGORIES:Parent Events
END:VEVENT
BEGIN:VEVENT
DTSTART;TZID=Australia/Adelaide:20250306T081500
DTEND;TZID=Australia/Adelaide:20250306T090000
DTSTAMP:20260421T141806
CREATED:20240919T230137Z
LAST-MODIFIED:20250318T002936Z
UID:4226-1741248900-1741251600@southernmontessori.sa.edu.au
SUMMARY:Coffee Corner
DESCRIPTION:
URL:https://southernmontessori.sa.edu.au/event/coffee-corner-250pm-350pm/2025-03-06/
CATEGORIES:Parent Events
END:VEVENT
BEGIN:VEVENT
DTSTART;VALUE=DATE:20250306
DTEND;VALUE=DATE:20250307
DTSTAMP:20260421T141806
CREATED:20250108T225927Z
LAST-MODIFIED:20250318T002958Z
UID:4032-1741219200-1741305599@southernmontessori.sa.edu.au
SUMMARY:Middle School:  Engagement with Kalyra
DESCRIPTION:
URL:https://southernmontessori.sa.edu.au/event/middle-school-knitting-with-kalyra/2025-03-06/
CATEGORIES:Cycle Four
END:VEVENT
BEGIN:VEVENT
DTSTART;TZID=Australia/Adelaide:20250305T190000
DTEND;TZID=Australia/Adelaide:20250305T200000
DTSTAMP:20260421T141806
CREATED:20250108T230808Z
LAST-MODIFIED:20250213T010126Z
UID:4038-1741201200-1741204800@southernmontessori.sa.edu.au
SUMMARY:Parent Event: Childhood Nutrition - Presented by Dietician from Sprout Food Group
DESCRIPTION:
URL:https://southernmontessori.sa.edu.au/event/parent-event-childhood-nutrition-presented-by-dietician-from-sprout-food-group/
CATEGORIES:Parent Events
END:VEVENT
BEGIN:VEVENT
DTSTART;TZID=Australia/Adelaide:20250305T153000
DTEND;TZID=Australia/Adelaide:20250305T163000
DTSTAMP:20260421T141806
CREATED:20250108T225320Z
LAST-MODIFIED:20250318T005021Z
UID:3978-1741188600-1741192200@southernmontessori.sa.edu.au
SUMMARY:Senior Choir  (Yr 3 - 6)
DESCRIPTION:
URL:https://southernmontessori.sa.edu.au/event/senior-choir-yr-3-6-3-30pm-4-30pm-2/2025-03-05/
CATEGORIES:After School Program,Cycle Three,Cycle Two
END:VEVENT
BEGIN:VEVENT
DTSTART;TZID=Australia/Adelaide:20250304T153000
DTEND;TZID=Australia/Adelaide:20250304T163000
DTSTAMP:20260421T141806
CREATED:20250108T224632Z
LAST-MODIFIED:20250318T005240Z
UID:3956-1741102200-1741105800@southernmontessori.sa.edu.au
SUMMARY:Sports Program Aussie T-Ball
DESCRIPTION:
URL:https://southernmontessori.sa.edu.au/event/sports-program-3-30pm-4-30-aussie-t-ball/2025-03-04/
CATEGORIES:After School Program
END:VEVENT
BEGIN:VEVENT
DTSTART;VALUE=DATE:20250304
DTEND;VALUE=DATE:20250305
DTSTAMP:20260421T141806
CREATED:20250108T225845Z
LAST-MODIFIED:20250318T005332Z
UID:4026-1741046400-1741132799@southernmontessori.sa.edu.au
SUMMARY:Middle School:  Engagement with Kalyra
DESCRIPTION:
URL:https://southernmontessori.sa.edu.au/event/middle-school-carpet-bowls-with-kalyra/2025-03-04/
CATEGORIES:Cycle Four
END:VEVENT
BEGIN:VEVENT
DTSTART;TZID=Australia/Adelaide:20250303T153000
DTEND;TZID=Australia/Adelaide:20250303T163000
DTSTAMP:20260421T141806
CREATED:20250108T224204Z
LAST-MODIFIED:20250318T005156Z
UID:3935-1741015800-1741019400@southernmontessori.sa.edu.au
SUMMARY:After School Drama Program 5-8yrs
DESCRIPTION:
URL:https://southernmontessori.sa.edu.au/event/after-school-drama-program-3-30pm-4-30pm/2025-03-03/
CATEGORIES:After School Program,Cycle One,Cycle Three
END:VEVENT
BEGIN:VEVENT
DTSTART;VALUE=DATE:20250303
DTEND;VALUE=DATE:20250308
DTSTAMP:20260421T141806
CREATED:20250108T231353Z
LAST-MODIFIED:20250213T005931Z
UID:4058-1740960000-1741391999@southernmontessori.sa.edu.au
SUMMARY:PARENT EVENT: Learning Conversations (Primary School)
DESCRIPTION:Learning Conversations
URL:https://southernmontessori.sa.edu.au/event/learning-conversations-9/
CATEGORIES:Parent Events
END:VEVENT
BEGIN:VEVENT
DTSTART;TZID=Australia/Adelaide:20250228T124500
DTEND;TZID=Australia/Adelaide:20250228T131500
DTSTAMP:20260421T141806
CREATED:20250212T004021Z
LAST-MODIFIED:20250313T005237Z
UID:4248-1740746700-1740748500@southernmontessori.sa.edu.au
SUMMARY:Open Library Friday
DESCRIPTION:
URL:https://southernmontessori.sa.edu.au/event/open-library-friday/2025-02-28/
CATEGORIES:Parent Events
END:VEVENT
BEGIN:VEVENT
DTSTART;TZID=Australia/Adelaide:20250228T124500
DTEND;TZID=Australia/Adelaide:20250228T131500
DTSTAMP:20260421T141806
CREATED:20250108T225502Z
LAST-MODIFIED:20250318T002624Z
UID:3990-1740746700-1740748500@southernmontessori.sa.edu.au
SUMMARY:Junior Choir  (Yr 1 - 3)
DESCRIPTION:
URL:https://southernmontessori.sa.edu.au/event/junior-choir-yr-1-3-12-45pm-1-15pm/2025-02-28/
CATEGORIES:Cycle Two
END:VEVENT
BEGIN:VEVENT
DTSTART;VALUE=DATE:20250228
DTEND;VALUE=DATE:20250301
DTSTAMP:20260421T141806
CREATED:20250108T230058Z
LAST-MODIFIED:20250108T230058Z
UID:4018-1740700800-1740787199@southernmontessori.sa.edu.au
SUMMARY:Clean Up Australia Day for SMS
DESCRIPTION:Clean Up Australia Day for SMS
URL:https://southernmontessori.sa.edu.au/event/clean-up-australia-day-for-sms-3/
END:VEVENT
BEGIN:VEVENT
DTSTART;TZID=Australia/Adelaide:20250227T153000
DTEND;TZID=Australia/Adelaide:20250227T162000
DTSTAMP:20260421T141806
CREATED:20250108T223748Z
LAST-MODIFIED:20250318T002847Z
UID:3913-1740670200-1740673200@southernmontessori.sa.edu.au
SUMMARY:Chess Mates
DESCRIPTION:
URL:https://southernmontessori.sa.edu.au/event/chess-mates-3-30pm-4-20pm/2025-02-27/
CATEGORIES:Cycle One,Cycle Three,Cycle Two
END:VEVENT
BEGIN:VEVENT
DTSTART;TZID=Australia/Adelaide:20250227T083000
DTEND;TZID=Australia/Adelaide:20250227T085000
DTSTAMP:20260421T141806
CREATED:20250212T003858Z
LAST-MODIFIED:20250318T002919Z
UID:4236-1740645000-1740646200@southernmontessori.sa.edu.au
SUMMARY:Open Library Thursday
DESCRIPTION:
URL:https://southernmontessori.sa.edu.au/event/open-library-thursday/2025-02-27/
CATEGORIES:Parent Events
END:VEVENT
BEGIN:VEVENT
DTSTART;TZID=Australia/Adelaide:20250227T081500
DTEND;TZID=Australia/Adelaide:20250227T090000
DTSTAMP:20260421T141806
CREATED:20240919T230137Z
LAST-MODIFIED:20250318T002936Z
UID:4225-1740644100-1740646800@southernmontessori.sa.edu.au
SUMMARY:Coffee Corner
DESCRIPTION:
URL:https://southernmontessori.sa.edu.au/event/coffee-corner-250pm-350pm/2025-02-27/
CATEGORIES:Parent Events
END:VEVENT
BEGIN:VEVENT
DTSTART;VALUE=DATE:20250227
DTEND;VALUE=DATE:20250228
DTSTAMP:20260421T141806
CREATED:20250108T225927Z
LAST-MODIFIED:20250318T002958Z
UID:4010-1740614400-1740700799@southernmontessori.sa.edu.au
SUMMARY:Middle School:  Engagement with Kalyra
DESCRIPTION:
URL:https://southernmontessori.sa.edu.au/event/middle-school-knitting-with-kalyra/2025-02-27/
CATEGORIES:Cycle Four
END:VEVENT
END:VCALENDAR