BEGIN:VCALENDAR
VERSION:2.0
PRODID:-//Southern Montessori School - ECPv6.15.16//NONSGML v1.0//EN
CALSCALE:GREGORIAN
METHOD:PUBLISH
X-WR-CALNAME:Southern Montessori School
X-ORIGINAL-URL:https://southernmontessori.sa.edu.au
X-WR-CALDESC:Events for Southern Montessori School
REFRESH-INTERVAL;VALUE=DURATION:PT1H
X-Robots-Tag:noindex
X-PUBLISHED-TTL:PT1H
BEGIN:VTIMEZONE
TZID:Australia/Adelaide
BEGIN:STANDARD
TZOFFSETFROM:+1030
TZOFFSETTO:+0930
TZNAME:ACST
DTSTART:20230401T163000
END:STANDARD
BEGIN:DAYLIGHT
TZOFFSETFROM:+0930
TZOFFSETTO:+1030
TZNAME:ACDT
DTSTART:20230930T163000
END:DAYLIGHT
BEGIN:STANDARD
TZOFFSETFROM:+1030
TZOFFSETTO:+0930
TZNAME:ACST
DTSTART:20240406T163000
END:STANDARD
BEGIN:DAYLIGHT
TZOFFSETFROM:+0930
TZOFFSETTO:+1030
TZNAME:ACDT
DTSTART:20241005T163000
END:DAYLIGHT
BEGIN:STANDARD
TZOFFSETFROM:+1030
TZOFFSETTO:+0930
TZNAME:ACST
DTSTART:20250405T163000
END:STANDARD
BEGIN:DAYLIGHT
TZOFFSETFROM:+0930
TZOFFSETTO:+1030
TZNAME:ACDT
DTSTART:20251004T163000
END:DAYLIGHT
BEGIN:STANDARD
TZOFFSETFROM:+1030
TZOFFSETTO:+0930
TZNAME:ACST
DTSTART:20260404T163000
END:STANDARD
BEGIN:DAYLIGHT
TZOFFSETFROM:+0930
TZOFFSETTO:+1030
TZNAME:ACDT
DTSTART:20261003T163000
END:DAYLIGHT
END:VTIMEZONE
BEGIN:VEVENT
DTSTART;TZID=Australia/Adelaide:20250221T124500
DTEND;TZID=Australia/Adelaide:20250221T131500
DTSTAMP:20260421T153542
CREATED:20250212T004021Z
LAST-MODIFIED:20250313T005237Z
UID:4247-1740141900-1740143700@southernmontessori.sa.edu.au
SUMMARY:Open Library Friday
DESCRIPTION:
URL:https://southernmontessori.sa.edu.au/event/open-library-friday/2025-02-21/
CATEGORIES:Parent Events
END:VEVENT
BEGIN:VEVENT
DTSTART;TZID=Australia/Adelaide:20250221T124500
DTEND;TZID=Australia/Adelaide:20250221T131500
DTSTAMP:20260421T153542
CREATED:20250108T225502Z
LAST-MODIFIED:20250318T002624Z
UID:3989-1740141900-1740143700@southernmontessori.sa.edu.au
SUMMARY:Junior Choir  (Yr 1 - 3)
DESCRIPTION:
URL:https://southernmontessori.sa.edu.au/event/junior-choir-yr-1-3-12-45pm-1-15pm/2025-02-21/
CATEGORIES:Cycle Two
END:VEVENT
BEGIN:VEVENT
DTSTART;TZID=Australia/Adelaide:20250220T190000
DTEND;TZID=Australia/Adelaide:20250220T210000
DTSTAMP:20260421T153542
CREATED:20250108T230014Z
LAST-MODIFIED:20250108T230014Z
UID:4014-1740078000-1740085200@southernmontessori.sa.edu.au
SUMMARY:Board Meeting  7.00pm
DESCRIPTION:Board Meeting\n7.00pm
URL:https://southernmontessori.sa.edu.au/event/board-meeting-7-00pm-3/
END:VEVENT
BEGIN:VEVENT
DTSTART;TZID=Australia/Adelaide:20250220T153000
DTEND;TZID=Australia/Adelaide:20250220T162000
DTSTAMP:20260421T153542
CREATED:20250108T223748Z
LAST-MODIFIED:20250318T002847Z
UID:3912-1740065400-1740068400@southernmontessori.sa.edu.au
SUMMARY:Chess Mates
DESCRIPTION:
URL:https://southernmontessori.sa.edu.au/event/chess-mates-3-30pm-4-20pm/2025-02-20/
CATEGORIES:Cycle One,Cycle Three,Cycle Two
END:VEVENT
BEGIN:VEVENT
DTSTART;TZID=Australia/Adelaide:20250220T083000
DTEND;TZID=Australia/Adelaide:20250220T085000
DTSTAMP:20260421T153542
CREATED:20250212T003858Z
LAST-MODIFIED:20250318T002919Z
UID:4235-1740040200-1740041400@southernmontessori.sa.edu.au
SUMMARY:Open Library Thursday
DESCRIPTION:
URL:https://southernmontessori.sa.edu.au/event/open-library-thursday/2025-02-20/
CATEGORIES:Parent Events
END:VEVENT
BEGIN:VEVENT
DTSTART;TZID=Australia/Adelaide:20250220T081500
DTEND;TZID=Australia/Adelaide:20250220T090000
DTSTAMP:20260421T153542
CREATED:20250213T005159Z
LAST-MODIFIED:20250213T005300Z
UID:4256-1740039300-1740042000@southernmontessori.sa.edu.au
SUMMARY:Corner Corner
DESCRIPTION:
URL:https://southernmontessori.sa.edu.au/event/coffee-corner-2/
END:VEVENT
BEGIN:VEVENT
DTSTART;TZID=Australia/Adelaide:20250219T153000
DTEND;TZID=Australia/Adelaide:20250219T163000
DTSTAMP:20260421T153542
CREATED:20250108T225320Z
LAST-MODIFIED:20250318T005021Z
UID:3976-1739979000-1739982600@southernmontessori.sa.edu.au
SUMMARY:Senior Choir  (Yr 3 - 6)
DESCRIPTION:
URL:https://southernmontessori.sa.edu.au/event/senior-choir-yr-3-6-3-30pm-4-30pm-2/2025-02-19/
CATEGORIES:After School Program,Cycle Three,Cycle Two
END:VEVENT
BEGIN:VEVENT
DTSTART;TZID=Australia/Adelaide:20250218T153000
DTEND;TZID=Australia/Adelaide:20250218T163000
DTSTAMP:20260421T153542
CREATED:20250108T224632Z
LAST-MODIFIED:20250318T005240Z
UID:3954-1739892600-1739896200@southernmontessori.sa.edu.au
SUMMARY:Sports Program Aussie T-Ball
DESCRIPTION:
URL:https://southernmontessori.sa.edu.au/event/sports-program-3-30pm-4-30-aussie-t-ball/2025-02-18/
CATEGORIES:After School Program
END:VEVENT
BEGIN:VEVENT
DTSTART;TZID=Australia/Adelaide:20250218T090000
DTEND;TZID=Australia/Adelaide:20250218T094500
DTSTAMP:20260421T153542
CREATED:20250108T232851Z
LAST-MODIFIED:20250212T001633Z
UID:4119-1739869200-1739871900@southernmontessori.sa.edu.au
SUMMARY:PARENT EVENT: Coffee with a Dash of Montessori
DESCRIPTION:
URL:https://southernmontessori.sa.edu.au/event/coffee-with-a-dash-of-montessori-9/
CATEGORIES:Parent Events
END:VEVENT
BEGIN:VEVENT
DTSTART;TZID=Australia/Adelaide:20250217T153000
DTEND;TZID=Australia/Adelaide:20250217T163000
DTSTAMP:20260421T153542
CREATED:20250108T224204Z
LAST-MODIFIED:20250318T005156Z
UID:3931-1739806200-1739809800@southernmontessori.sa.edu.au
SUMMARY:After School Drama Program 5-8yrs
DESCRIPTION:
URL:https://southernmontessori.sa.edu.au/event/after-school-drama-program-3-30pm-4-30pm/2025-02-17/
CATEGORIES:After School Program,Cycle One,Cycle Three
END:VEVENT
BEGIN:VEVENT
DTSTART;TZID=Australia/Adelaide:20250214T124500
DTEND;TZID=Australia/Adelaide:20250214T131500
DTSTAMP:20260421T153542
CREATED:20250212T004021Z
LAST-MODIFIED:20250313T005237Z
UID:4244-1739537100-1739538900@southernmontessori.sa.edu.au
SUMMARY:Open Library Friday
DESCRIPTION:
URL:https://southernmontessori.sa.edu.au/event/open-library-friday/2025-02-14/
CATEGORIES:Parent Events
END:VEVENT
BEGIN:VEVENT
DTSTART;TZID=Australia/Adelaide:20250214T124500
DTEND;TZID=Australia/Adelaide:20250214T131500
DTSTAMP:20260421T153542
CREATED:20250108T225502Z
LAST-MODIFIED:20250318T002624Z
UID:3988-1739537100-1739538900@southernmontessori.sa.edu.au
SUMMARY:Junior Choir  (Yr 1 - 3)
DESCRIPTION:
URL:https://southernmontessori.sa.edu.au/event/junior-choir-yr-1-3-12-45pm-1-15pm/2025-02-14/
CATEGORIES:Cycle Two
END:VEVENT
BEGIN:VEVENT
DTSTART;TZID=Australia/Adelaide:20250213T153000
DTEND;TZID=Australia/Adelaide:20250213T162000
DTSTAMP:20260421T153542
CREATED:20250108T223748Z
LAST-MODIFIED:20250318T002847Z
UID:3911-1739460600-1739463600@southernmontessori.sa.edu.au
SUMMARY:Chess Mates
DESCRIPTION:
URL:https://southernmontessori.sa.edu.au/event/chess-mates-3-30pm-4-20pm/2025-02-13/
CATEGORIES:Cycle One,Cycle Three,Cycle Two
END:VEVENT
BEGIN:VEVENT
DTSTART;TZID=Australia/Adelaide:20250213T083000
DTEND;TZID=Australia/Adelaide:20250213T085000
DTSTAMP:20260421T153542
CREATED:20250212T003858Z
LAST-MODIFIED:20250318T002919Z
UID:4232-1739435400-1739436600@southernmontessori.sa.edu.au
SUMMARY:Open Library Thursday
DESCRIPTION:
URL:https://southernmontessori.sa.edu.au/event/open-library-thursday/2025-02-13/
CATEGORIES:Parent Events
END:VEVENT
BEGIN:VEVENT
DTSTART;TZID=Australia/Adelaide:20250213T081500
DTEND;TZID=Australia/Adelaide:20250213T090000
DTSTAMP:20260421T153542
CREATED:20240919T230137Z
LAST-MODIFIED:20250318T002936Z
UID:3618-1739434500-1739437200@southernmontessori.sa.edu.au
SUMMARY:Coffee Corner
DESCRIPTION:
URL:https://southernmontessori.sa.edu.au/event/coffee-corner-250pm-350pm/2025-02-13/
CATEGORIES:Parent Events
END:VEVENT
BEGIN:VEVENT
DTSTART;TZID=Australia/Adelaide:20250212T153000
DTEND;TZID=Australia/Adelaide:20250212T163000
DTSTAMP:20260421T153542
CREATED:20250108T225320Z
LAST-MODIFIED:20250318T005021Z
UID:3975-1739374200-1739377800@southernmontessori.sa.edu.au
SUMMARY:Senior Choir  (Yr 3 - 6)
DESCRIPTION:
URL:https://southernmontessori.sa.edu.au/event/senior-choir-yr-3-6-3-30pm-4-30pm-2/2025-02-12/
CATEGORIES:After School Program,Cycle Three,Cycle Two
END:VEVENT
BEGIN:VEVENT
DTSTART;TZID=Australia/Adelaide:20250211T153000
DTEND;TZID=Australia/Adelaide:20250211T163000
DTSTAMP:20260421T153542
CREATED:20250108T224632Z
LAST-MODIFIED:20250318T005240Z
UID:3951-1739287800-1739291400@southernmontessori.sa.edu.au
SUMMARY:Sports Program Aussie T-Ball
DESCRIPTION:
URL:https://southernmontessori.sa.edu.au/event/sports-program-3-30pm-4-30-aussie-t-ball/2025-02-11/
CATEGORIES:After School Program
END:VEVENT
BEGIN:VEVENT
DTSTART;TZID=Australia/Adelaide:20250210T153000
DTEND;TZID=Australia/Adelaide:20250210T163000
DTSTAMP:20260421T153542
CREATED:20250108T224204Z
LAST-MODIFIED:20250318T005155Z
UID:3929-1739201400-1739205000@southernmontessori.sa.edu.au
SUMMARY:After School Drama Program 5-8yrs
DESCRIPTION:
URL:https://southernmontessori.sa.edu.au/event/after-school-drama-program-3-30pm-4-30pm/2025-02-10/
CATEGORIES:After School Program,Cycle One,Cycle Three
END:VEVENT
BEGIN:VEVENT
DTSTART;TZID=Australia/Adelaide:20250207T124500
DTEND;TZID=Australia/Adelaide:20250207T131500
DTSTAMP:20260421T153542
CREATED:20250108T225502Z
LAST-MODIFIED:20250318T002624Z
UID:3985-1738932300-1738934100@southernmontessori.sa.edu.au
SUMMARY:Junior Choir  (Yr 1 - 3)
DESCRIPTION:
URL:https://southernmontessori.sa.edu.au/event/junior-choir-yr-1-3-12-45pm-1-15pm/2025-02-07/
CATEGORIES:Cycle Two
END:VEVENT
BEGIN:VEVENT
DTSTART;TZID=Australia/Adelaide:20250206T153000
DTEND;TZID=Australia/Adelaide:20250206T162000
DTSTAMP:20260421T153542
CREATED:20250108T223748Z
LAST-MODIFIED:20250318T002847Z
UID:3910-1738855800-1738858800@southernmontessori.sa.edu.au
SUMMARY:Chess Mates
DESCRIPTION:
URL:https://southernmontessori.sa.edu.au/event/chess-mates-3-30pm-4-20pm/2025-02-06/
CATEGORIES:Cycle One,Cycle Three,Cycle Two
END:VEVENT
BEGIN:VEVENT
DTSTART;TZID=Australia/Adelaide:20250205T160000
DTEND;TZID=Australia/Adelaide:20250205T183000
DTSTAMP:20260421T153542
CREATED:20250108T224342Z
LAST-MODIFIED:20250129T024344Z
UID:3947-1738771200-1738780200@southernmontessori.sa.edu.au
SUMMARY:Parent Event: Preschool & Primary Welcome Evening 4.00pm - 6.30pm
DESCRIPTION:Parent Event: Preschool & Primary Welcome Evening 4.00pm – 6.30pm
URL:https://southernmontessori.sa.edu.au/event/parent-event-preschool-primary-welcome-evening-4-00pm-6-30pm/
CATEGORIES:Parent Events
END:VEVENT
BEGIN:VEVENT
DTSTART;TZID=Australia/Adelaide:20250205T153000
DTEND;TZID=Australia/Adelaide:20250205T163000
DTSTAMP:20260421T153542
CREATED:20250108T225320Z
LAST-MODIFIED:20250318T005021Z
UID:3971-1738769400-1738773000@southernmontessori.sa.edu.au
SUMMARY:Senior Choir  (Yr 3 - 6)
DESCRIPTION:
URL:https://southernmontessori.sa.edu.au/event/senior-choir-yr-3-6-3-30pm-4-30pm-2/2025-02-05/
CATEGORIES:After School Program,Cycle Three,Cycle Two
END:VEVENT
BEGIN:VEVENT
DTSTART;TZID=Australia/Adelaide:20250203T153000
DTEND;TZID=Australia/Adelaide:20250203T163000
DTSTAMP:20260421T153542
CREATED:20250108T224204Z
LAST-MODIFIED:20250318T005155Z
UID:3925-1738596600-1738600200@southernmontessori.sa.edu.au
SUMMARY:After School Drama Program 5-8yrs
DESCRIPTION:
URL:https://southernmontessori.sa.edu.au/event/after-school-drama-program-3-30pm-4-30pm/2025-02-03/
CATEGORIES:After School Program,Cycle One,Cycle Three
END:VEVENT
BEGIN:VEVENT
DTSTART;VALUE=DATE:20250131
DTEND;VALUE=DATE:20250201
DTSTAMP:20260421T153542
CREATED:20250108T223921Z
LAST-MODIFIED:20250108T223921Z
UID:3921-1738281600-1738367999@southernmontessori.sa.edu.au
SUMMARY:Year 6 Leadership Day
DESCRIPTION:Year 6 Leadership Day
URL:https://southernmontessori.sa.edu.au/event/year-6-leadership-day-2/
END:VEVENT
BEGIN:VEVENT
DTSTART;TZID=Australia/Adelaide:20250130T153000
DTEND;TZID=Australia/Adelaide:20250130T162000
DTSTAMP:20260421T153542
CREATED:20250108T223748Z
LAST-MODIFIED:20250318T002847Z
UID:3907-1738251000-1738254000@southernmontessori.sa.edu.au
SUMMARY:Chess Mates
DESCRIPTION:
URL:https://southernmontessori.sa.edu.au/event/chess-mates-3-30pm-4-20pm/2025-01-30/
CATEGORIES:Cycle One,Cycle Three,Cycle Two
END:VEVENT
BEGIN:VEVENT
DTSTART;VALUE=DATE:20250129
DTEND;VALUE=DATE:20250130
DTSTAMP:20260421T153542
CREATED:20250108T223535Z
LAST-MODIFIED:20250108T223535Z
UID:3903-1738108800-1738195199@southernmontessori.sa.edu.au
SUMMARY:First Day of Term 1
DESCRIPTION:First Day of Term 1
URL:https://southernmontessori.sa.edu.au/event/first-day-of-term-1-3/
END:VEVENT
BEGIN:VEVENT
DTSTART;VALUE=DATE:20250128
DTEND;VALUE=DATE:20250129
DTSTAMP:20260421T153542
CREATED:20250108T223450Z
LAST-MODIFIED:20250108T223450Z
UID:3899-1738022400-1738108799@southernmontessori.sa.edu.au
SUMMARY:Pupil Free Day / Staff Professional Development Day
DESCRIPTION:Pupil Free Day / Staff Professional Development Day
URL:https://southernmontessori.sa.edu.au/event/pupil-free-day-staff-professional-development-day-9/
END:VEVENT
BEGIN:VEVENT
DTSTART;VALUE=DATE:20250127
DTEND;VALUE=DATE:20250128
DTSTAMP:20260421T153542
CREATED:20250108T223348Z
LAST-MODIFIED:20250108T223348Z
UID:3895-1737936000-1738022399@southernmontessori.sa.edu.au
SUMMARY:PUBLIC HOLIDAY: Australia Day
DESCRIPTION:PUBLIC HOLIDAY: Australia Day
URL:https://southernmontessori.sa.edu.au/event/public-holiday-australia-day/
END:VEVENT
BEGIN:VEVENT
DTSTART;VALUE=DATE:20241213
DTEND;VALUE=DATE:20241214
DTSTAMP:20260421T153542
CREATED:20240919T234618Z
LAST-MODIFIED:20240919T234618Z
UID:3774-1734048000-1734134399@southernmontessori.sa.edu.au
SUMMARY:Staff Only:End of Year Tidy-up
DESCRIPTION:Staff Only:End of Year Tidy-up
URL:https://southernmontessori.sa.edu.au/event/staff-onlyend-of-year-tidy-up/
END:VEVENT
BEGIN:VEVENT
DTSTART;VALUE=DATE:20241212
DTEND;VALUE=DATE:20241213
DTSTAMP:20260421T153542
CREATED:20240919T234527Z
LAST-MODIFIED:20240919T234527Z
UID:3770-1733961600-1734047999@southernmontessori.sa.edu.au
SUMMARY:Staff PD:CPR Training & End of Year Tidy-up
DESCRIPTION:Staff PD:CPR Training & End of Year Tidy-up
URL:https://southernmontessori.sa.edu.au/event/staff-pdcpr-training-end-of-year-tidy-up/
END:VEVENT
END:VCALENDAR