BEGIN:VCALENDAR
VERSION:2.0
PRODID:-//Southern Montessori School - ECPv6.15.16//NONSGML v1.0//EN
CALSCALE:GREGORIAN
METHOD:PUBLISH
X-WR-CALNAME:Southern Montessori School
X-ORIGINAL-URL:https://southernmontessori.sa.edu.au
X-WR-CALDESC:Events for Southern Montessori School
REFRESH-INTERVAL;VALUE=DURATION:PT1H
X-Robots-Tag:noindex
X-PUBLISHED-TTL:PT1H
BEGIN:VTIMEZONE
TZID:Australia/Adelaide
BEGIN:STANDARD
TZOFFSETFROM:+1030
TZOFFSETTO:+0930
TZNAME:ACST
DTSTART:20230401T163000
END:STANDARD
BEGIN:DAYLIGHT
TZOFFSETFROM:+0930
TZOFFSETTO:+1030
TZNAME:ACDT
DTSTART:20230930T163000
END:DAYLIGHT
BEGIN:STANDARD
TZOFFSETFROM:+1030
TZOFFSETTO:+0930
TZNAME:ACST
DTSTART:20240406T163000
END:STANDARD
BEGIN:DAYLIGHT
TZOFFSETFROM:+0930
TZOFFSETTO:+1030
TZNAME:ACDT
DTSTART:20241005T163000
END:DAYLIGHT
BEGIN:STANDARD
TZOFFSETFROM:+1030
TZOFFSETTO:+0930
TZNAME:ACST
DTSTART:20250405T163000
END:STANDARD
BEGIN:DAYLIGHT
TZOFFSETFROM:+0930
TZOFFSETTO:+1030
TZNAME:ACDT
DTSTART:20251004T163000
END:DAYLIGHT
END:VTIMEZONE
BEGIN:VEVENT
DTSTART;TZID=Australia/Adelaide:20240515T153000
DTEND;TZID=Australia/Adelaide:20240515T163000
DTSTAMP:20260422T095400
CREATED:20240422T041137Z
LAST-MODIFIED:20240422T041137Z
UID:3371-1715787000-1715790600@southernmontessori.sa.edu.au
SUMMARY:Senior Choir (Year 3 - 6)
DESCRIPTION:
URL:https://southernmontessori.sa.edu.au/event/senior-choir-year-3-6-2/2024-05-15/
LOCATION:Southern Montessori School\, 53 Galloway Road\, O'Sullivan Beach\, South Australia\, 5166\, Australia
END:VEVENT
BEGIN:VEVENT
DTSTART;TZID=Australia/Adelaide:20240510T124500
DTEND;TZID=Australia/Adelaide:20240510T131500
DTSTAMP:20260422T095400
CREATED:20240422T041241Z
LAST-MODIFIED:20240422T041241Z
UID:3382-1715345100-1715346900@southernmontessori.sa.edu.au
SUMMARY:Junior Choir (Year 1 - 3)
DESCRIPTION:
URL:https://southernmontessori.sa.edu.au/event/junior-choir-year-1-3-2/2024-05-10/
LOCATION:Southern Montessori School\, 53 Galloway Road\, O'Sullivan Beach\, South Australia\, 5166\, Australia
END:VEVENT
BEGIN:VEVENT
DTSTART;VALUE=DATE:20240510
DTEND;VALUE=DATE:20240511
DTSTAMP:20260422T095400
CREATED:20240422T050108Z
LAST-MODIFIED:20240422T050108Z
UID:3418-1715299200-1715385599@southernmontessori.sa.edu.au
SUMMARY:Cycle 3: SAPSASA Cross Country
DESCRIPTION:Please refer to Consent2Go for more information.
URL:https://southernmontessori.sa.edu.au/event/cycle-3-sapsasa-cross-country-2/
END:VEVENT
BEGIN:VEVENT
DTSTART;TZID=Australia/Adelaide:20240509T153000
DTEND;TZID=Australia/Adelaide:20240509T163000
DTSTAMP:20260422T095400
CREATED:20240422T041705Z
LAST-MODIFIED:20240422T041705Z
UID:3394-1715268600-1715272200@southernmontessori.sa.edu.au
SUMMARY:After School Drama Program
DESCRIPTION:Please refer to Consent2Go for more information.
URL:https://southernmontessori.sa.edu.au/event/after-school-drama-program/2024-05-09/
LOCATION:Southern Montessori School\, 53 Galloway Road\, O'Sullivan Beach\, South Australia\, 5166\, Australia
END:VEVENT
BEGIN:VEVENT
DTSTART;TZID=Australia/Adelaide:20240508T153000
DTEND;TZID=Australia/Adelaide:20240508T163000
DTSTAMP:20260422T095400
CREATED:20240422T041137Z
LAST-MODIFIED:20240422T041137Z
UID:3370-1715182200-1715185800@southernmontessori.sa.edu.au
SUMMARY:Senior Choir (Year 3 - 6)
DESCRIPTION:
URL:https://southernmontessori.sa.edu.au/event/senior-choir-year-3-6-2/2024-05-08/
LOCATION:Southern Montessori School\, 53 Galloway Road\, O'Sullivan Beach\, South Australia\, 5166\, Australia
END:VEVENT
BEGIN:VEVENT
DTSTART;TZID=Australia/Adelaide:20240507T173000
DTEND;TZID=Australia/Adelaide:20240507T183000
DTSTAMP:20260422T095400
CREATED:20240422T050002Z
LAST-MODIFIED:20240422T050002Z
UID:3414-1715103000-1715106600@southernmontessori.sa.edu.au
SUMMARY:Mid-Year Reception Parent Evening
DESCRIPTION:Please refer to your email invitation for more information.
URL:https://southernmontessori.sa.edu.au/event/mid-year-reception-parent-evening/
LOCATION:Southern Montessori School\, 53 Galloway Road\, O'Sullivan Beach\, South Australia\, 5166\, Australia
END:VEVENT
BEGIN:VEVENT
DTSTART;TZID=Australia/Adelaide:20240503T124500
DTEND;TZID=Australia/Adelaide:20240503T131500
DTSTAMP:20260422T095400
CREATED:20240422T041241Z
LAST-MODIFIED:20240422T041241Z
UID:3379-1714740300-1714742100@southernmontessori.sa.edu.au
SUMMARY:Junior Choir (Year 1 - 3)
DESCRIPTION:
URL:https://southernmontessori.sa.edu.au/event/junior-choir-year-1-3-2/2024-05-03/
LOCATION:Southern Montessori School\, 53 Galloway Road\, O'Sullivan Beach\, South Australia\, 5166\, Australia
END:VEVENT
BEGIN:VEVENT
DTSTART;TZID=Australia/Adelaide:20240502T153000
DTEND;TZID=Australia/Adelaide:20240502T163000
DTSTAMP:20260422T095400
CREATED:20240422T041705Z
LAST-MODIFIED:20240422T041705Z
UID:3391-1714663800-1714667400@southernmontessori.sa.edu.au
SUMMARY:After School Drama Program
DESCRIPTION:Please refer to Consent2Go for more information.
URL:https://southernmontessori.sa.edu.au/event/after-school-drama-program/2024-05-02/
LOCATION:Southern Montessori School\, 53 Galloway Road\, O'Sullivan Beach\, South Australia\, 5166\, Australia
END:VEVENT
BEGIN:VEVENT
DTSTART;VALUE=DATE:20240502
DTEND;VALUE=DATE:20240503
DTSTAMP:20260422T095400
CREATED:20240422T041914Z
LAST-MODIFIED:20240422T041914Z
UID:3403-1714608000-1714694399@southernmontessori.sa.edu.au
SUMMARY:Cycle 3: Bike Ed Program
DESCRIPTION:Please refer to Consent2Go for more information.
URL:https://southernmontessori.sa.edu.au/event/cycle-3-bike-ed-program/
LOCATION:Southern Montessori School\, 53 Galloway Road\, O'Sullivan Beach\, South Australia\, 5166\, Australia
END:VEVENT
BEGIN:VEVENT
DTSTART;TZID=Australia/Adelaide:20240501T153000
DTEND;TZID=Australia/Adelaide:20240501T163000
DTSTAMP:20260422T095400
CREATED:20240422T041137Z
LAST-MODIFIED:20240422T041137Z
UID:3367-1714577400-1714581000@southernmontessori.sa.edu.au
SUMMARY:Senior Choir (Year 3 - 6)
DESCRIPTION:
URL:https://southernmontessori.sa.edu.au/event/senior-choir-year-3-6-2/2024-05-01/
LOCATION:Southern Montessori School\, 53 Galloway Road\, O'Sullivan Beach\, South Australia\, 5166\, Australia
END:VEVENT
BEGIN:VEVENT
DTSTART;VALUE=DATE:20240430
DTEND;VALUE=DATE:20240501
DTSTAMP:20260422T095400
CREATED:20240422T052230Z
LAST-MODIFIED:20240422T052230Z
UID:3491-1714435200-1714521599@southernmontessori.sa.edu.au
SUMMARY:First Day of Term 2
DESCRIPTION:Primary and Middle School Students
URL:https://southernmontessori.sa.edu.au/event/first-day-of-term-2-2/
END:VEVENT
BEGIN:VEVENT
DTSTART;VALUE=DATE:20240429
DTEND;VALUE=DATE:20240430
DTSTAMP:20260422T095400
CREATED:20240422T052132Z
LAST-MODIFIED:20240422T052132Z
UID:3487-1714348800-1714435199@southernmontessori.sa.edu.au
SUMMARY:Staff Professional Development Day
DESCRIPTION:Primary and Middle School Staff
URL:https://southernmontessori.sa.edu.au/event/staff-professional-development-day-2/
END:VEVENT
BEGIN:VEVENT
DTSTART;VALUE=DATE:20240429
DTEND;VALUE=DATE:20240430
DTSTAMP:20260422T095400
CREATED:20240422T052059Z
LAST-MODIFIED:20240422T052059Z
UID:3483-1714348800-1714435199@southernmontessori.sa.edu.au
SUMMARY:Pupil Free Day: Primary School and Middle School Students
DESCRIPTION:Preschool will be operating as per usual.
URL:https://southernmontessori.sa.edu.au/event/pupil-free-day-primary-school-and-middle-school-students/
END:VEVENT
BEGIN:VEVENT
DTSTART;TZID=Australia/Adelaide:20240408T080000
DTEND;TZID=Australia/Adelaide:20240412T170000
DTSTAMP:20260422T095400
CREATED:20240115T001438Z
LAST-MODIFIED:20240115T001438Z
UID:3231-1712563200-1712941200@southernmontessori.sa.edu.au
SUMMARY:Swimming: Reception - Year 4
DESCRIPTION:Please refer to your Consent2Go Invitation for more information.
URL:https://southernmontessori.sa.edu.au/event/swimming-reception-year-4/
END:VEVENT
BEGIN:VEVENT
DTSTART;VALUE=DATE:20240405
DTEND;VALUE=DATE:20240406
DTSTAMP:20260422T095400
CREATED:20240115T001935Z
LAST-MODIFIED:20240326T013637Z
UID:3239-1712275200-1712361599@southernmontessori.sa.edu.au
SUMMARY:Primary School Assembly
DESCRIPTION:
URL:https://southernmontessori.sa.edu.au/event/primary-school-assembly-8/
END:VEVENT
BEGIN:VEVENT
DTSTART;VALUE=DATE:20240402
DTEND;VALUE=DATE:20240406
DTSTAMP:20260422T095400
CREATED:20240116T025647Z
LAST-MODIFIED:20240116T025647Z
UID:3263-1712016000-1712361599@southernmontessori.sa.edu.au
SUMMARY:Primary School - Tennis
DESCRIPTION:Please refer to your Consent2Go invitation for more information.
URL:https://southernmontessori.sa.edu.au/event/primary-school-tennis-2/
END:VEVENT
BEGIN:VEVENT
DTSTART;VALUE=DATE:20240402
DTEND;VALUE=DATE:20240406
DTSTAMP:20260422T095400
CREATED:20240116T025426Z
LAST-MODIFIED:20240116T025426Z
UID:3255-1712016000-1712361599@southernmontessori.sa.edu.au
SUMMARY:Learning Conversations
DESCRIPTION:
URL:https://southernmontessori.sa.edu.au/event/learning-conversations-8/
END:VEVENT
BEGIN:VEVENT
DTSTART;VALUE=DATE:20240401
DTEND;VALUE=DATE:20240402
DTSTAMP:20260422T095400
CREATED:20240115T001149Z
LAST-MODIFIED:20240115T001149Z
UID:3227-1711929600-1712015999@southernmontessori.sa.edu.au
SUMMARY:PUBLIC HOLIDAY: Easter Monday
DESCRIPTION:
URL:https://southernmontessori.sa.edu.au/event/public-holiday-easter-monday-2/
END:VEVENT
BEGIN:VEVENT
DTSTART;VALUE=DATE:20240329
DTEND;VALUE=DATE:20240330
DTSTAMP:20260422T095400
CREATED:20240115T001122Z
LAST-MODIFIED:20240115T001122Z
UID:3223-1711670400-1711756799@southernmontessori.sa.edu.au
SUMMARY:PUBLIC HOLIDAY: Good Friday
DESCRIPTION:
URL:https://southernmontessori.sa.edu.au/event/public-holiday-good-friday-2/
END:VEVENT
BEGIN:VEVENT
DTSTART;VALUE=DATE:20240326
DTEND;VALUE=DATE:20240327
DTSTAMP:20260422T095400
CREATED:20240215T042551Z
LAST-MODIFIED:20240215T042551Z
UID:3287-1711411200-1711497599@southernmontessori.sa.edu.au
SUMMARY:Sporting Schools - Volleyball (Rec - Year 2)
DESCRIPTION:Please refer to Consent2Go for more information.
URL:https://southernmontessori.sa.edu.au/event/sporting-schools-volleyball-rec-year-2-2/2024-03-26/
LOCATION:Southern Montessori School\, 53 Galloway Road\, O'Sullivan Beach\, South Australia\, 5166\, Australia
END:VEVENT
BEGIN:VEVENT
DTSTART;VALUE=DATE:20240325
DTEND;VALUE=DATE:20240329
DTSTAMP:20260422T095400
CREATED:20240116T025524Z
LAST-MODIFIED:20240116T025524Z
UID:3259-1711324800-1711670399@southernmontessori.sa.edu.au
SUMMARY:Primary School - Tennis
DESCRIPTION:Please refer to your Consent2Go invitation for more information.
URL:https://southernmontessori.sa.edu.au/event/primary-school-tennis/
END:VEVENT
BEGIN:VEVENT
DTSTART;VALUE=DATE:20240325
DTEND;VALUE=DATE:20240329
DTSTAMP:20260422T095400
CREATED:20240116T025358Z
LAST-MODIFIED:20240116T025358Z
UID:3251-1711324800-1711670399@southernmontessori.sa.edu.au
SUMMARY:Learning Conversations
DESCRIPTION:
URL:https://southernmontessori.sa.edu.au/event/learning-conversations-7/
END:VEVENT
BEGIN:VEVENT
DTSTART;VALUE=DATE:20240322
DTEND;VALUE=DATE:20240323
DTSTAMP:20260422T095400
CREATED:20240115T002130Z
LAST-MODIFIED:20240115T002130Z
UID:3243-1711065600-1711151999@southernmontessori.sa.edu.au
SUMMARY:Primary School Assembly
DESCRIPTION:
URL:https://southernmontessori.sa.edu.au/event/primary-school-assembly-9/
END:VEVENT
BEGIN:VEVENT
DTSTART;VALUE=DATE:20240322
DTEND;VALUE=DATE:20240323
DTSTAMP:20260422T095400
CREATED:20240115T001023Z
LAST-MODIFIED:20240115T001023Z
UID:3219-1711065600-1711151999@southernmontessori.sa.edu.au
SUMMARY:National Ride2School Day
DESCRIPTION:
URL:https://southernmontessori.sa.edu.au/event/national-ride2school-day/
END:VEVENT
BEGIN:VEVENT
DTSTART;TZID=Australia/Adelaide:20240321T190000
DTEND;TZID=Australia/Adelaide:20240321T210000
DTSTAMP:20260422T095400
CREATED:20240115T000951Z
LAST-MODIFIED:20240115T000951Z
UID:3215-1711047600-1711054800@southernmontessori.sa.edu.au
SUMMARY:Board Meeting
DESCRIPTION:
URL:https://southernmontessori.sa.edu.au/event/board-meeting-7/
END:VEVENT
BEGIN:VEVENT
DTSTART;VALUE=DATE:20240321
DTEND;VALUE=DATE:20240322
DTSTAMP:20260422T095400
CREATED:20240115T000425Z
LAST-MODIFIED:20240115T000425Z
UID:3211-1710979200-1711065599@southernmontessori.sa.edu.au
SUMMARY:Harmony Day
DESCRIPTION:
URL:https://southernmontessori.sa.edu.au/event/harmony-day/
END:VEVENT
BEGIN:VEVENT
DTSTART;VALUE=DATE:20240319
DTEND;VALUE=DATE:20240320
DTSTAMP:20260422T095400
CREATED:20240115T000252Z
LAST-MODIFIED:20240115T000252Z
UID:3207-1710806400-1710892799@southernmontessori.sa.edu.au
SUMMARY:Aquatics: Year 5 - 9
DESCRIPTION:Please refer to your Consent2Go Invitation for more information.
URL:https://southernmontessori.sa.edu.au/event/aquatics-year-5-9/
END:VEVENT
BEGIN:VEVENT
DTSTART;VALUE=DATE:20240318
DTEND;VALUE=DATE:20240323
DTSTAMP:20260422T095400
CREATED:20240116T025319Z
LAST-MODIFIED:20240116T025319Z
UID:3247-1710720000-1711151999@southernmontessori.sa.edu.au
SUMMARY:Open Classrooms
DESCRIPTION:
URL:https://southernmontessori.sa.edu.au/event/open-classrooms-4/
END:VEVENT
BEGIN:VEVENT
DTSTART;VALUE=DATE:20240313
DTEND;VALUE=DATE:20240326
DTSTAMP:20260422T095400
CREATED:20240115T000134Z
LAST-MODIFIED:20240115T000134Z
UID:3203-1710288000-1711411199@southernmontessori.sa.edu.au
SUMMARY:NAPLAN
DESCRIPTION:
URL:https://southernmontessori.sa.edu.au/event/naplan-3/
END:VEVENT
BEGIN:VEVENT
DTSTART;VALUE=DATE:20240312
DTEND;VALUE=DATE:20240313
DTSTAMP:20260422T095400
CREATED:20240215T042411Z
LAST-MODIFIED:20240215T042411Z
UID:3283-1710201600-1710287999@southernmontessori.sa.edu.au
SUMMARY:Sporting Schools - Volleyball (Rec - Year 2)
DESCRIPTION:Please refer to Consent2Go for more information.
URL:https://southernmontessori.sa.edu.au/event/sporting-schools-volleyball-rec-year-2/
LOCATION:Southern Montessori School\, 53 Galloway Road\, O'Sullivan Beach\, South Australia\, 5166\, Australia
END:VEVENT
END:VCALENDAR