BEGIN:VCALENDAR
VERSION:2.0
PRODID:-//Southern Montessori School - ECPv6.15.16//NONSGML v1.0//EN
CALSCALE:GREGORIAN
METHOD:PUBLISH
X-WR-CALNAME:Southern Montessori School
X-ORIGINAL-URL:https://southernmontessori.sa.edu.au
X-WR-CALDESC:Events for Southern Montessori School
REFRESH-INTERVAL;VALUE=DURATION:PT1H
X-Robots-Tag:noindex
X-PUBLISHED-TTL:PT1H
BEGIN:VTIMEZONE
TZID:Australia/Adelaide
BEGIN:STANDARD
TZOFFSETFROM:+1030
TZOFFSETTO:+0930
TZNAME:ACST
DTSTART:20230401T163000
END:STANDARD
BEGIN:DAYLIGHT
TZOFFSETFROM:+0930
TZOFFSETTO:+1030
TZNAME:ACDT
DTSTART:20230930T163000
END:DAYLIGHT
BEGIN:STANDARD
TZOFFSETFROM:+1030
TZOFFSETTO:+0930
TZNAME:ACST
DTSTART:20240406T163000
END:STANDARD
BEGIN:DAYLIGHT
TZOFFSETFROM:+0930
TZOFFSETTO:+1030
TZNAME:ACDT
DTSTART:20241005T163000
END:DAYLIGHT
BEGIN:STANDARD
TZOFFSETFROM:+1030
TZOFFSETTO:+0930
TZNAME:ACST
DTSTART:20250405T163000
END:STANDARD
BEGIN:DAYLIGHT
TZOFFSETFROM:+0930
TZOFFSETTO:+1030
TZNAME:ACDT
DTSTART:20251004T163000
END:DAYLIGHT
END:VTIMEZONE
BEGIN:VEVENT
DTSTART;TZID=Australia/Adelaide:20240620T190000
DTEND;TZID=Australia/Adelaide:20240620T210000
DTSTAMP:20260421T183501
CREATED:20240422T051324Z
LAST-MODIFIED:20240422T051324Z
UID:3471-1718910000-1718917200@southernmontessori.sa.edu.au
SUMMARY:Board Meeting
DESCRIPTION:
URL:https://southernmontessori.sa.edu.au/event/board-meeting-9/
LOCATION:Southern Montessori School\, 53 Galloway Road\, O'Sullivan Beach\, South Australia\, 5166\, Australia
END:VEVENT
BEGIN:VEVENT
DTSTART;TZID=Australia/Adelaide:20240620T153000
DTEND;TZID=Australia/Adelaide:20240620T163000
DTSTAMP:20260421T183501
CREATED:20240422T041705Z
LAST-MODIFIED:20240422T041705Z
UID:3400-1718897400-1718901000@southernmontessori.sa.edu.au
SUMMARY:After School Drama Program
DESCRIPTION:Please refer to Consent2Go for more information.
URL:https://southernmontessori.sa.edu.au/event/after-school-drama-program/2024-06-20/
LOCATION:Southern Montessori School\, 53 Galloway Road\, O'Sullivan Beach\, South Australia\, 5166\, Australia
END:VEVENT
BEGIN:VEVENT
DTSTART;TZID=Australia/Adelaide:20240619T153000
DTEND;TZID=Australia/Adelaide:20240619T163000
DTSTAMP:20260421T183501
CREATED:20240422T041137Z
LAST-MODIFIED:20240422T041137Z
UID:3376-1718811000-1718814600@southernmontessori.sa.edu.au
SUMMARY:Senior Choir (Year 3 - 6)
DESCRIPTION:
URL:https://southernmontessori.sa.edu.au/event/senior-choir-year-3-6-2/2024-06-19/
LOCATION:Southern Montessori School\, 53 Galloway Road\, O'Sullivan Beach\, South Australia\, 5166\, Australia
END:VEVENT
BEGIN:VEVENT
DTSTART;VALUE=DATE:20240619
DTEND;VALUE=DATE:20240620
DTSTAMP:20260421T183501
CREATED:20240422T042230Z
LAST-MODIFIED:20240422T042230Z
UID:3411-1718755200-1718841599@southernmontessori.sa.edu.au
SUMMARY:Cycle 3: Bike Ed Program
DESCRIPTION:Please refer to Consent2Go for more information.
URL:https://southernmontessori.sa.edu.au/event/cycle-3-bike-ed-program-2/2024-06-19/
LOCATION:Southern Montessori School\, 53 Galloway Road\, O'Sullivan Beach\, South Australia\, 5166\, Australia
END:VEVENT
BEGIN:VEVENT
DTSTART;VALUE=DATE:20240617
DTEND;VALUE=DATE:20240622
DTSTAMP:20260421T183501
CREATED:20240422T051212Z
LAST-MODIFIED:20240422T051212Z
UID:3467-1718582400-1719014399@southernmontessori.sa.edu.au
SUMMARY:Act for Peace: Ration Challenge
DESCRIPTION:
URL:https://southernmontessori.sa.edu.au/event/act-for-peace-ration-challenge/
END:VEVENT
BEGIN:VEVENT
DTSTART;TZID=Australia/Adelaide:20240614T143000
DTEND;TZID=Australia/Adelaide:20240614T150000
DTSTAMP:20260421T183501
CREATED:20240422T050833Z
LAST-MODIFIED:20240422T050833Z
UID:3451-1718375400-1718377200@southernmontessori.sa.edu.au
SUMMARY:Primary School Assembly
DESCRIPTION:Middle School
URL:https://southernmontessori.sa.edu.au/event/primary-school-assembly-11/
LOCATION:Southern Montessori School\, 53 Galloway Road\, O'Sullivan Beach\, South Australia\, 5166\, Australia
END:VEVENT
BEGIN:VEVENT
DTSTART;TZID=Australia/Adelaide:20240614T124500
DTEND;TZID=Australia/Adelaide:20240614T131500
DTSTAMP:20260421T183501
CREATED:20240422T041241Z
LAST-MODIFIED:20240422T041241Z
UID:3387-1718369100-1718370900@southernmontessori.sa.edu.au
SUMMARY:Junior Choir (Year 1 - 3)
DESCRIPTION:
URL:https://southernmontessori.sa.edu.au/event/junior-choir-year-1-3-2/2024-06-14/
LOCATION:Southern Montessori School\, 53 Galloway Road\, O'Sullivan Beach\, South Australia\, 5166\, Australia
END:VEVENT
BEGIN:VEVENT
DTSTART;TZID=Australia/Adelaide:20240613T153000
DTEND;TZID=Australia/Adelaide:20240613T163000
DTSTAMP:20260421T183501
CREATED:20240422T041705Z
LAST-MODIFIED:20240422T041705Z
UID:3399-1718292600-1718296200@southernmontessori.sa.edu.au
SUMMARY:After School Drama Program
DESCRIPTION:Please refer to Consent2Go for more information.
URL:https://southernmontessori.sa.edu.au/event/after-school-drama-program/2024-06-13/
LOCATION:Southern Montessori School\, 53 Galloway Road\, O'Sullivan Beach\, South Australia\, 5166\, Australia
END:VEVENT
BEGIN:VEVENT
DTSTART;TZID=Australia/Adelaide:20240612T153000
DTEND;TZID=Australia/Adelaide:20240612T163000
DTSTAMP:20260421T183501
CREATED:20240422T041137Z
LAST-MODIFIED:20240422T041137Z
UID:3375-1718206200-1718209800@southernmontessori.sa.edu.au
SUMMARY:Senior Choir (Year 3 - 6)
DESCRIPTION:
URL:https://southernmontessori.sa.edu.au/event/senior-choir-year-3-6-2/2024-06-12/
LOCATION:Southern Montessori School\, 53 Galloway Road\, O'Sullivan Beach\, South Australia\, 5166\, Australia
END:VEVENT
BEGIN:VEVENT
DTSTART;VALUE=DATE:20240612
DTEND;VALUE=DATE:20240613
DTSTAMP:20260421T183501
CREATED:20240422T042230Z
LAST-MODIFIED:20240422T042230Z
UID:3410-1718150400-1718236799@southernmontessori.sa.edu.au
SUMMARY:Cycle 3: Bike Ed Program
DESCRIPTION:Please refer to Consent2Go for more information.
URL:https://southernmontessori.sa.edu.au/event/cycle-3-bike-ed-program-2/2024-06-12/
LOCATION:Southern Montessori School\, 53 Galloway Road\, O'Sullivan Beach\, South Australia\, 5166\, Australia
END:VEVENT
BEGIN:VEVENT
DTSTART;TZID=Australia/Adelaide:20240611T080000
DTEND;TZID=Australia/Adelaide:20240611T150000
DTSTAMP:20260421T183501
CREATED:20240502T223715Z
LAST-MODIFIED:20240502T223857Z
UID:3507-1718092800-1718118000@southernmontessori.sa.edu.au
SUMMARY:Cycle 3 STEM visit to Middle School - 8.30am – 3.00pm
DESCRIPTION:Cycle 3 STEM visit to Middle School – 8.30am – 3.00pm
URL:https://southernmontessori.sa.edu.au/event/cycle-3-stem-visit-to-middle-school-8-30am-3-00pm/
END:VEVENT
BEGIN:VEVENT
DTSTART;VALUE=DATE:20240610
DTEND;VALUE=DATE:20240611
DTSTAMP:20260421T183501
CREATED:20240429T002242Z
LAST-MODIFIED:20240429T002242Z
UID:3499-1717977600-1718063999@southernmontessori.sa.edu.au
SUMMARY:Public Holidays - King's Birthday
DESCRIPTION:Public Holidays – King’s Birthday
URL:https://southernmontessori.sa.edu.au/event/public-holidays-kings-birthday/
END:VEVENT
BEGIN:VEVENT
DTSTART;TZID=Australia/Adelaide:20240607T124500
DTEND;TZID=Australia/Adelaide:20240607T131500
DTSTAMP:20260421T183501
CREATED:20240422T041241Z
LAST-MODIFIED:20240422T041241Z
UID:3386-1717764300-1717766100@southernmontessori.sa.edu.au
SUMMARY:Junior Choir (Year 1 - 3)
DESCRIPTION:
URL:https://southernmontessori.sa.edu.au/event/junior-choir-year-1-3-2/2024-06-07/
LOCATION:Southern Montessori School\, 53 Galloway Road\, O'Sullivan Beach\, South Australia\, 5166\, Australia
END:VEVENT
BEGIN:VEVENT
DTSTART;TZID=Australia/Adelaide:20240606T153000
DTEND;TZID=Australia/Adelaide:20240606T163000
DTSTAMP:20260421T183501
CREATED:20240422T041705Z
LAST-MODIFIED:20240422T041705Z
UID:3398-1717687800-1717691400@southernmontessori.sa.edu.au
SUMMARY:After School Drama Program
DESCRIPTION:Please refer to Consent2Go for more information.
URL:https://southernmontessori.sa.edu.au/event/after-school-drama-program/2024-06-06/
LOCATION:Southern Montessori School\, 53 Galloway Road\, O'Sullivan Beach\, South Australia\, 5166\, Australia
END:VEVENT
BEGIN:VEVENT
DTSTART;TZID=Australia/Adelaide:20240606T080000
DTEND;TZID=Australia/Adelaide:20240606T150000
DTSTAMP:20260421T183501
CREATED:20240502T224201Z
LAST-MODIFIED:20240502T224201Z
UID:3516-1717660800-1717686000@southernmontessori.sa.edu.au
SUMMARY:Cycle 3 STEM visit to Middle School – 8.30am – 3.00pm
DESCRIPTION:Cycle 3 STEM visit to Middle School – 8.30am – 3.00pm
URL:https://southernmontessori.sa.edu.au/event/cycle-3-stem-visit-to-middle-school-8-30am-3-00pm-3/
END:VEVENT
BEGIN:VEVENT
DTSTART;TZID=Australia/Adelaide:20240605T153000
DTEND;TZID=Australia/Adelaide:20240605T163000
DTSTAMP:20260421T183501
CREATED:20240422T041137Z
LAST-MODIFIED:20240422T041137Z
UID:3374-1717601400-1717605000@southernmontessori.sa.edu.au
SUMMARY:Senior Choir (Year 3 - 6)
DESCRIPTION:
URL:https://southernmontessori.sa.edu.au/event/senior-choir-year-3-6-2/2024-06-05/
LOCATION:Southern Montessori School\, 53 Galloway Road\, O'Sullivan Beach\, South Australia\, 5166\, Australia
END:VEVENT
BEGIN:VEVENT
DTSTART;VALUE=DATE:20240605
DTEND;VALUE=DATE:20240606
DTSTAMP:20260421T183501
CREATED:20240422T042230Z
LAST-MODIFIED:20240422T042230Z
UID:3407-1717545600-1717631999@southernmontessori.sa.edu.au
SUMMARY:Cycle 3: Bike Ed Program
DESCRIPTION:Please refer to Consent2Go for more information.
URL:https://southernmontessori.sa.edu.au/event/cycle-3-bike-ed-program-2/2024-06-05/
LOCATION:Southern Montessori School\, 53 Galloway Road\, O'Sullivan Beach\, South Australia\, 5166\, Australia
END:VEVENT
BEGIN:VEVENT
DTSTART;TZID=Australia/Adelaide:20240604T080000
DTEND;TZID=Australia/Adelaide:20240604T150000
DTSTAMP:20260421T183501
CREATED:20240502T224120Z
LAST-MODIFIED:20240502T224120Z
UID:3512-1717488000-1717513200@southernmontessori.sa.edu.au
SUMMARY:Cycle 3 STEM visit to Middle School – 8.30am – 3.00pm
DESCRIPTION:Cycle 3 STEM visit to Middle School – 8.30am – 3.00pm
URL:https://southernmontessori.sa.edu.au/event/cycle-3-stem-visit-to-middle-school-8-30am-3-00pm-2/
END:VEVENT
BEGIN:VEVENT
DTSTART;TZID=Australia/Adelaide:20240531T124500
DTEND;TZID=Australia/Adelaide:20240531T131500
DTSTAMP:20260421T183501
CREATED:20240422T041241Z
LAST-MODIFIED:20240422T041241Z
UID:3385-1717159500-1717161300@southernmontessori.sa.edu.au
SUMMARY:Junior Choir (Year 1 - 3)
DESCRIPTION:
URL:https://southernmontessori.sa.edu.au/event/junior-choir-year-1-3-2/2024-05-31/
LOCATION:Southern Montessori School\, 53 Galloway Road\, O'Sullivan Beach\, South Australia\, 5166\, Australia
END:VEVENT
BEGIN:VEVENT
DTSTART;TZID=Australia/Adelaide:20240530T190000
DTEND;TZID=Australia/Adelaide:20240530T193000
DTSTAMP:20260421T183501
CREATED:20240422T051041Z
LAST-MODIFIED:20240422T051041Z
UID:3463-1717095600-1717097400@southernmontessori.sa.edu.au
SUMMARY:Annual General Meeting (AGM)
DESCRIPTION:Via Zoom.
URL:https://southernmontessori.sa.edu.au/event/annual-general-meeting-agm/
END:VEVENT
BEGIN:VEVENT
DTSTART;TZID=Australia/Adelaide:20240530T153000
DTEND;TZID=Australia/Adelaide:20240530T163000
DTSTAMP:20260421T183501
CREATED:20240422T041705Z
LAST-MODIFIED:20240422T041705Z
UID:3397-1717083000-1717086600@southernmontessori.sa.edu.au
SUMMARY:After School Drama Program
DESCRIPTION:Please refer to Consent2Go for more information.
URL:https://southernmontessori.sa.edu.au/event/after-school-drama-program/2024-05-30/
LOCATION:Southern Montessori School\, 53 Galloway Road\, O'Sullivan Beach\, South Australia\, 5166\, Australia
END:VEVENT
BEGIN:VEVENT
DTSTART;TZID=Australia/Adelaide:20240529T153000
DTEND;TZID=Australia/Adelaide:20240529T163000
DTSTAMP:20260421T183501
CREATED:20240422T041137Z
LAST-MODIFIED:20240422T041137Z
UID:3373-1716996600-1717000200@southernmontessori.sa.edu.au
SUMMARY:Senior Choir (Year 3 - 6)
DESCRIPTION:
URL:https://southernmontessori.sa.edu.au/event/senior-choir-year-3-6-2/2024-05-29/
LOCATION:Southern Montessori School\, 53 Galloway Road\, O'Sullivan Beach\, South Australia\, 5166\, Australia
END:VEVENT
BEGIN:VEVENT
DTSTART;VALUE=DATE:20240526
DTEND;VALUE=DATE:20240527
DTSTAMP:20260421T183501
CREATED:20240422T050953Z
LAST-MODIFIED:20240422T050953Z
UID:3459-1716681600-1716767999@southernmontessori.sa.edu.au
SUMMARY:National Sorry Day
DESCRIPTION:
URL:https://southernmontessori.sa.edu.au/event/national-sorry-day-3/
END:VEVENT
BEGIN:VEVENT
DTSTART;TZID=Australia/Adelaide:20240524T143000
DTEND;TZID=Australia/Adelaide:20240524T150000
DTSTAMP:20260421T183501
CREATED:20240422T050737Z
LAST-MODIFIED:20240422T050737Z
UID:3446-1716561000-1716562800@southernmontessori.sa.edu.au
SUMMARY:Primary School Assembly
DESCRIPTION:Emus: Room 6 – Kristy
URL:https://southernmontessori.sa.edu.au/event/primary-school-assembly-10/
LOCATION:Southern Montessori School\, 53 Galloway Road\, O'Sullivan Beach\, South Australia\, 5166\, Australia
END:VEVENT
BEGIN:VEVENT
DTSTART;TZID=Australia/Adelaide:20240524T124500
DTEND;TZID=Australia/Adelaide:20240524T131500
DTSTAMP:20260421T183501
CREATED:20240422T041241Z
LAST-MODIFIED:20240422T041241Z
UID:3384-1716554700-1716556500@southernmontessori.sa.edu.au
SUMMARY:Junior Choir (Year 1 - 3)
DESCRIPTION:
URL:https://southernmontessori.sa.edu.au/event/junior-choir-year-1-3-2/2024-05-24/
LOCATION:Southern Montessori School\, 53 Galloway Road\, O'Sullivan Beach\, South Australia\, 5166\, Australia
END:VEVENT
BEGIN:VEVENT
DTSTART;VALUE=DATE:20240524
DTEND;VALUE=DATE:20240525
DTSTAMP:20260421T183501
CREATED:20240422T050549Z
LAST-MODIFIED:20240422T050549Z
UID:3442-1716508800-1716595199@southernmontessori.sa.edu.au
SUMMARY:Cycle 3: Year 5 and 6 Rugby
DESCRIPTION:Please refer to your Consent2Go invitation for more information.
URL:https://southernmontessori.sa.edu.au/event/cycle-3-year-5-and-6-rugby/
END:VEVENT
BEGIN:VEVENT
DTSTART;TZID=Australia/Adelaide:20240523T153000
DTEND;TZID=Australia/Adelaide:20240523T163000
DTSTAMP:20260421T183501
CREATED:20240422T041705Z
LAST-MODIFIED:20240422T041705Z
UID:3396-1716478200-1716481800@southernmontessori.sa.edu.au
SUMMARY:After School Drama Program
DESCRIPTION:Please refer to Consent2Go for more information.
URL:https://southernmontessori.sa.edu.au/event/after-school-drama-program/2024-05-23/
LOCATION:Southern Montessori School\, 53 Galloway Road\, O'Sullivan Beach\, South Australia\, 5166\, Australia
END:VEVENT
BEGIN:VEVENT
DTSTART;TZID=Australia/Adelaide:20240523T090000
DTEND;TZID=Australia/Adelaide:20240523T100000
DTSTAMP:20260421T183501
CREATED:20240422T050455Z
LAST-MODIFIED:20240422T050455Z
UID:3438-1716454800-1716458400@southernmontessori.sa.edu.au
SUMMARY:Coffee with a Dash of Montessori
DESCRIPTION:Please refer to School Stream for more information about this session.
URL:https://southernmontessori.sa.edu.au/event/coffee-with-a-dash-of-montessori-6/
LOCATION:Southern Montessori School\, 53 Galloway Road\, O'Sullivan Beach\, South Australia\, 5166\, Australia
END:VEVENT
BEGIN:VEVENT
DTSTART;VALUE=DATE:20240523
DTEND;VALUE=DATE:20240524
DTSTAMP:20260421T183501
CREATED:20240422T050404Z
LAST-MODIFIED:20240422T050404Z
UID:3434-1716422400-1716508799@southernmontessori.sa.edu.au
SUMMARY:Biggest Morning Tea
DESCRIPTION:
URL:https://southernmontessori.sa.edu.au/event/biggest-morning-tea-3/
END:VEVENT
BEGIN:VEVENT
DTSTART;TZID=Australia/Adelaide:20240522T181500
DTEND;TZID=Australia/Adelaide:20240522T203000
DTSTAMP:20260421T183501
CREATED:20240429T002136Z
LAST-MODIFIED:20240429T002348Z
UID:3495-1716401700-1716409800@southernmontessori.sa.edu.au
SUMMARY:Buckskin - A film about Jack -Mitcham Cinema- 6:15 pm - 8:30 pm
DESCRIPTION:Buckskin – A film about Jack 6:15 pm – 8:30 pm \nMitcham Cinema
URL:https://southernmontessori.sa.edu.au/event/buckskin-a-film-about-jack-mitcham-cinema-615-pm-830-pm/
END:VEVENT
END:VCALENDAR