BEGIN:VCALENDAR
VERSION:2.0
PRODID:-//Southern Montessori School - ECPv6.15.16//NONSGML v1.0//EN
CALSCALE:GREGORIAN
METHOD:PUBLISH
X-WR-CALNAME:Southern Montessori School
X-ORIGINAL-URL:https://southernmontessori.sa.edu.au
X-WR-CALDESC:Events for Southern Montessori School
REFRESH-INTERVAL;VALUE=DURATION:PT1H
X-Robots-Tag:noindex
X-PUBLISHED-TTL:PT1H
BEGIN:VTIMEZONE
TZID:Australia/Adelaide
BEGIN:STANDARD
TZOFFSETFROM:+1030
TZOFFSETTO:+0930
TZNAME:ACST
DTSTART:20230401T163000
END:STANDARD
BEGIN:DAYLIGHT
TZOFFSETFROM:+0930
TZOFFSETTO:+1030
TZNAME:ACDT
DTSTART:20230930T163000
END:DAYLIGHT
BEGIN:STANDARD
TZOFFSETFROM:+1030
TZOFFSETTO:+0930
TZNAME:ACST
DTSTART:20240406T163000
END:STANDARD
BEGIN:DAYLIGHT
TZOFFSETFROM:+0930
TZOFFSETTO:+1030
TZNAME:ACDT
DTSTART:20241005T163000
END:DAYLIGHT
BEGIN:STANDARD
TZOFFSETFROM:+1030
TZOFFSETTO:+0930
TZNAME:ACST
DTSTART:20250405T163000
END:STANDARD
BEGIN:DAYLIGHT
TZOFFSETFROM:+0930
TZOFFSETTO:+1030
TZNAME:ACDT
DTSTART:20251004T163000
END:DAYLIGHT
END:VTIMEZONE
BEGIN:VEVENT
DTSTART;TZID=Australia/Adelaide:20241202T133000
DTEND;TZID=Australia/Adelaide:20241202T143000
DTSTAMP:20260423T224308
CREATED:20240919T233215Z
LAST-MODIFIED:20240925T014928Z
UID:3718-1733146200-1733149800@southernmontessori.sa.edu.au
SUMMARY:Reception & Year 3 Transition Visit 1:30pm - 2:30pm
DESCRIPTION:Reception & Year 3 Transition Visit 1:30 pm – 2:30 pm
URL:https://southernmontessori.sa.edu.au/event/reception-year-3-transition-visit-130pm-230pm/
LOCATION:South Australia
END:VEVENT
BEGIN:VEVENT
DTSTART;TZID=Australia/Adelaide:20241129T170000
DTEND;TZID=Australia/Adelaide:20241129T183000
DTSTAMP:20260423T224308
CREATED:20240919T233108Z
LAST-MODIFIED:20240919T233108Z
UID:3714-1732899600-1732905000@southernmontessori.sa.edu.au
SUMMARY:Parent Event: Preschool Celebration Picnic
DESCRIPTION:Parent Event: Preschool Celebration Picnic
URL:https://southernmontessori.sa.edu.au/event/parent-event-preschool-celebration-picnic/
LOCATION:South Australia
END:VEVENT
BEGIN:VEVENT
DTSTART;VALUE=DATE:20241129
DTEND;VALUE=DATE:20241130
DTSTAMP:20260423T224308
CREATED:20240919T233006Z
LAST-MODIFIED:20240919T233006Z
UID:3710-1732838400-1732924799@southernmontessori.sa.edu.au
SUMMARY:Year 6 Transition to Middle School
DESCRIPTION:Year 6 Transition to Middle School
URL:https://southernmontessori.sa.edu.au/event/year-6-transition-to-middle-school/
LOCATION:South Australia
END:VEVENT
BEGIN:VEVENT
DTSTART;TZID=Australia/Adelaide:20241128T190000
DTEND;TZID=Australia/Adelaide:20241128T210000
DTSTAMP:20260423T224308
CREATED:20240919T232916Z
LAST-MODIFIED:20240919T232916Z
UID:3706-1732820400-1732827600@southernmontessori.sa.edu.au
SUMMARY:Board Meeting 7.00pm
DESCRIPTION:Board Meeting 7.00pm
URL:https://southernmontessori.sa.edu.au/event/board-meeting-7-00pm-2/
LOCATION:South Australia
END:VEVENT
BEGIN:VEVENT
DTSTART;TZID=Australia/Adelaide:20241128T090000
DTEND;TZID=Australia/Adelaide:20241128T103000
DTSTAMP:20260423T224308
CREATED:20240919T232806Z
LAST-MODIFIED:20240925T014843Z
UID:3698-1732784400-1732789800@southernmontessori.sa.edu.au
SUMMARY:Reception & Year 3 Transition Visit 9:00am - 10:30am
DESCRIPTION:Reception & Year 3 Transition Visit 9:00am – 10:30am
URL:https://southernmontessori.sa.edu.au/event/reception-year-3-transition-visit-900am-1000am/
LOCATION:South Australia
END:VEVENT
BEGIN:VEVENT
DTSTART;VALUE=DATE:20241128
DTEND;VALUE=DATE:20241129
DTSTAMP:20260423T224308
CREATED:20240919T232846Z
LAST-MODIFIED:20240919T232846Z
UID:3702-1732752000-1732838399@southernmontessori.sa.edu.au
SUMMARY:Cycle 3 Excursion: Yr 6's - Community Service at Wakefield House - Renee's Class
DESCRIPTION:Cycle 3 Excursion: Yr 6’s – Community Service at Wakefield House – Renee’s Class
URL:https://southernmontessori.sa.edu.au/event/cycle-3-excursion-yr-6s-community-service-at-wakefield-house-renees-class-5/
LOCATION:South Australia
END:VEVENT
BEGIN:VEVENT
DTSTART;TZID=Australia/Adelaide:20241127T183000
DTEND;TZID=Australia/Adelaide:20241127T193000
DTSTAMP:20260423T224308
CREATED:20240919T232514Z
LAST-MODIFIED:20240919T232514Z
UID:3694-1732732200-1732735800@southernmontessori.sa.edu.au
SUMMARY:Parent Event:Welcome to the Adolescent Program Information Evening 6.30pm
DESCRIPTION:Parent Event:Welcome to the Adolescent Program Information Evening 6.30pm
URL:https://southernmontessori.sa.edu.au/event/parent-eventwelcome-to-the-adolescent-program-information-evening-6-30pm/
LOCATION:South Australia
END:VEVENT
BEGIN:VEVENT
DTSTART;TZID=Australia/Adelaide:20241126T173000
DTEND;TZID=Australia/Adelaide:20241126T190000
DTSTAMP:20260423T224308
CREATED:20240925T014310Z
LAST-MODIFIED:20240925T014310Z
UID:3786-1732642200-1732647600@southernmontessori.sa.edu.au
SUMMARY:Reception Parent Information Session 5:30pm
DESCRIPTION:Reception Parent Information Session 5:30pm
URL:https://southernmontessori.sa.edu.au/event/reception-parent-information-session-530pm/
LOCATION:South Australia
END:VEVENT
BEGIN:VEVENT
DTSTART;TZID=Australia/Adelaide:20241126T100000
DTEND;TZID=Australia/Adelaide:20241126T120000
DTSTAMP:20260423T224308
CREATED:20240919T232415Z
LAST-MODIFIED:20240919T232415Z
UID:3690-1732615200-1732622400@southernmontessori.sa.edu.au
SUMMARY:Parent Event:Volunteer Morning Tea10:00am
DESCRIPTION:Parent Event:Volunteer Morning Tea10:00am
URL:https://southernmontessori.sa.edu.au/event/parent-eventvolunteer-morning-tea1000am/
LOCATION:South Australia
END:VEVENT
BEGIN:VEVENT
DTSTART;TZID=Australia/Adelaide:20241122T083000
DTEND;TZID=Australia/Adelaide:20241122T140000
DTSTAMP:20260423T224308
CREATED:20241017T002256Z
LAST-MODIFIED:20241017T002256Z
UID:3838-1732264200-1732284000@southernmontessori.sa.edu.au
SUMMARY:NRLSA League Tag  Rugby Festival  8:30am - 2:00pm
DESCRIPTION:NRLSA League Tag Rugby Festival 8:30am – 2:00pm
URL:https://southernmontessori.sa.edu.au/event/nrlsa-league-tag-rugby-festival-830am-200pm/
LOCATION:South Australia
END:VEVENT
BEGIN:VEVENT
DTSTART;VALUE=DATE:20241122
DTEND;VALUE=DATE:20241123
DTSTAMP:20260423T224308
CREATED:20240919T232252Z
LAST-MODIFIED:20240919T232252Z
UID:3686-1732233600-1732319999@southernmontessori.sa.edu.au
SUMMARY:Class placements sent home
DESCRIPTION:Class placements sent home
URL:https://southernmontessori.sa.edu.au/event/class-placements-sent-home-2/
LOCATION:South Australia
END:VEVENT
BEGIN:VEVENT
DTSTART;VALUE=DATE:20241122
DTEND;VALUE=DATE:20241123
DTSTAMP:20260423T224308
CREATED:20240919T232040Z
LAST-MODIFIED:20240919T232040Z
UID:3682-1732233600-1732319999@southernmontessori.sa.edu.au
SUMMARY:Primary School Assembly (Michelle B Class)
DESCRIPTION:Primary School Assembly (Michelle B Class)
URL:https://southernmontessori.sa.edu.au/event/primary-school-assembly-michelle-b-class/
LOCATION:South Australia
END:VEVENT
BEGIN:VEVENT
DTSTART;VALUE=DATE:20241121
DTEND;VALUE=DATE:20241122
DTSTAMP:20260423T224308
CREATED:20240919T231859Z
LAST-MODIFIED:20240919T231859Z
UID:3678-1732147200-1732233599@southernmontessori.sa.edu.au
SUMMARY:Cycle 3 Excursion: Yr 6's - Community Service at Wakefield House - Renee's Class
DESCRIPTION:Cycle 3 Excursion: Yr 6’s – Community Service at Wakefield House – Renee’s Class
URL:https://southernmontessori.sa.edu.au/event/cycle-3-excursion-yr-6s-community-service-at-wakefield-house-renees-class-4/
LOCATION:South Australia
END:VEVENT
BEGIN:VEVENT
DTSTART;VALUE=DATE:20241120
DTEND;VALUE=DATE:20241121
DTSTAMP:20260423T224308
CREATED:20241017T002221Z
LAST-MODIFIED:20241017T002221Z
UID:3834-1732060800-1732147199@southernmontessori.sa.edu.au
SUMMARY:Junior and Senior Choir Performance at Kalyra
DESCRIPTION:Junior and Senior Choir Performance at Kalyra (Time TBA)
URL:https://southernmontessori.sa.edu.au/event/junior-and-senior-choir-performance-at-kalyra/
LOCATION:South Australia
END:VEVENT
BEGIN:VEVENT
DTSTART;VALUE=DATE:20241119
DTEND;VALUE=DATE:20241121
DTSTAMP:20260423T224308
CREATED:20240919T231810Z
LAST-MODIFIED:20240919T232204Z
UID:3674-1731974400-1732147199@southernmontessori.sa.edu.au
SUMMARY:Cycle 3 at Middle School
DESCRIPTION:Cycle 3 at Middle School
URL:https://southernmontessori.sa.edu.au/event/cycle-3-at-middle-school-2/
LOCATION:South Australia
END:VEVENT
BEGIN:VEVENT
DTSTART;VALUE=DATE:20241119
DTEND;VALUE=DATE:20241123
DTSTAMP:20260423T224308
CREATED:20240919T231728Z
LAST-MODIFIED:20240925T014647Z
UID:3670-1731974400-1732319999@southernmontessori.sa.edu.au
SUMMARY:Middle School Camp
DESCRIPTION:Middle School Camp
URL:https://southernmontessori.sa.edu.au/event/middle-school-camp/
LOCATION:South Australia
END:VEVENT
BEGIN:VEVENT
DTSTART;TZID=Australia/Adelaide:20241118T143000
DTEND;TZID=Australia/Adelaide:20241118T173000
DTSTAMP:20260423T224308
CREATED:20240919T231532Z
LAST-MODIFIED:20241017T001005Z
UID:3666-1731940200-1731951000@southernmontessori.sa.edu.au
SUMMARY:Alice In Wonderland (DramatiKids) :2:30pm - School Performance; 4:30pm - Parent Performance
DESCRIPTION:Alice In Wonderland (DramatiKids) :2:30pm – School Performance; 4:30pm – Parent Performance
URL:https://southernmontessori.sa.edu.au/event/alice-in-wonderland-dramatikids-230pm-school-performance-500pm-parent-performance/
LOCATION:South Australia
END:VEVENT
BEGIN:VEVENT
DTSTART;TZID=Australia/Adelaide:20241115T090000
DTEND;TZID=Australia/Adelaide:20241115T150000
DTSTAMP:20260423T224308
CREATED:20241017T001540Z
LAST-MODIFIED:20241017T001540Z
UID:3830-1731661200-1731682800@southernmontessori.sa.edu.au
SUMMARY:Cycle 2 Urrbrae Wetland Learning Centre 9:00am - 3:00pm
DESCRIPTION:Cycle 2 Urrbrae Wetland Learning Centre 9:00am – 3:00pm
URL:https://southernmontessori.sa.edu.au/event/cycle-2-urrbrae-wetland-learning-centre-900am-300pm/
LOCATION:South Australia
END:VEVENT
BEGIN:VEVENT
DTSTART;TZID=Australia/Adelaide:20241115T083000
DTEND;TZID=Australia/Adelaide:20241115T140000
DTSTAMP:20260423T224308
CREATED:20241017T001501Z
LAST-MODIFIED:20241017T001501Z
UID:3826-1731659400-1731679200@southernmontessori.sa.edu.au
SUMMARY:Dave Cohen Festival of Rugby 8:30am - 2:00pm
DESCRIPTION:Dave Cohen Festival of Rugby 8:30am – 2:00pm
URL:https://southernmontessori.sa.edu.au/event/dave-cohen-festival-of-rugby-830am-200pm/
LOCATION:South Australia
END:VEVENT
BEGIN:VEVENT
DTSTART;VALUE=DATE:20241114
DTEND;VALUE=DATE:20241115
DTSTAMP:20260423T224308
CREATED:20240919T231131Z
LAST-MODIFIED:20240919T231131Z
UID:3661-1731542400-1731628799@southernmontessori.sa.edu.au
SUMMARY:Cycle 3 Excursion: Yr 6's - Community Service at Wakefield House - Renee's Class
DESCRIPTION:Cycle 3 Excursion: Yr 6’s – Community Service at Wakefield House – Renee’s Class
URL:https://southernmontessori.sa.edu.au/event/cycle-3-excursion-yr-6s-community-service-at-wakefield-house-renees-class-3/
LOCATION:South Australia
END:VEVENT
BEGIN:VEVENT
DTSTART;TZID=Australia/Adelaide:20241113T090000
DTEND;TZID=Australia/Adelaide:20241113T140000
DTSTAMP:20260423T224308
CREATED:20241017T001349Z
LAST-MODIFIED:20241017T001349Z
UID:3822-1731488400-1731506400@southernmontessori.sa.edu.au
SUMMARY:Hot Shots Tennis Carnival (Yr3-4)  9:00am - 2:00pm
DESCRIPTION:Hot Shots Tennis Carnival (Yr3-4) 9:00am – 2:00pm
URL:https://southernmontessori.sa.edu.au/event/hot-shots-tennis-carnival-yr3-4-900am-200pm/
LOCATION:South Australia
END:VEVENT
BEGIN:VEVENT
DTSTART;VALUE=DATE:20241108
DTEND;VALUE=DATE:20241109
DTSTAMP:20260423T224308
CREATED:20240919T230959Z
LAST-MODIFIED:20240919T230959Z
UID:3653-1731024000-1731110399@southernmontessori.sa.edu.au
SUMMARY:Cycle 2 Primary School Assembly (Tricia & Wendy)
DESCRIPTION:Cycle 2 Primary School Assembly (Tricia & Wendy)
URL:https://southernmontessori.sa.edu.au/event/cycle-2-primary-school-assembly-tricia-wendy/
LOCATION:South Australia
END:VEVENT
BEGIN:VEVENT
DTSTART;TZID=Australia/Adelaide:20241107T190000
DTEND;TZID=Australia/Adelaide:20241107T210000
DTSTAMP:20260423T224308
CREATED:20240919T230926Z
LAST-MODIFIED:20240919T230926Z
UID:3649-1731006000-1731013200@southernmontessori.sa.edu.au
SUMMARY:Board Meeting 7.00pm
DESCRIPTION:Board Meeting 7.00pm
URL:https://southernmontessori.sa.edu.au/event/board-meeting-7-00pm/
LOCATION:South Australia
END:VEVENT
BEGIN:VEVENT
DTSTART;VALUE=DATE:20241107
DTEND;VALUE=DATE:20241108
DTSTAMP:20260423T224308
CREATED:20240919T230847Z
LAST-MODIFIED:20240919T230847Z
UID:3645-1730937600-1731023999@southernmontessori.sa.edu.au
SUMMARY:Cycle 3 Excursion: Yr 6's - Community Service at Wakefield House - Renee's Class
DESCRIPTION:Cycle 3 Excursion: Yr 6’s – Community Service at Wakefield House – Renee’s Class
URL:https://southernmontessori.sa.edu.au/event/cycle-3-excursion-yr-6s-community-service-at-wakefield-house-renees-class-2/
LOCATION:South Australia
END:VEVENT
BEGIN:VEVENT
DTSTART;VALUE=DATE:20241031
DTEND;VALUE=DATE:20241101
DTSTAMP:20260423T224308
CREATED:20240919T230730Z
LAST-MODIFIED:20240919T230730Z
UID:3641-1730332800-1730419199@southernmontessori.sa.edu.au
SUMMARY:Cycle 3 Excursion: Yr 6's - Community Service at Wakefield House - Renee's Class
DESCRIPTION:Cycle 3 Excursion: Yr 6’s – Community Service at Wakefield House – Renee’s Class
URL:https://southernmontessori.sa.edu.au/event/cycle-3-excursion-yr-6s-community-service-at-wakefield-house-renees-class/
LOCATION:South Australia
END:VEVENT
BEGIN:VEVENT
DTSTART;VALUE=DATE:20241030
DTEND;VALUE=DATE:20241031
DTSTAMP:20260423T224308
CREATED:20240919T230405Z
LAST-MODIFIED:20240919T230405Z
UID:3637-1730246400-1730332799@southernmontessori.sa.edu.au
SUMMARY:Sports Day
DESCRIPTION:Sports Day
URL:https://southernmontessori.sa.edu.au/event/sports-day-4/
LOCATION:South Australia
END:VEVENT
BEGIN:VEVENT
DTSTART;VALUE=DATE:20241025
DTEND;VALUE=DATE:20241026
DTSTAMP:20260423T224308
CREATED:20240919T230337Z
LAST-MODIFIED:20240919T230337Z
UID:3633-1729814400-1729900799@southernmontessori.sa.edu.au
SUMMARY:World Teacher Day
DESCRIPTION:World Teacher Day
URL:https://southernmontessori.sa.edu.au/event/world-teacher-day/
LOCATION:South Australia
END:VEVENT
BEGIN:VEVENT
DTSTART;VALUE=DATE:20241024
DTEND;VALUE=DATE:20241025
DTSTAMP:20260423T224308
CREATED:20240919T230309Z
LAST-MODIFIED:20240919T230309Z
UID:3629-1729728000-1729814399@southernmontessori.sa.edu.au
SUMMARY:Cycle 3 Excursion: Yr 6's - Community Service at Wakefield House - Luke's Class
DESCRIPTION:Cycle 3 Excursion: Yr 6’s – Community Service at Wakefield House – Luke’s Class
URL:https://southernmontessori.sa.edu.au/event/cycle-3-excursion-yr-6s-community-service-at-wakefield-house-lukes-class-2/
LOCATION:South Australia
END:VEVENT
BEGIN:VEVENT
DTSTART;VALUE=DATE:20241017
DTEND;VALUE=DATE:20241018
DTSTAMP:20260423T224308
CREATED:20240919T225350Z
LAST-MODIFIED:20240919T225359Z
UID:3578-1729123200-1729209599@southernmontessori.sa.edu.au
SUMMARY:Cycle 3 Excursion: Yr 6's - Community Service at Wakefield House - Luke's Class
DESCRIPTION:Cycle 3 Excursion: Yr 6’s – Community Service at Wakefield House – Luke’s Class
URL:https://southernmontessori.sa.edu.au/event/cycle-3-excursion-yr-6s-community-service-at-wakefield-house-lukes-class/
LOCATION:South Australia
END:VEVENT
BEGIN:VEVENT
DTSTART;TZID=Australia/Adelaide:20241016T153000
DTEND;TZID=Australia/Adelaide:20241204T163000
DTSTAMP:20260423T224308
CREATED:20241017T001236Z
LAST-MODIFIED:20241017T001236Z
UID:3818-1729092600-1733329800@southernmontessori.sa.edu.au
SUMMARY:Senior Choir (Yr 3 - 6) 3.30pm - 4.30pm
DESCRIPTION:Senior Choir (Yr 3 – 6) 3.30pm – 4.30pm
URL:https://southernmontessori.sa.edu.au/event/senior-choir-yr-3-6-3-30pm-4-30pm/
LOCATION:South Australia
END:VEVENT
END:VCALENDAR