BEGIN:VCALENDAR
VERSION:2.0
PRODID:-//Southern Montessori School - ECPv6.15.16//NONSGML v1.0//EN
CALSCALE:GREGORIAN
METHOD:PUBLISH
X-WR-CALNAME:Southern Montessori School
X-ORIGINAL-URL:https://southernmontessori.sa.edu.au
X-WR-CALDESC:Events for Southern Montessori School
REFRESH-INTERVAL;VALUE=DURATION:PT1H
X-Robots-Tag:noindex
X-PUBLISHED-TTL:PT1H
BEGIN:VTIMEZONE
TZID:Australia/Adelaide
BEGIN:STANDARD
TZOFFSETFROM:+1030
TZOFFSETTO:+0930
TZNAME:ACST
DTSTART:20230401T163000
END:STANDARD
BEGIN:DAYLIGHT
TZOFFSETFROM:+0930
TZOFFSETTO:+1030
TZNAME:ACDT
DTSTART:20230930T163000
END:DAYLIGHT
BEGIN:STANDARD
TZOFFSETFROM:+1030
TZOFFSETTO:+0930
TZNAME:ACST
DTSTART:20240406T163000
END:STANDARD
BEGIN:DAYLIGHT
TZOFFSETFROM:+0930
TZOFFSETTO:+1030
TZNAME:ACDT
DTSTART:20241005T163000
END:DAYLIGHT
BEGIN:STANDARD
TZOFFSETFROM:+1030
TZOFFSETTO:+0930
TZNAME:ACST
DTSTART:20250405T163000
END:STANDARD
BEGIN:DAYLIGHT
TZOFFSETFROM:+0930
TZOFFSETTO:+1030
TZNAME:ACDT
DTSTART:20251004T163000
END:DAYLIGHT
BEGIN:STANDARD
TZOFFSETFROM:+1030
TZOFFSETTO:+0930
TZNAME:ACST
DTSTART:20260404T163000
END:STANDARD
BEGIN:DAYLIGHT
TZOFFSETFROM:+0930
TZOFFSETTO:+1030
TZNAME:ACDT
DTSTART:20261003T163000
END:DAYLIGHT
END:VTIMEZONE
BEGIN:VEVENT
DTSTART;TZID=Australia/Adelaide:20250211T153000
DTEND;TZID=Australia/Adelaide:20250211T163000
DTSTAMP:20260421T065941
CREATED:20250108T224632Z
LAST-MODIFIED:20250318T005240Z
UID:3951-1739287800-1739291400@southernmontessori.sa.edu.au
SUMMARY:Sports Program Aussie T-Ball
DESCRIPTION:
URL:https://southernmontessori.sa.edu.au/event/sports-program-3-30pm-4-30-aussie-t-ball/2025-02-11/
LOCATION:South Australia
CATEGORIES:After School Program
END:VEVENT
BEGIN:VEVENT
DTSTART;TZID=Australia/Adelaide:20250210T153000
DTEND;TZID=Australia/Adelaide:20250210T163000
DTSTAMP:20260421T065941
CREATED:20250108T224204Z
LAST-MODIFIED:20250318T005155Z
UID:3929-1739201400-1739205000@southernmontessori.sa.edu.au
SUMMARY:After School Drama Program 5-8yrs
DESCRIPTION:
URL:https://southernmontessori.sa.edu.au/event/after-school-drama-program-3-30pm-4-30pm/2025-02-10/
LOCATION:South Australia
CATEGORIES:After School Program,Cycle One,Cycle Three
END:VEVENT
BEGIN:VEVENT
DTSTART;TZID=Australia/Adelaide:20250207T124500
DTEND;TZID=Australia/Adelaide:20250207T131500
DTSTAMP:20260421T065941
CREATED:20250108T225502Z
LAST-MODIFIED:20250318T002624Z
UID:3985-1738932300-1738934100@southernmontessori.sa.edu.au
SUMMARY:Junior Choir  (Yr 1 - 3)
DESCRIPTION:
URL:https://southernmontessori.sa.edu.au/event/junior-choir-yr-1-3-12-45pm-1-15pm/2025-02-07/
LOCATION:South Australia
CATEGORIES:Cycle Two
END:VEVENT
BEGIN:VEVENT
DTSTART;TZID=Australia/Adelaide:20250206T153000
DTEND;TZID=Australia/Adelaide:20250206T162000
DTSTAMP:20260421T065941
CREATED:20250108T223748Z
LAST-MODIFIED:20250318T002847Z
UID:3910-1738855800-1738858800@southernmontessori.sa.edu.au
SUMMARY:Chess Mates
DESCRIPTION:
URL:https://southernmontessori.sa.edu.au/event/chess-mates-3-30pm-4-20pm/2025-02-06/
LOCATION:South Australia
CATEGORIES:Cycle One,Cycle Three,Cycle Two
END:VEVENT
BEGIN:VEVENT
DTSTART;TZID=Australia/Adelaide:20250205T160000
DTEND;TZID=Australia/Adelaide:20250205T183000
DTSTAMP:20260421T065941
CREATED:20250108T224342Z
LAST-MODIFIED:20250129T024344Z
UID:3947-1738771200-1738780200@southernmontessori.sa.edu.au
SUMMARY:Parent Event: Preschool & Primary Welcome Evening 4.00pm - 6.30pm
DESCRIPTION:Parent Event: Preschool & Primary Welcome Evening 4.00pm – 6.30pm
URL:https://southernmontessori.sa.edu.au/event/parent-event-preschool-primary-welcome-evening-4-00pm-6-30pm/
LOCATION:South Australia
CATEGORIES:Parent Events
END:VEVENT
BEGIN:VEVENT
DTSTART;TZID=Australia/Adelaide:20250205T153000
DTEND;TZID=Australia/Adelaide:20250205T163000
DTSTAMP:20260421T065941
CREATED:20250108T225320Z
LAST-MODIFIED:20250318T005021Z
UID:3971-1738769400-1738773000@southernmontessori.sa.edu.au
SUMMARY:Senior Choir  (Yr 3 - 6)
DESCRIPTION:
URL:https://southernmontessori.sa.edu.au/event/senior-choir-yr-3-6-3-30pm-4-30pm-2/2025-02-05/
LOCATION:South Australia
CATEGORIES:After School Program,Cycle Three,Cycle Two
END:VEVENT
BEGIN:VEVENT
DTSTART;TZID=Australia/Adelaide:20250203T153000
DTEND;TZID=Australia/Adelaide:20250203T163000
DTSTAMP:20260421T065941
CREATED:20250108T224204Z
LAST-MODIFIED:20250318T005155Z
UID:3925-1738596600-1738600200@southernmontessori.sa.edu.au
SUMMARY:After School Drama Program 5-8yrs
DESCRIPTION:
URL:https://southernmontessori.sa.edu.au/event/after-school-drama-program-3-30pm-4-30pm/2025-02-03/
LOCATION:South Australia
CATEGORIES:After School Program,Cycle One,Cycle Three
END:VEVENT
BEGIN:VEVENT
DTSTART;VALUE=DATE:20250131
DTEND;VALUE=DATE:20250201
DTSTAMP:20260421T065941
CREATED:20250108T223921Z
LAST-MODIFIED:20250108T223921Z
UID:3921-1738281600-1738367999@southernmontessori.sa.edu.au
SUMMARY:Year 6 Leadership Day
DESCRIPTION:Year 6 Leadership Day
URL:https://southernmontessori.sa.edu.au/event/year-6-leadership-day-2/
LOCATION:South Australia
END:VEVENT
BEGIN:VEVENT
DTSTART;TZID=Australia/Adelaide:20250130T153000
DTEND;TZID=Australia/Adelaide:20250130T162000
DTSTAMP:20260421T065941
CREATED:20250108T223748Z
LAST-MODIFIED:20250318T002847Z
UID:3907-1738251000-1738254000@southernmontessori.sa.edu.au
SUMMARY:Chess Mates
DESCRIPTION:
URL:https://southernmontessori.sa.edu.au/event/chess-mates-3-30pm-4-20pm/2025-01-30/
LOCATION:South Australia
CATEGORIES:Cycle One,Cycle Three,Cycle Two
END:VEVENT
BEGIN:VEVENT
DTSTART;VALUE=DATE:20250129
DTEND;VALUE=DATE:20250130
DTSTAMP:20260421T065941
CREATED:20250108T223535Z
LAST-MODIFIED:20250108T223535Z
UID:3903-1738108800-1738195199@southernmontessori.sa.edu.au
SUMMARY:First Day of Term 1
DESCRIPTION:First Day of Term 1
URL:https://southernmontessori.sa.edu.au/event/first-day-of-term-1-3/
LOCATION:South Australia
END:VEVENT
BEGIN:VEVENT
DTSTART;VALUE=DATE:20250128
DTEND;VALUE=DATE:20250129
DTSTAMP:20260421T065941
CREATED:20250108T223450Z
LAST-MODIFIED:20250108T223450Z
UID:3899-1738022400-1738108799@southernmontessori.sa.edu.au
SUMMARY:Pupil Free Day / Staff Professional Development Day
DESCRIPTION:Pupil Free Day / Staff Professional Development Day
URL:https://southernmontessori.sa.edu.au/event/pupil-free-day-staff-professional-development-day-9/
LOCATION:South Australia
END:VEVENT
BEGIN:VEVENT
DTSTART;VALUE=DATE:20250127
DTEND;VALUE=DATE:20250128
DTSTAMP:20260421T065941
CREATED:20250108T223348Z
LAST-MODIFIED:20250108T223348Z
UID:3895-1737936000-1738022399@southernmontessori.sa.edu.au
SUMMARY:PUBLIC HOLIDAY: Australia Day
DESCRIPTION:PUBLIC HOLIDAY: Australia Day
URL:https://southernmontessori.sa.edu.au/event/public-holiday-australia-day/
LOCATION:South Australia
END:VEVENT
BEGIN:VEVENT
DTSTART;VALUE=DATE:20241213
DTEND;VALUE=DATE:20241214
DTSTAMP:20260421T065941
CREATED:20240919T234618Z
LAST-MODIFIED:20240919T234618Z
UID:3774-1734048000-1734134399@southernmontessori.sa.edu.au
SUMMARY:Staff Only:End of Year Tidy-up
DESCRIPTION:Staff Only:End of Year Tidy-up
URL:https://southernmontessori.sa.edu.au/event/staff-onlyend-of-year-tidy-up/
LOCATION:South Australia
END:VEVENT
BEGIN:VEVENT
DTSTART;VALUE=DATE:20241212
DTEND;VALUE=DATE:20241213
DTSTAMP:20260421T065941
CREATED:20240919T234527Z
LAST-MODIFIED:20240919T234527Z
UID:3770-1733961600-1734047999@southernmontessori.sa.edu.au
SUMMARY:Staff PD:CPR Training & End of Year Tidy-up
DESCRIPTION:Staff PD:CPR Training & End of Year Tidy-up
URL:https://southernmontessori.sa.edu.au/event/staff-pdcpr-training-end-of-year-tidy-up/
LOCATION:South Australia
END:VEVENT
BEGIN:VEVENT
DTSTART;TZID=Australia/Adelaide:20241211T143000
DTEND;TZID=Australia/Adelaide:20241211T152000
DTSTAMP:20260421T065941
CREATED:20241204T004725Z
LAST-MODIFIED:20241204T004725Z
UID:3867-1733927400-1733930400@southernmontessori.sa.edu.au
SUMMARY:Talent Show 2:30pm
DESCRIPTION:Talent Show 2:30pm
URL:https://southernmontessori.sa.edu.au/event/talent-show-230pm/
LOCATION:South Australia
END:VEVENT
BEGIN:VEVENT
DTSTART;VALUE=DATE:20241211
DTEND;VALUE=DATE:20241212
DTSTAMP:20260421T065941
CREATED:20240919T234449Z
LAST-MODIFIED:20240919T234812Z
UID:3766-1733875200-1733961599@southernmontessori.sa.edu.au
SUMMARY:Last day of Preschool for 2024
DESCRIPTION:Last day of Preschool for 2024
URL:https://southernmontessori.sa.edu.au/event/last-day-of-preschool-for-2024/
LOCATION:South Australia
END:VEVENT
BEGIN:VEVENT
DTSTART;VALUE=DATE:20241211
DTEND;VALUE=DATE:20241212
DTSTAMP:20260421T065941
CREATED:20240919T234424Z
LAST-MODIFIED:20240919T234424Z
UID:3762-1733875200-1733961599@southernmontessori.sa.edu.au
SUMMARY:Last day of Term 4Casual ClothesEnd of Year Reports go home
DESCRIPTION:Last day of Term 4Casual ClothesEnd of Year Reports go home
URL:https://southernmontessori.sa.edu.au/event/last-day-of-term-4casual-clothesend-of-year-reports-go-home/
LOCATION:South Australia
END:VEVENT
BEGIN:VEVENT
DTSTART;VALUE=DATE:20241210
DTEND;VALUE=DATE:20241211
DTSTAMP:20260421T065941
CREATED:20240919T234352Z
LAST-MODIFIED:20240919T234352Z
UID:3758-1733788800-1733875199@southernmontessori.sa.edu.au
SUMMARY:Parent Event: Year 9 Graduation Dinner
DESCRIPTION:Parent Event: Year 9 Graduation Dinner
URL:https://southernmontessori.sa.edu.au/event/parent-event-year-9-graduation-dinner/
LOCATION:South Australia
END:VEVENT
BEGIN:VEVENT
DTSTART;VALUE=DATE:20241210
DTEND;VALUE=DATE:20241211
DTSTAMP:20260421T065941
CREATED:20240919T234319Z
LAST-MODIFIED:20241204T004838Z
UID:3754-1733788800-1733875199@southernmontessori.sa.edu.au
SUMMARY:Whole School Excursion to Christies's Beach (Primary)
DESCRIPTION:Whole School Excursion to Christies’s Beach (Primary)
URL:https://southernmontessori.sa.edu.au/event/whole-school-excursion/
LOCATION:South Australia
END:VEVENT
BEGIN:VEVENT
DTSTART;TZID=Australia/Adelaide:20241209T090000
DTEND;TZID=Australia/Adelaide:20241209T150000
DTSTAMP:20260421T065941
CREATED:20240919T234250Z
LAST-MODIFIED:20240919T234250Z
UID:3750-1733734800-1733756400@southernmontessori.sa.edu.au
SUMMARY:Year 6's & New Students to Cycle 2\, 3 & 4 Transition9.00am - 3:00pm
DESCRIPTION:Year 6’s & New Students to Cycle 2\, 3 & 4 Transition9.00am – 3:00pm
URL:https://southernmontessori.sa.edu.au/event/year-6s-new-students-to-cycle-2-3-4-transition9-00am-300pm/
LOCATION:South Australia
END:VEVENT
BEGIN:VEVENT
DTSTART;TZID=Australia/Adelaide:20241209T090000
DTEND;TZID=Australia/Adelaide:20241209T120000
DTSTAMP:20260421T065941
CREATED:20240919T234215Z
LAST-MODIFIED:20240919T234215Z
UID:3746-1733734800-1733745600@southernmontessori.sa.edu.au
SUMMARY:Reception & Year 3 Transition Visit9.00am - 12.00pm
DESCRIPTION:Reception & Year 3 Transition Visit9.00am – 12.00pm
URL:https://southernmontessori.sa.edu.au/event/reception-year-3-transition-visit9-00am-12-00pm/
LOCATION:South Australia
END:VEVENT
BEGIN:VEVENT
DTSTART;TZID=Australia/Adelaide:20241209T083000
DTEND;TZID=Australia/Adelaide:20241209T150000
DTSTAMP:20260421T065941
CREATED:20241204T004532Z
LAST-MODIFIED:20241204T004532Z
UID:3863-1733733000-1733756400@southernmontessori.sa.edu.au
SUMMARY:Year 9 Excursion: 8:30am- 3:00pm; Beach Walk and Beach Volleyball
DESCRIPTION:Year 9 Excursion: 8:30am- 3:00pm; Beach Walk and Beach Volleyball
URL:https://southernmontessori.sa.edu.au/event/year-9-excursion-830am-300pm-beach-walk-and-beach-volleyball/
LOCATION:South Australia
END:VEVENT
BEGIN:VEVENT
DTSTART;TZID=Australia/Adelaide:20241206T141500
DTEND;TZID=Australia/Adelaide:20241206T151500
DTSTAMP:20260421T065941
CREATED:20240919T234025Z
LAST-MODIFIED:20240919T234025Z
UID:3742-1733494500-1733498100@southernmontessori.sa.edu.au
SUMMARY:Parent Event:Year 6 Graduation2:15pm - 3:15pm
DESCRIPTION:Parent Event:Year 6 Graduation2:15pm – 3:15pm
URL:https://southernmontessori.sa.edu.au/event/parent-eventyear-6-graduation215pm-315pm/
LOCATION:South Australia
END:VEVENT
BEGIN:VEVENT
DTSTART;TZID=Australia/Adelaide:20241205T134500
DTEND;TZID=Australia/Adelaide:20241205T160000
DTSTAMP:20260421T065941
CREATED:20240919T233940Z
LAST-MODIFIED:20240919T233940Z
UID:3738-1733406300-1733414400@southernmontessori.sa.edu.au
SUMMARY:Parent Event: Cycle 2 Open Classrooms 1:45pm ; Year 3 Graduation 2:15pm
DESCRIPTION:Parent Event: Cycle 2 Open Classrooms 1:45pm ; Year 3 Graduation 2:15pm
URL:https://southernmontessori.sa.edu.au/event/parent-event-cycle-2-open-classrooms-145pm-year-3-graduation-215pm/
LOCATION:South Australia
END:VEVENT
BEGIN:VEVENT
DTSTART;TZID=Australia/Adelaide:20241205T100000
DTEND;TZID=Australia/Adelaide:20241205T113000
DTSTAMP:20260421T065941
CREATED:20241204T003844Z
LAST-MODIFIED:20241204T003844Z
UID:3858-1733392800-1733398200@southernmontessori.sa.edu.au
SUMMARY:Reception Incursion: Old Macdonald's Travelling Farms 10:00am-11:30am
DESCRIPTION:Reception Incursion: Old Macdonald’s Travelling Farms 10:00am-11:30am
URL:https://southernmontessori.sa.edu.au/event/reception-incursion-old-macdonalds-travelling-farms-1000am-1130am/
LOCATION:South Australia
END:VEVENT
BEGIN:VEVENT
DTSTART;VALUE=DATE:20241205
DTEND;VALUE=DATE:20241206
DTSTAMP:20260421T065941
CREATED:20240919T233845Z
LAST-MODIFIED:20240919T233845Z
UID:3734-1733356800-1733443199@southernmontessori.sa.edu.au
SUMMARY:Cycle 3 Excursion: Yr 6's - Community Service at Wakefield House - All Year 6's
DESCRIPTION:Cycle 3 Excursion: Yr 6’s – Community Service at Wakefield House – All Year 6’s
URL:https://southernmontessori.sa.edu.au/event/cycle-3-excursion-yr-6s-community-service-at-wakefield-house-all-year-6s/
LOCATION:South Australia
END:VEVENT
BEGIN:VEVENT
DTSTART;TZID=Australia/Adelaide:20241204T154500
DTEND;TZID=Australia/Adelaide:20241204T170000
DTSTAMP:20260421T065941
CREATED:20240919T233745Z
LAST-MODIFIED:20240919T233745Z
UID:3730-1733327100-1733331600@southernmontessori.sa.edu.au
SUMMARY:Parent Event:Year 9 Reflection Presentations and Graduation 3:45pm
DESCRIPTION:Parent Event:Year 9 Reflection Presentations and Graduation 3:45pm
URL:https://southernmontessori.sa.edu.au/event/parent-eventyear-9-reflection-presentations-and-graduation-345pm/
LOCATION:South Australia
END:VEVENT
BEGIN:VEVENT
DTSTART;TZID=Australia/Adelaide:20241203T170000
DTEND;TZID=Australia/Adelaide:20241203T174500
DTSTAMP:20260421T065941
CREATED:20240919T233643Z
LAST-MODIFIED:20240919T233643Z
UID:3726-1733245200-1733247900@southernmontessori.sa.edu.au
SUMMARY:Parent Event:Cycle 3 Showcase Evening 5.00pm - 5.45pm
DESCRIPTION:Parent Event:Cycle 3 Showcase Evening 5.00pm – 5.45pm
URL:https://southernmontessori.sa.edu.au/event/parent-eventcycle-3-showcase-evening-5-00pm-5-45pm/
LOCATION:South Australia
END:VEVENT
BEGIN:VEVENT
DTSTART;TZID=Australia/Adelaide:20241203T134500
DTEND;TZID=Australia/Adelaide:20241203T143000
DTSTAMP:20260421T065941
CREATED:20240919T233402Z
LAST-MODIFIED:20240919T233508Z
UID:3722-1733233500-1733236200@southernmontessori.sa.edu.au
SUMMARY:Parent Event: Reception Open Classrooms 1:45pm ; Reception Graduation 2:30pm
DESCRIPTION:Parent Event: Reception Open Classrooms 1:45pm ; Reception Graduation 2:30pm
URL:https://southernmontessori.sa.edu.au/event/parent-event-reception-open-classrooms-145pm-reception-graduation-230pm/
LOCATION:South Australia
END:VEVENT
BEGIN:VEVENT
DTSTART;TZID=Australia/Adelaide:20241202T133000
DTEND;TZID=Australia/Adelaide:20241202T143000
DTSTAMP:20260421T065941
CREATED:20240919T233215Z
LAST-MODIFIED:20240925T014928Z
UID:3718-1733146200-1733149800@southernmontessori.sa.edu.au
SUMMARY:Reception & Year 3 Transition Visit 1:30pm - 2:30pm
DESCRIPTION:Reception & Year 3 Transition Visit 1:30 pm – 2:30 pm
URL:https://southernmontessori.sa.edu.au/event/reception-year-3-transition-visit-130pm-230pm/
LOCATION:South Australia
END:VEVENT
END:VCALENDAR