BEGIN:VCALENDAR
VERSION:2.0
PRODID:-//Southern Montessori School - ECPv6.15.16//NONSGML v1.0//EN
CALSCALE:GREGORIAN
METHOD:PUBLISH
X-ORIGINAL-URL:https://southernmontessori.sa.edu.au
X-WR-CALDESC:Events for Southern Montessori School
REFRESH-INTERVAL;VALUE=DURATION:PT1H
X-Robots-Tag:noindex
X-PUBLISHED-TTL:PT1H
BEGIN:VTIMEZONE
TZID:Australia/Adelaide
BEGIN:STANDARD
TZOFFSETFROM:+1030
TZOFFSETTO:+0930
TZNAME:ACST
DTSTART:20240406T163000
END:STANDARD
BEGIN:DAYLIGHT
TZOFFSETFROM:+0930
TZOFFSETTO:+1030
TZNAME:ACDT
DTSTART:20241005T163000
END:DAYLIGHT
BEGIN:STANDARD
TZOFFSETFROM:+1030
TZOFFSETTO:+0930
TZNAME:ACST
DTSTART:20250405T163000
END:STANDARD
BEGIN:DAYLIGHT
TZOFFSETFROM:+0930
TZOFFSETTO:+1030
TZNAME:ACDT
DTSTART:20251004T163000
END:DAYLIGHT
BEGIN:STANDARD
TZOFFSETFROM:+1030
TZOFFSETTO:+0930
TZNAME:ACST
DTSTART:20260404T163000
END:STANDARD
BEGIN:DAYLIGHT
TZOFFSETFROM:+0930
TZOFFSETTO:+1030
TZNAME:ACDT
DTSTART:20261003T163000
END:DAYLIGHT
END:VTIMEZONE
BEGIN:VEVENT
DTSTART;TZID=Australia/Adelaide:20250501T080000
DTEND;TZID=Australia/Adelaide:20250501T170000
DTSTAMP:20260421T025620
CREATED:20250424T012953Z
LAST-MODIFIED:20250424T024830Z
UID:4507-1746086400-1746118800@southernmontessori.sa.edu.au
SUMMARY:Cycle 3: Science Incursion
DESCRIPTION:Refer to Consent2Go for more information.
URL:https://southernmontessori.sa.edu.au/event/cycle-3-science-incursion/
LOCATION:Southern Montessori School\, 53 Galloway Road\, O'Sullivan Beach\, South Australia\, 5166\, Australia
CATEGORIES:Cycle Three
END:VEVENT
BEGIN:VEVENT
DTSTART;TZID=Australia/Adelaide:20250509T083000
DTEND;TZID=Australia/Adelaide:20250509T153000
DTSTAMP:20260421T025620
CREATED:20250424T014050Z
LAST-MODIFIED:20250424T014050Z
UID:4550-1746779400-1746804600@southernmontessori.sa.edu.au
SUMMARY:Cycle 3: SAPSASA Cross Country Carnival
DESCRIPTION:For more information please see Consent2Go.
URL:https://southernmontessori.sa.edu.au/event/cycle-3-sapsasa-cross-country-carnival/
CATEGORIES:Cycle Three
END:VEVENT
BEGIN:VEVENT
DTSTART;VALUE=DATE:20250513
DTEND;VALUE=DATE:20250514
DTSTAMP:20260421T025620
CREATED:20250424T014214Z
LAST-MODIFIED:20250424T023903Z
UID:4554-1747094400-1747180799@southernmontessori.sa.edu.au
SUMMARY:My Mind Check - Primary School
DESCRIPTION:
URL:https://southernmontessori.sa.edu.au/event/my-mind-check-primary-school/
CATEGORIES:Cycle One,Cycle Three,Cycle Two
END:VEVENT
BEGIN:VEVENT
DTSTART;TZID=Australia/Adelaide:20250520T083000
DTEND;TZID=Australia/Adelaide:20250520T150000
DTSTAMP:20260421T025620
CREATED:20250424T023650Z
LAST-MODIFIED:20250424T023650Z
UID:4578-1747729800-1747753200@southernmontessori.sa.edu.au
SUMMARY:Environmental Committee Excursion
DESCRIPTION:Please refer to Consent2Go for more informaiton.
URL:https://southernmontessori.sa.edu.au/event/environmental-committee-excursion/
CATEGORIES:Cycle Three
END:VEVENT
BEGIN:VEVENT
DTSTART;TZID=Australia/Adelaide:20250523T083000
DTEND;TZID=Australia/Adelaide:20250523T153000
DTSTAMP:20260421T025620
CREATED:20250424T043251Z
LAST-MODIFIED:20250424T043251Z
UID:4605-1747989000-1748014200@southernmontessori.sa.edu.au
SUMMARY:Year 5 / 6 NRL Tackle Carnival
DESCRIPTION:Please see Consent2Go for more information.
URL:https://southernmontessori.sa.edu.au/event/year-5-6-nrl-tackle-carnival/
CATEGORIES:Cycle Three
END:VEVENT
END:VCALENDAR