BEGIN:VCALENDAR
VERSION:2.0
PRODID:-//Southern Montessori School - ECPv6.15.16//NONSGML v1.0//EN
CALSCALE:GREGORIAN
METHOD:PUBLISH
X-ORIGINAL-URL:https://southernmontessori.sa.edu.au
X-WR-CALDESC:Events for Southern Montessori School
REFRESH-INTERVAL;VALUE=DURATION:PT1H
X-Robots-Tag:noindex
X-PUBLISHED-TTL:PT1H
BEGIN:VTIMEZONE
TZID:Australia/Adelaide
BEGIN:STANDARD
TZOFFSETFROM:+1030
TZOFFSETTO:+0930
TZNAME:ACST
DTSTART:20240406T163000
END:STANDARD
BEGIN:DAYLIGHT
TZOFFSETFROM:+0930
TZOFFSETTO:+1030
TZNAME:ACDT
DTSTART:20241005T163000
END:DAYLIGHT
BEGIN:STANDARD
TZOFFSETFROM:+1030
TZOFFSETTO:+0930
TZNAME:ACST
DTSTART:20250405T163000
END:STANDARD
BEGIN:DAYLIGHT
TZOFFSETFROM:+0930
TZOFFSETTO:+1030
TZNAME:ACDT
DTSTART:20251004T163000
END:DAYLIGHT
BEGIN:STANDARD
TZOFFSETFROM:+1030
TZOFFSETTO:+0930
TZNAME:ACST
DTSTART:20260404T163000
END:STANDARD
BEGIN:DAYLIGHT
TZOFFSETFROM:+0930
TZOFFSETTO:+1030
TZNAME:ACDT
DTSTART:20261003T163000
END:DAYLIGHT
BEGIN:STANDARD
TZOFFSETFROM:+1030
TZOFFSETTO:+0930
TZNAME:ACST
DTSTART:20270403T163000
END:STANDARD
BEGIN:DAYLIGHT
TZOFFSETFROM:+0930
TZOFFSETTO:+1030
TZNAME:ACDT
DTSTART:20271002T163000
END:DAYLIGHT
END:VTIMEZONE
BEGIN:VEVENT
DTSTART;TZID=Australia/Adelaide:20250606T143000
DTEND;TZID=Australia/Adelaide:20250606T150000
DTSTAMP:20260422T005321
CREATED:20250424T052357Z
LAST-MODIFIED:20250424T052357Z
UID:4625-1749220200-1749222000@southernmontessori.sa.edu.au
SUMMARY:Middle School Assembly
DESCRIPTION:At the Primary School
URL:https://southernmontessori.sa.edu.au/event/middle-school-assembly/
LOCATION:Southern Montessori School\, 53 Galloway Road\, O'Sullivan Beach\, South Australia\, 5166\, Australia
CATEGORIES:Cycle Four
END:VEVENT
BEGIN:VEVENT
DTSTART;TZID=Australia/Adelaide:20251118T120000
DTEND;TZID=Australia/Adelaide:20251118T180000
DTSTAMP:20260422T005321
CREATED:20251110T045443Z
LAST-MODIFIED:20251110T045443Z
UID:5034-1763467200-1763488800@southernmontessori.sa.edu.au
SUMMARY:Year 9 Passage Presentations
DESCRIPTION:
URL:https://southernmontessori.sa.edu.au/event/year-9-passage-presentations/
LOCATION:Southern Montessori Middle School\, 2 / 54 Woodcroft Drive\, Morphett Vale\, South Australia\, 5162\, Australia
CATEGORIES:Cycle Four,Parent Events
END:VEVENT
BEGIN:VEVENT
DTSTART;TZID=Australia/Adelaide:20251120T120000
DTEND;TZID=Australia/Adelaide:20251120T160000
DTSTAMP:20260422T005321
CREATED:20251110T045652Z
LAST-MODIFIED:20251110T045652Z
UID:5042-1763640000-1763654400@southernmontessori.sa.edu.au
SUMMARY:Market Day
DESCRIPTION:
URL:https://southernmontessori.sa.edu.au/event/market-day/
LOCATION:Southern Montessori School\, 53 Galloway Road\, O'Sullivan Beach\, South Australia\, 5166\, Australia
CATEGORIES:Cycle Four,Cycle One,Cycle Three,Cycle Two,Parent Events
END:VEVENT
BEGIN:VEVENT
DTSTART;VALUE=DATE:20251125
DTEND;VALUE=DATE:20251128
DTSTAMP:20260422T005321
CREATED:20251110T045828Z
LAST-MODIFIED:20251110T045828Z
UID:5050-1764028800-1764287999@southernmontessori.sa.edu.au
SUMMARY:Year 9: The Science Experience
DESCRIPTION:Please refer to Consent2Go for more information.
URL:https://southernmontessori.sa.edu.au/event/year-9-the-science-experience/
LOCATION:South Australia
CATEGORIES:Cycle Four
END:VEVENT
BEGIN:VEVENT
DTSTART;TZID=Australia/Adelaide:20251127T154500
DTEND;TZID=Australia/Adelaide:20251127T210000
DTSTAMP:20260422T005321
CREATED:20251110T050400Z
LAST-MODIFIED:20251110T050400Z
UID:5074-1764258300-1764277200@southernmontessori.sa.edu.au
SUMMARY:Year 9 Graduation & Graduation Dinner
DESCRIPTION:
URL:https://southernmontessori.sa.edu.au/event/year-9-graduation-graduation-dinner/
LOCATION:South Australia
CATEGORIES:Cycle Four
END:VEVENT
BEGIN:VEVENT
DTSTART;TZID=Australia/Adelaide:20260203T133000
DTEND;TZID=Australia/Adelaide:20260203T143000
DTSTAMP:20260422T005321
CREATED:20260130T024203Z
LAST-MODIFIED:20260130T024213Z
UID:5213-1770125400-1770129000@southernmontessori.sa.edu.au
SUMMARY:Middle School visiting Kalyra
DESCRIPTION:Lawn Bowls Competition
URL:https://southernmontessori.sa.edu.au/event/middle-school-visiting-kalyra/2026-02-03/
LOCATION:South Australia
CATEGORIES:Cycle Four
END:VEVENT
BEGIN:VEVENT
DTSTART;TZID=Australia/Adelaide:20260204T103000
DTEND;TZID=Australia/Adelaide:20260204T113000
DTSTAMP:20260422T005321
CREATED:20260130T024307Z
LAST-MODIFIED:20260130T024307Z
UID:5235-1770201000-1770204600@southernmontessori.sa.edu.au
SUMMARY:Middle School Visiting Kalyra
DESCRIPTION:Craft activities
URL:https://southernmontessori.sa.edu.au/event/middle-school-visiting-kalyra-2/2026-02-04/
LOCATION:South Australia
CATEGORIES:Cycle Four
END:VEVENT
BEGIN:VEVENT
DTSTART;VALUE=DATE:20260206
DTEND;VALUE=DATE:20260207
DTSTAMP:20260422T005321
CREATED:20260130T025245Z
LAST-MODIFIED:20260130T025245Z
UID:5373-1770336000-1770422399@southernmontessori.sa.edu.au
SUMMARY:Middle School ID Photo Day
DESCRIPTION:
URL:https://southernmontessori.sa.edu.au/event/middle-school-id-photo-day/
LOCATION:Southern Montessori Middle School\, 2 / 54 Woodcroft Drive\, Morphett Vale\, South Australia\, 5162\, Australia
CATEGORIES:Cycle Four
END:VEVENT
BEGIN:VEVENT
DTSTART;TZID=Australia/Adelaide:20260210T133000
DTEND;TZID=Australia/Adelaide:20260210T143000
DTSTAMP:20260422T005321
CREATED:20260130T024203Z
LAST-MODIFIED:20260130T024213Z
UID:5216-1770730200-1770733800@southernmontessori.sa.edu.au
SUMMARY:Middle School visiting Kalyra
DESCRIPTION:Lawn Bowls Competition
URL:https://southernmontessori.sa.edu.au/event/middle-school-visiting-kalyra/2026-02-10/
LOCATION:South Australia
CATEGORIES:Cycle Four
END:VEVENT
BEGIN:VEVENT
DTSTART;TZID=Australia/Adelaide:20260211T103000
DTEND;TZID=Australia/Adelaide:20260211T113000
DTSTAMP:20260422T005321
CREATED:20260130T024307Z
LAST-MODIFIED:20260130T024307Z
UID:5238-1770805800-1770809400@southernmontessori.sa.edu.au
SUMMARY:Middle School Visiting Kalyra
DESCRIPTION:Craft activities
URL:https://southernmontessori.sa.edu.au/event/middle-school-visiting-kalyra-2/2026-02-11/
LOCATION:South Australia
CATEGORIES:Cycle Four
END:VEVENT
BEGIN:VEVENT
DTSTART;TZID=Australia/Adelaide:20260217T133000
DTEND;TZID=Australia/Adelaide:20260217T143000
DTSTAMP:20260422T005321
CREATED:20260130T024203Z
LAST-MODIFIED:20260130T024213Z
UID:5217-1771335000-1771338600@southernmontessori.sa.edu.au
SUMMARY:Middle School visiting Kalyra
DESCRIPTION:Lawn Bowls Competition
URL:https://southernmontessori.sa.edu.au/event/middle-school-visiting-kalyra/2026-02-17/
LOCATION:South Australia
CATEGORIES:Cycle Four
END:VEVENT
BEGIN:VEVENT
DTSTART;TZID=Australia/Adelaide:20260218T103000
DTEND;TZID=Australia/Adelaide:20260218T113000
DTSTAMP:20260422T005321
CREATED:20260130T024307Z
LAST-MODIFIED:20260130T024307Z
UID:5239-1771410600-1771414200@southernmontessori.sa.edu.au
SUMMARY:Middle School Visiting Kalyra
DESCRIPTION:Craft activities
URL:https://southernmontessori.sa.edu.au/event/middle-school-visiting-kalyra-2/2026-02-18/
LOCATION:South Australia
CATEGORIES:Cycle Four
END:VEVENT
BEGIN:VEVENT
DTSTART;TZID=Australia/Adelaide:20260224T133000
DTEND;TZID=Australia/Adelaide:20260224T143000
DTSTAMP:20260422T005321
CREATED:20260130T024203Z
LAST-MODIFIED:20260130T024213Z
UID:5218-1771939800-1771943400@southernmontessori.sa.edu.au
SUMMARY:Middle School visiting Kalyra
DESCRIPTION:Lawn Bowls Competition
URL:https://southernmontessori.sa.edu.au/event/middle-school-visiting-kalyra/2026-02-24/
LOCATION:South Australia
CATEGORIES:Cycle Four
END:VEVENT
BEGIN:VEVENT
DTSTART;TZID=Australia/Adelaide:20260225T103000
DTEND;TZID=Australia/Adelaide:20260225T113000
DTSTAMP:20260422T005321
CREATED:20260130T024307Z
LAST-MODIFIED:20260130T024307Z
UID:5240-1772015400-1772019000@southernmontessori.sa.edu.au
SUMMARY:Middle School Visiting Kalyra
DESCRIPTION:Craft activities
URL:https://southernmontessori.sa.edu.au/event/middle-school-visiting-kalyra-2/2026-02-25/
LOCATION:South Australia
CATEGORIES:Cycle Four
END:VEVENT
BEGIN:VEVENT
DTSTART;TZID=Australia/Adelaide:20260226T140000
DTEND;TZID=Australia/Adelaide:20260226T150000
DTSTAMP:20260422T005321
CREATED:20260130T032132Z
LAST-MODIFIED:20260130T032132Z
UID:5401-1772114400-1772118000@southernmontessori.sa.edu.au
SUMMARY:Middle School Open Classroom
DESCRIPTION:Year 7’s only – more information to come via School Stream
URL:https://southernmontessori.sa.edu.au/event/middle-school-open-classroom/
LOCATION:Southern Montessori Middle School\, 2 / 54 Woodcroft Drive\, Morphett Vale\, South Australia\, 5162\, Australia
CATEGORIES:Cycle Four
END:VEVENT
BEGIN:VEVENT
DTSTART;TZID=Australia/Adelaide:20260303T133000
DTEND;TZID=Australia/Adelaide:20260303T143000
DTSTAMP:20260422T005321
CREATED:20260130T024203Z
LAST-MODIFIED:20260130T024214Z
UID:5219-1772544600-1772548200@southernmontessori.sa.edu.au
SUMMARY:Middle School visiting Kalyra
DESCRIPTION:Lawn Bowls Competition
URL:https://southernmontessori.sa.edu.au/event/middle-school-visiting-kalyra/2026-03-03/
LOCATION:South Australia
CATEGORIES:Cycle Four
END:VEVENT
BEGIN:VEVENT
DTSTART;TZID=Australia/Adelaide:20260304T103000
DTEND;TZID=Australia/Adelaide:20260304T113000
DTSTAMP:20260422T005321
CREATED:20260130T024307Z
LAST-MODIFIED:20260130T024307Z
UID:5241-1772620200-1772623800@southernmontessori.sa.edu.au
SUMMARY:Middle School Visiting Kalyra
DESCRIPTION:Craft activities
URL:https://southernmontessori.sa.edu.au/event/middle-school-visiting-kalyra-2/2026-03-04/
LOCATION:South Australia
CATEGORIES:Cycle Four
END:VEVENT
BEGIN:VEVENT
DTSTART;VALUE=DATE:20260310
DTEND;VALUE=DATE:20260311
DTSTAMP:20260422T005321
CREATED:20260130T033704Z
LAST-MODIFIED:20260130T033704Z
UID:5438-1773100800-1773187199@southernmontessori.sa.edu.au
SUMMARY:Learning Conversations (Middle School)
DESCRIPTION:More information to come!
URL:https://southernmontessori.sa.edu.au/event/learning-conversations-middle-school/2026-03-10/
LOCATION:Southern Montessori Middle School\, 2 / 54 Woodcroft Drive\, Morphett Vale\, South Australia\, 5162\, Australia
CATEGORIES:Cycle Four
END:VEVENT
BEGIN:VEVENT
DTSTART;TZID=Australia/Adelaide:20260310T133000
DTEND;TZID=Australia/Adelaide:20260310T143000
DTSTAMP:20260422T005321
CREATED:20260130T024203Z
LAST-MODIFIED:20260130T024214Z
UID:5220-1773149400-1773153000@southernmontessori.sa.edu.au
SUMMARY:Middle School visiting Kalyra
DESCRIPTION:Lawn Bowls Competition
URL:https://southernmontessori.sa.edu.au/event/middle-school-visiting-kalyra/2026-03-10/
LOCATION:South Australia
CATEGORIES:Cycle Four
END:VEVENT
BEGIN:VEVENT
DTSTART;VALUE=DATE:20260311
DTEND;VALUE=DATE:20260312
DTSTAMP:20260422T005321
CREATED:20260130T033830Z
LAST-MODIFIED:20260130T033830Z
UID:5450-1773187200-1773273599@southernmontessori.sa.edu.au
SUMMARY:NAPLAN
DESCRIPTION:Testing period
URL:https://southernmontessori.sa.edu.au/event/naplan-7/2026-03-11/
LOCATION:South Australia
CATEGORIES:Cycle Four,Cycle Three,Cycle Two
END:VEVENT
BEGIN:VEVENT
DTSTART;VALUE=DATE:20260311
DTEND;VALUE=DATE:20260312
DTSTAMP:20260422T005321
CREATED:20260130T033704Z
LAST-MODIFIED:20260130T033704Z
UID:5441-1773187200-1773273599@southernmontessori.sa.edu.au
SUMMARY:Learning Conversations (Middle School)
DESCRIPTION:More information to come!
URL:https://southernmontessori.sa.edu.au/event/learning-conversations-middle-school/2026-03-11/
LOCATION:Southern Montessori Middle School\, 2 / 54 Woodcroft Drive\, Morphett Vale\, South Australia\, 5162\, Australia
CATEGORIES:Cycle Four
END:VEVENT
BEGIN:VEVENT
DTSTART;TZID=Australia/Adelaide:20260311T103000
DTEND;TZID=Australia/Adelaide:20260311T113000
DTSTAMP:20260422T005321
CREATED:20260130T024307Z
LAST-MODIFIED:20260130T024307Z
UID:5242-1773225000-1773228600@southernmontessori.sa.edu.au
SUMMARY:Middle School Visiting Kalyra
DESCRIPTION:Craft activities
URL:https://southernmontessori.sa.edu.au/event/middle-school-visiting-kalyra-2/2026-03-11/
LOCATION:South Australia
CATEGORIES:Cycle Four
END:VEVENT
BEGIN:VEVENT
DTSTART;VALUE=DATE:20260312
DTEND;VALUE=DATE:20260313
DTSTAMP:20260422T005321
CREATED:20260130T033704Z
LAST-MODIFIED:20260130T033704Z
UID:5442-1773273600-1773359999@southernmontessori.sa.edu.au
SUMMARY:Learning Conversations (Middle School)
DESCRIPTION:More information to come!
URL:https://southernmontessori.sa.edu.au/event/learning-conversations-middle-school/2026-03-12/
LOCATION:Southern Montessori Middle School\, 2 / 54 Woodcroft Drive\, Morphett Vale\, South Australia\, 5162\, Australia
CATEGORIES:Cycle Four
END:VEVENT
BEGIN:VEVENT
DTSTART;VALUE=DATE:20260312
DTEND;VALUE=DATE:20260313
DTSTAMP:20260422T005321
CREATED:20260130T033830Z
LAST-MODIFIED:20260130T033830Z
UID:5453-1773273600-1773359999@southernmontessori.sa.edu.au
SUMMARY:NAPLAN
DESCRIPTION:Testing period
URL:https://southernmontessori.sa.edu.au/event/naplan-7/2026-03-12/
LOCATION:South Australia
CATEGORIES:Cycle Four,Cycle Three,Cycle Two
END:VEVENT
BEGIN:VEVENT
DTSTART;TZID=Australia/Adelaide:20260312T180000
DTEND;TZID=Australia/Adelaide:20260312T190000
DTSTAMP:20260422T005321
CREATED:20260130T034158Z
LAST-MODIFIED:20260130T034158Z
UID:5466-1773338400-1773342000@southernmontessori.sa.edu.au
SUMMARY:Transitioning to Senior School
DESCRIPTION:More information to come!
URL:https://southernmontessori.sa.edu.au/event/transitioning-to-senior-school/
LOCATION:Southern Montessori Middle School\, 2 / 54 Woodcroft Drive\, Morphett Vale\, South Australia\, 5162\, Australia
CATEGORIES:Cycle Four,Cycle Three,Parent Events
END:VEVENT
BEGIN:VEVENT
DTSTART;VALUE=DATE:20260313
DTEND;VALUE=DATE:20260314
DTSTAMP:20260422T005321
CREATED:20260130T033704Z
LAST-MODIFIED:20260130T033704Z
UID:5443-1773360000-1773446399@southernmontessori.sa.edu.au
SUMMARY:Learning Conversations (Middle School)
DESCRIPTION:More information to come!
URL:https://southernmontessori.sa.edu.au/event/learning-conversations-middle-school/2026-03-13/
LOCATION:Southern Montessori Middle School\, 2 / 54 Woodcroft Drive\, Morphett Vale\, South Australia\, 5162\, Australia
CATEGORIES:Cycle Four
END:VEVENT
BEGIN:VEVENT
DTSTART;VALUE=DATE:20260313
DTEND;VALUE=DATE:20260314
DTSTAMP:20260422T005321
CREATED:20260130T033830Z
LAST-MODIFIED:20260130T033830Z
UID:5454-1773360000-1773446399@southernmontessori.sa.edu.au
SUMMARY:NAPLAN
DESCRIPTION:Testing period
URL:https://southernmontessori.sa.edu.au/event/naplan-7/2026-03-13/
LOCATION:South Australia
CATEGORIES:Cycle Four,Cycle Three,Cycle Two
END:VEVENT
BEGIN:VEVENT
DTSTART;VALUE=DATE:20260316
DTEND;VALUE=DATE:20260317
DTSTAMP:20260422T005321
CREATED:20260130T033704Z
LAST-MODIFIED:20260130T033704Z
UID:5444-1773619200-1773705599@southernmontessori.sa.edu.au
SUMMARY:Learning Conversations (Middle School)
DESCRIPTION:More information to come!
URL:https://southernmontessori.sa.edu.au/event/learning-conversations-middle-school/2026-03-16/
LOCATION:Southern Montessori Middle School\, 2 / 54 Woodcroft Drive\, Morphett Vale\, South Australia\, 5162\, Australia
CATEGORIES:Cycle Four
END:VEVENT
BEGIN:VEVENT
DTSTART;VALUE=DATE:20260316
DTEND;VALUE=DATE:20260317
DTSTAMP:20260422T005321
CREATED:20260130T033830Z
LAST-MODIFIED:20260130T033830Z
UID:5455-1773619200-1773705599@southernmontessori.sa.edu.au
SUMMARY:NAPLAN
DESCRIPTION:Testing period
URL:https://southernmontessori.sa.edu.au/event/naplan-7/2026-03-16/
LOCATION:South Australia
CATEGORIES:Cycle Four,Cycle Three,Cycle Two
END:VEVENT
BEGIN:VEVENT
DTSTART;VALUE=DATE:20260317
DTEND;VALUE=DATE:20260318
DTSTAMP:20260422T005321
CREATED:20260130T034433Z
LAST-MODIFIED:20260130T034433Z
UID:5474-1773705600-1773791999@southernmontessori.sa.edu.au
SUMMARY:Aquatics (Years 5 - 9)
DESCRIPTION:More information to follow via Consent2Go
URL:https://southernmontessori.sa.edu.au/event/aquatics-years-5-9-3/
LOCATION:South Australia
CATEGORIES:Cycle Four,Cycle Three
END:VEVENT
END:VCALENDAR