BEGIN:VCALENDAR
VERSION:2.0
PRODID:-//Southern Montessori School - ECPv6.15.16//NONSGML v1.0//EN
CALSCALE:GREGORIAN
METHOD:PUBLISH
X-ORIGINAL-URL:https://southernmontessori.sa.edu.au
X-WR-CALDESC:Events for Southern Montessori School
REFRESH-INTERVAL;VALUE=DURATION:PT1H
X-Robots-Tag:noindex
X-PUBLISHED-TTL:PT1H
BEGIN:VTIMEZONE
TZID:Australia/Adelaide
BEGIN:STANDARD
TZOFFSETFROM:+1030
TZOFFSETTO:+0930
TZNAME:ACST
DTSTART:20240406T163000
END:STANDARD
BEGIN:DAYLIGHT
TZOFFSETFROM:+0930
TZOFFSETTO:+1030
TZNAME:ACDT
DTSTART:20241005T163000
END:DAYLIGHT
BEGIN:STANDARD
TZOFFSETFROM:+1030
TZOFFSETTO:+0930
TZNAME:ACST
DTSTART:20250405T163000
END:STANDARD
BEGIN:DAYLIGHT
TZOFFSETFROM:+0930
TZOFFSETTO:+1030
TZNAME:ACDT
DTSTART:20251004T163000
END:DAYLIGHT
BEGIN:STANDARD
TZOFFSETFROM:+1030
TZOFFSETTO:+0930
TZNAME:ACST
DTSTART:20260404T163000
END:STANDARD
BEGIN:DAYLIGHT
TZOFFSETFROM:+0930
TZOFFSETTO:+1030
TZNAME:ACDT
DTSTART:20261003T163000
END:DAYLIGHT
END:VTIMEZONE
BEGIN:VEVENT
DTSTART;VALUE=DATE:20250304
DTEND;VALUE=DATE:20250305
DTSTAMP:20260421T152628
CREATED:20250108T225845Z
LAST-MODIFIED:20250318T005332Z
UID:4026-1741046400-1741132799@southernmontessori.sa.edu.au
SUMMARY:Middle School:  Engagement with Kalyra
DESCRIPTION:
URL:https://southernmontessori.sa.edu.au/event/middle-school-carpet-bowls-with-kalyra/2025-03-04/
CATEGORIES:Cycle Four
END:VEVENT
BEGIN:VEVENT
DTSTART;VALUE=DATE:20250306
DTEND;VALUE=DATE:20250307
DTSTAMP:20260421T152628
CREATED:20250108T225927Z
LAST-MODIFIED:20250318T002958Z
UID:4032-1741219200-1741305599@southernmontessori.sa.edu.au
SUMMARY:Middle School:  Engagement with Kalyra
DESCRIPTION:
URL:https://southernmontessori.sa.edu.au/event/middle-school-knitting-with-kalyra/2025-03-06/
CATEGORIES:Cycle Four
END:VEVENT
BEGIN:VEVENT
DTSTART;VALUE=DATE:20250311
DTEND;VALUE=DATE:20250312
DTSTAMP:20260421T152628
CREATED:20250108T225845Z
LAST-MODIFIED:20250318T005332Z
UID:4027-1741651200-1741737599@southernmontessori.sa.edu.au
SUMMARY:Middle School:  Engagement with Kalyra
DESCRIPTION:
URL:https://southernmontessori.sa.edu.au/event/middle-school-carpet-bowls-with-kalyra/2025-03-11/
CATEGORIES:Cycle Four
END:VEVENT
BEGIN:VEVENT
DTSTART;VALUE=DATE:20250313
DTEND;VALUE=DATE:20250314
DTSTAMP:20260421T152628
CREATED:20250108T225927Z
LAST-MODIFIED:20250318T002959Z
UID:4033-1741824000-1741910399@southernmontessori.sa.edu.au
SUMMARY:Middle School:  Engagement with Kalyra
DESCRIPTION:
URL:https://southernmontessori.sa.edu.au/event/middle-school-knitting-with-kalyra/2025-03-13/
CATEGORIES:Cycle Four
END:VEVENT
BEGIN:VEVENT
DTSTART;VALUE=DATE:20250318
DTEND;VALUE=DATE:20250319
DTSTAMP:20260421T152628
CREATED:20250108T231016Z
LAST-MODIFIED:20250318T011135Z
UID:4046-1742256000-1742342399@southernmontessori.sa.edu.au
SUMMARY:Aquatics Years 5 - 9
DESCRIPTION:Aquatics\nYears 5 – 9
URL:https://southernmontessori.sa.edu.au/event/aquatics-years-5-9-2/
CATEGORIES:Cycle Four,Cycle Three
END:VEVENT
BEGIN:VEVENT
DTSTART;VALUE=DATE:20250320
DTEND;VALUE=DATE:20250321
DTSTAMP:20260421T152628
CREATED:20250108T225927Z
LAST-MODIFIED:20250318T002959Z
UID:4034-1742428800-1742515199@southernmontessori.sa.edu.au
SUMMARY:Middle School:  Engagement with Kalyra
DESCRIPTION:
URL:https://southernmontessori.sa.edu.au/event/middle-school-knitting-with-kalyra/2025-03-20/
CATEGORIES:Cycle Four
END:VEVENT
BEGIN:VEVENT
DTSTART;VALUE=DATE:20250324
DTEND;VALUE=DATE:20250325
DTSTAMP:20260421T152628
CREATED:20250108T231905Z
LAST-MODIFIED:20250318T010216Z
UID:4078-1742774400-1742860799@southernmontessori.sa.edu.au
SUMMARY:NAPLAN
DESCRIPTION:NAPLAN
URL:https://southernmontessori.sa.edu.au/event/naplan-6/
CATEGORIES:Cycle Four,Cycle Three,Cycle Two
END:VEVENT
BEGIN:VEVENT
DTSTART;VALUE=DATE:20250325
DTEND;VALUE=DATE:20250326
DTSTAMP:20260421T152628
CREATED:20250108T225845Z
LAST-MODIFIED:20250318T005332Z
UID:4029-1742860800-1742947199@southernmontessori.sa.edu.au
SUMMARY:Middle School:  Engagement with Kalyra
DESCRIPTION:
URL:https://southernmontessori.sa.edu.au/event/middle-school-carpet-bowls-with-kalyra/2025-03-25/
CATEGORIES:Cycle Four
END:VEVENT
BEGIN:VEVENT
DTSTART;VALUE=DATE:20250326
DTEND;VALUE=DATE:20250327
DTSTAMP:20260421T152628
CREATED:20250108T233753Z
LAST-MODIFIED:20250318T005633Z
UID:4123-1742947200-1743033599@southernmontessori.sa.edu.au
SUMMARY:Year 7 Immunisations
DESCRIPTION:Year 7 Immunisations
URL:https://southernmontessori.sa.edu.au/event/year-7-immunisations/
CATEGORIES:Cycle Four
END:VEVENT
BEGIN:VEVENT
DTSTART;VALUE=DATE:20250327
DTEND;VALUE=DATE:20250328
DTSTAMP:20260421T152628
CREATED:20250108T225927Z
LAST-MODIFIED:20250318T002959Z
UID:4035-1743033600-1743119999@southernmontessori.sa.edu.au
SUMMARY:Middle School:  Engagement with Kalyra
DESCRIPTION:
URL:https://southernmontessori.sa.edu.au/event/middle-school-knitting-with-kalyra/2025-03-27/
CATEGORIES:Cycle Four
END:VEVENT
END:VCALENDAR