BEGIN:VCALENDAR
VERSION:2.0
PRODID:-//Southern Montessori School - ECPv6.15.16//NONSGML v1.0//EN
CALSCALE:GREGORIAN
METHOD:PUBLISH
X-ORIGINAL-URL:https://southernmontessori.sa.edu.au
X-WR-CALDESC:Events for Southern Montessori School
REFRESH-INTERVAL;VALUE=DURATION:PT1H
X-Robots-Tag:noindex
X-PUBLISHED-TTL:PT1H
BEGIN:VTIMEZONE
TZID:Australia/Adelaide
BEGIN:STANDARD
TZOFFSETFROM:+1030
TZOFFSETTO:+0930
TZNAME:ACST
DTSTART:20240406T163000
END:STANDARD
BEGIN:DAYLIGHT
TZOFFSETFROM:+0930
TZOFFSETTO:+1030
TZNAME:ACDT
DTSTART:20241005T163000
END:DAYLIGHT
BEGIN:STANDARD
TZOFFSETFROM:+1030
TZOFFSETTO:+0930
TZNAME:ACST
DTSTART:20250405T163000
END:STANDARD
BEGIN:DAYLIGHT
TZOFFSETFROM:+0930
TZOFFSETTO:+1030
TZNAME:ACDT
DTSTART:20251004T163000
END:DAYLIGHT
BEGIN:STANDARD
TZOFFSETFROM:+1030
TZOFFSETTO:+0930
TZNAME:ACST
DTSTART:20260404T163000
END:STANDARD
BEGIN:DAYLIGHT
TZOFFSETFROM:+0930
TZOFFSETTO:+1030
TZNAME:ACDT
DTSTART:20261003T163000
END:DAYLIGHT
END:VTIMEZONE
BEGIN:VEVENT
DTSTART;TZID=Australia/Adelaide:20250606T090000
DTEND;TZID=Australia/Adelaide:20250606T120000
DTSTAMP:20260421T191315
CREATED:20250424T052159Z
LAST-MODIFIED:20250424T052159Z
UID:4621-1749200400-1749211200@southernmontessori.sa.edu.au
SUMMARY:Mid-Year Reception Transition Visit
DESCRIPTION:
URL:https://southernmontessori.sa.edu.au/event/mid-year-reception-transition-visit/
LOCATION:Southern Montessori School\, 53 Galloway Road\, O'Sullivan Beach\, South Australia\, 5166\, Australia
CATEGORIES:Cycle One
END:VEVENT
BEGIN:VEVENT
DTSTART;TZID=Australia/Adelaide:20250617T090000
DTEND;TZID=Australia/Adelaide:20250617T120000
DTSTAMP:20260421T191315
CREATED:20250424T053538Z
LAST-MODIFIED:20250424T053538Z
UID:4637-1750150800-1750161600@southernmontessori.sa.edu.au
SUMMARY:Mid-Year Reception Transition Visit
DESCRIPTION:
URL:https://southernmontessori.sa.edu.au/event/mid-year-reception-transition-visit-2/
LOCATION:Southern Montessori School\, 53 Galloway Road\, O'Sullivan Beach\, South Australia\, 5166\, Australia
CATEGORIES:Cycle One
END:VEVENT
BEGIN:VEVENT
DTSTART;TZID=Australia/Adelaide:20250627T143000
DTEND;TZID=Australia/Adelaide:20250627T150000
DTSTAMP:20260421T191315
CREATED:20250424T055840Z
LAST-MODIFIED:20250424T055840Z
UID:4665-1751034600-1751036400@southernmontessori.sa.edu.au
SUMMARY:Primary School Assembly
DESCRIPTION:Rachel and Olivia’s Class
URL:https://southernmontessori.sa.edu.au/event/primary-school-assembly-17/
LOCATION:Southern Montessori School\, 53 Galloway Road\, O'Sullivan Beach\, South Australia\, 5166\, Australia
CATEGORIES:Cycle One,Parent Events
END:VEVENT
END:VCALENDAR