BEGIN:VCALENDAR
VERSION:2.0
PRODID:-//Southern Montessori School - ECPv6.15.16//NONSGML v1.0//EN
CALSCALE:GREGORIAN
METHOD:PUBLISH
X-ORIGINAL-URL:https://southernmontessori.sa.edu.au
X-WR-CALDESC:Events for Southern Montessori School
REFRESH-INTERVAL;VALUE=DURATION:PT1H
X-Robots-Tag:noindex
X-PUBLISHED-TTL:PT1H
BEGIN:VTIMEZONE
TZID:Australia/Adelaide
BEGIN:STANDARD
TZOFFSETFROM:+1030
TZOFFSETTO:+0930
TZNAME:ACST
DTSTART:20240406T163000
END:STANDARD
BEGIN:DAYLIGHT
TZOFFSETFROM:+0930
TZOFFSETTO:+1030
TZNAME:ACDT
DTSTART:20241005T163000
END:DAYLIGHT
BEGIN:STANDARD
TZOFFSETFROM:+1030
TZOFFSETTO:+0930
TZNAME:ACST
DTSTART:20250405T163000
END:STANDARD
BEGIN:DAYLIGHT
TZOFFSETFROM:+0930
TZOFFSETTO:+1030
TZNAME:ACDT
DTSTART:20251004T163000
END:DAYLIGHT
BEGIN:STANDARD
TZOFFSETFROM:+1030
TZOFFSETTO:+0930
TZNAME:ACST
DTSTART:20260404T163000
END:STANDARD
BEGIN:DAYLIGHT
TZOFFSETFROM:+0930
TZOFFSETTO:+1030
TZNAME:ACDT
DTSTART:20261003T163000
END:DAYLIGHT
END:VTIMEZONE
BEGIN:VEVENT
DTSTART;VALUE=DATE:20251112
DTEND;VALUE=DATE:20251114
DTSTAMP:20260422T131125
CREATED:20251110T044424Z
LAST-MODIFIED:20251110T044424Z
UID:4994-1762905600-1763078399@southernmontessori.sa.edu.au
SUMMARY:Italian Cooking with Elle
DESCRIPTION:
URL:https://southernmontessori.sa.edu.au/event/italian-cooking-with-elle/
LOCATION:Southern Montessori School\, 53 Galloway Road\, O'Sullivan Beach\, South Australia\, 5166\, Australia
END:VEVENT
BEGIN:VEVENT
DTSTART;VALUE=DATE:20251112
DTEND;VALUE=DATE:20251113
DTSTAMP:20260422T131125
CREATED:20251110T044525Z
LAST-MODIFIED:20251110T044525Z
UID:4998-1762905600-1762991999@southernmontessori.sa.edu.au
SUMMARY:Environmental Committee Excursion: Youth Environment Leaders
DESCRIPTION:Please refer to Consent2Go for more information.
URL:https://southernmontessori.sa.edu.au/event/environmental-committee-excursion-youth-environment-leaders/
END:VEVENT
BEGIN:VEVENT
DTSTART;TZID=Australia/Adelaide:20251112T153000
DTEND;TZID=Australia/Adelaide:20251112T163000
DTSTAMP:20260422T131125
CREATED:20251110T045007Z
LAST-MODIFIED:20251110T045030Z
UID:5002-1762961400-1762965000@southernmontessori.sa.edu.au
SUMMARY:Senior Choir (Year 3-6)
DESCRIPTION:
URL:https://southernmontessori.sa.edu.au/event/senior-choir-year-3-6-4/2025-11-12/
LOCATION:Southern Montessori School\, 53 Galloway Road\, O'Sullivan Beach\, South Australia\, 5166\, Australia
CATEGORIES:Cycle Three,Cycle Two
END:VEVENT
BEGIN:VEVENT
DTSTART;TZID=Australia/Adelaide:20251112T153000
DTEND;TZID=Australia/Adelaide:20251112T163000
DTSTAMP:20260422T131125
CREATED:20251110T052237Z
LAST-MODIFIED:20251110T052237Z
UID:5133-1762961400-1762965000@southernmontessori.sa.edu.au
SUMMARY:Afterschool Sport: Athletics
DESCRIPTION:Years 4 – 6
URL:https://southernmontessori.sa.edu.au/event/afterschool-sport-athletics/2025-11-12/
CATEGORIES:After School Program
END:VEVENT
BEGIN:VEVENT
DTSTART;TZID=Australia/Adelaide:20251112T160000
DTEND;TZID=Australia/Adelaide:20251112T183000
DTSTAMP:20260422T131125
CREATED:20251110T045213Z
LAST-MODIFIED:20251110T045229Z
UID:5019-1762963200-1762972200@southernmontessori.sa.edu.au
SUMMARY:Instrumental Concert
DESCRIPTION:Two sessions: 4.00pm & 5.30pm
URL:https://southernmontessori.sa.edu.au/event/instrumental-concert-2/
LOCATION:Southern Montessori School\, 53 Galloway Road\, O'Sullivan Beach\, South Australia\, 5166\, Australia
CATEGORIES:Parent Events
END:VEVENT
END:VCALENDAR