BEGIN:VCALENDAR
VERSION:2.0
PRODID:-//Southern Montessori School - ECPv6.15.16//NONSGML v1.0//EN
CALSCALE:GREGORIAN
METHOD:PUBLISH
X-WR-CALNAME:Southern Montessori School
X-ORIGINAL-URL:https://southernmontessori.sa.edu.au
X-WR-CALDESC:Events for Southern Montessori School
REFRESH-INTERVAL;VALUE=DURATION:PT1H
X-Robots-Tag:noindex
X-PUBLISHED-TTL:PT1H
BEGIN:VTIMEZONE
TZID:Australia/Adelaide
BEGIN:STANDARD
TZOFFSETFROM:+1030
TZOFFSETTO:+0930
TZNAME:ACST
DTSTART:20240406T163000
END:STANDARD
BEGIN:DAYLIGHT
TZOFFSETFROM:+0930
TZOFFSETTO:+1030
TZNAME:ACDT
DTSTART:20241005T163000
END:DAYLIGHT
BEGIN:STANDARD
TZOFFSETFROM:+1030
TZOFFSETTO:+0930
TZNAME:ACST
DTSTART:20250405T163000
END:STANDARD
BEGIN:DAYLIGHT
TZOFFSETFROM:+0930
TZOFFSETTO:+1030
TZNAME:ACDT
DTSTART:20251004T163000
END:DAYLIGHT
BEGIN:STANDARD
TZOFFSETFROM:+1030
TZOFFSETTO:+0930
TZNAME:ACST
DTSTART:20260404T163000
END:STANDARD
BEGIN:DAYLIGHT
TZOFFSETFROM:+0930
TZOFFSETTO:+1030
TZNAME:ACDT
DTSTART:20261003T163000
END:DAYLIGHT
END:VTIMEZONE
BEGIN:VEVENT
DTSTART;VALUE=DATE:20251111
DTEND;VALUE=DATE:20251112
DTSTAMP:20260422T161848
CREATED:20251110T044358Z
LAST-MODIFIED:20251110T044358Z
UID:4990-1762819200-1762905599@southernmontessori.sa.edu.au
SUMMARY:Year 6 Transition to Middle School
DESCRIPTION:
URL:https://southernmontessori.sa.edu.au/event/year-6-transition-to-middle-school-2/
LOCATION:Southern Montessori Middle School\, 2 / 54 Woodcroft Drive\, Morphett Vale\, South Australia\, 5162\, Australia
END:VEVENT
END:VCALENDAR